BEGIN:VCALENDAR
VERSION:2.0
PRODID:spatie/icalendar-generator
NAME:wl_bv_1d_28_reminders
X-WR-CALNAME:wl_bv_1d_28_reminders
BEGIN:VTIMEZONE
TZID:Europe/Brussels
BEGIN:DAYLIGHT
DTSTART:20230326T010000
TZOFFSETFROM:+0100
TZOFFSETTO:+0200
END:DAYLIGHT
BEGIN:STANDARD
DTSTART:20231029T030000
TZOFFSETFROM:+0200
TZOFFSETTO:+0100
END:STANDARD
BEGIN:DAYLIGHT
DTSTART:20240331T010000
TZOFFSETFROM:+0100
TZOFFSETTO:+0200
END:DAYLIGHT
END:VTIMEZONE
BEGIN:VTIMEZONE
TZID:UTC
BEGIN:STANDARD
DTSTART:20250724T070551
TZOFFSETFROM:+0000
TZOFFSETTO:+0000
END:STANDARD
END:VTIMEZONE
BEGIN:VEVENT
UID:015ED37D-B12B-47D6-B567-F9EECBF6F439-13-622_homereminder@194.badmintonn
 ers.net
DTSTAMP:20260420T070551Z
SUMMARY:Thuismatch ingevuld? (W&L BV 1D (28) - Brasschaat 1D (30))
DESCRIPTION:Je hebt 36 uur na aanvang om een thuismatch op Badmintonvlaande
 ren in te vullen. Match info: W&L BV 1D (28) - Brasschaat 1D (30) - Link: 
 https://www.badmintonvlaanderen.be/sport/teammatch.aspx?id=015ED37D-B12B-4
 7D6-B567-F9EECBF6F439&match=622
DTSTART;TZID=Europe/Brussels:20230926T010000
DTEND;TZID=Europe/Brussels:20230926T010000
END:VEVENT
BEGIN:VEVENT
UID:015ED37D-B12B-47D6-B567-F9EECBF6F439-13-646_homereminder@194.badmintonn
 ers.net
DTSTAMP:20260420T070551Z
SUMMARY:Thuismatch ingevuld? (W&L BV 1D (28) - Klein Boom 1D (40))
DESCRIPTION:Je hebt 36 uur na aanvang om een thuismatch op Badmintonvlaande
 ren in te vullen. Match info: W&L BV 1D (28) - Klein Boom 1D (40) - Link: 
 https://www.badmintonvlaanderen.be/sport/teammatch.aspx?id=015ED37D-B12B-4
 7D6-B567-F9EECBF6F439&match=646
DTSTART;TZID=Europe/Brussels:20231205T010000
DTEND;TZID=Europe/Brussels:20231205T010000
END:VEVENT
BEGIN:VEVENT
UID:015ED37D-B12B-47D6-B567-F9EECBF6F439-13-634_homereminder@194.badmintonn
 ers.net
DTSTAMP:20260420T070551Z
SUMMARY:Thuismatch ingevuld? (W&L BV 1D (28) - De Klamp 1D (39))
DESCRIPTION:Je hebt 36 uur na aanvang om een thuismatch op Badmintonvlaande
 ren in te vullen. Match info: W&L BV 1D (28) - De Klamp 1D (39) - Link: ht
 tps://www.badmintonvlaanderen.be/sport/teammatch.aspx?id=015ED37D-B12B-47D
 6-B567-F9EECBF6F439&match=634
DTSTART;TZID=Europe/Brussels:20240116T010000
DTEND;TZID=Europe/Brussels:20240116T010000
END:VEVENT
BEGIN:VEVENT
UID:015ED37D-B12B-47D6-B567-F9EECBF6F439-13-628_homereminder@194.badmintonn
 ers.net
DTSTAMP:20260420T070551Z
SUMMARY:Thuismatch ingevuld? (W&L BV 1D (28) - Buggenhout 2D (31))
DESCRIPTION:Je hebt 36 uur na aanvang om een thuismatch op Badmintonvlaande
 ren in te vullen. Match info: W&L BV 1D (28) - Buggenhout 2D (31) - Link: 
 https://www.badmintonvlaanderen.be/sport/teammatch.aspx?id=015ED37D-B12B-4
 7D6-B567-F9EECBF6F439&match=628
DTSTART;TZID=Europe/Brussels:20240213T010000
DTEND;TZID=Europe/Brussels:20240213T010000
END:VEVENT
BEGIN:VEVENT
UID:015ED37D-B12B-47D6-B567-F9EECBF6F439-13-640_homereminder@194.badmintonn
 ers.net
DTSTAMP:20260420T070551Z
SUMMARY:Thuismatch ingevuld? (W&L BV 1D (28) - Hebad 1D (31))
DESCRIPTION:Je hebt 36 uur na aanvang om een thuismatch op Badmintonvlaande
 ren in te vullen. Match info: W&L BV 1D (28) - Hebad 1D (31) - Link: https
 ://www.badmintonvlaanderen.be/sport/teammatch.aspx?id=015ED37D-B12B-47D6-B
 567-F9EECBF6F439&match=640
DTSTART;TZID=Europe/Brussels:20240312T010000
DTEND;TZID=Europe/Brussels:20240312T010000
END:VEVENT
BEGIN:VEVENT
UID:015ED37D-B12B-47D6-B567-F9EECBF6F439-13-652_homereminder@194.badmintonn
 ers.net
DTSTAMP:20260420T070551Z
SUMMARY:Thuismatch ingevuld? (W&L BV 1D (28) - Looise 1D (36))
DESCRIPTION:Je hebt 36 uur na aanvang om een thuismatch op Badmintonvlaande
 ren in te vullen. Match info: W&L BV 1D (28) - Looise 1D (36) - Link: http
 s://www.badmintonvlaanderen.be/sport/teammatch.aspx?id=015ED37D-B12B-47D6-
 B567-F9EECBF6F439&match=652
DTSTART;TZID=Europe/Brussels:20240409T010000
DTEND;TZID=Europe/Brussels:20240409T010000
END:VEVENT
BEGIN:VEVENT
UID:015ED37D-B12B-47D6-B567-F9EECBF6F439-13-654_awayreminder@194.badmintonn
 ers.net
DTSTAMP:20260420T070551Z
SUMMARY:Uitmatch bevestigd? (Buggenhout 2D (31) - W&L BV 1D (28))
DESCRIPTION:Je hebt 72 uur na aanvang om een uitmatch op Badmintonvlaandere
 n in te vullen. Match info: Buggenhout 2D (31) - W&L BV 1D (28) - Link: ht
 tps://www.badmintonvlaanderen.be/sport/teammatch.aspx?id=015ED37D-B12B-47D
 6-B567-F9EECBF6F439&match=654
DTSTART;TZID=Europe/Brussels:20231011T133000
DTEND;TZID=Europe/Brussels:20231011T133000
END:VEVENT
BEGIN:VEVENT
UID:015ED37D-B12B-47D6-B567-F9EECBF6F439-13-655_awayreminder@194.badmintonn
 ers.net
DTSTAMP:20260420T070551Z
SUMMARY:Uitmatch bevestigd? (De Klamp 1D (39) - W&L BV 1D (28))
DESCRIPTION:Je hebt 72 uur na aanvang om een uitmatch op Badmintonvlaandere
 n in te vullen. Match info: De Klamp 1D (39) - W&L BV 1D (28) - Link: http
 s://www.badmintonvlaanderen.be/sport/teammatch.aspx?id=015ED37D-B12B-47D6-
 B567-F9EECBF6F439&match=655
DTSTART;TZID=Europe/Brussels:20231025T181500
DTEND;TZID=Europe/Brussels:20231025T181500
END:VEVENT
BEGIN:VEVENT
UID:015ED37D-B12B-47D6-B567-F9EECBF6F439-13-656_awayreminder@194.badmintonn
 ers.net
DTSTAMP:20260420T070551Z
SUMMARY:Uitmatch bevestigd? (Hebad 1D (31) - W&L BV 1D (28))
DESCRIPTION:Je hebt 72 uur na aanvang om een uitmatch op Badmintonvlaandere
 n in te vullen. Match info: Hebad 1D (31) - W&L BV 1D (28) - Link: https:/
 /www.badmintonvlaanderen.be/sport/teammatch.aspx?id=015ED37D-B12B-47D6-B56
 7-F9EECBF6F439&match=656
DTSTART;TZID=Europe/Brussels:20231122T140000
DTEND;TZID=Europe/Brussels:20231122T140000
END:VEVENT
BEGIN:VEVENT
UID:015ED37D-B12B-47D6-B567-F9EECBF6F439-13-658_awayreminder@194.badmintonn
 ers.net
DTSTAMP:20260420T070551Z
SUMMARY:Uitmatch bevestigd? (Looise 1D (36) - W&L BV 1D (28))
DESCRIPTION:Je hebt 72 uur na aanvang om een uitmatch op Badmintonvlaandere
 n in te vullen. Match info: Looise 1D (36) - W&L BV 1D (28) - Link: https:
 //www.badmintonvlaanderen.be/sport/teammatch.aspx?id=015ED37D-B12B-47D6-B5
 67-F9EECBF6F439&match=658
DTSTART;TZID=Europe/Brussels:20231220T150000
DTEND;TZID=Europe/Brussels:20231220T150000
END:VEVENT
BEGIN:VEVENT
UID:015ED37D-B12B-47D6-B567-F9EECBF6F439-13-657_awayreminder@194.badmintonn
 ers.net
DTSTAMP:20260420T070551Z
SUMMARY:Uitmatch bevestigd? (Klein Boom 1D (40) - W&L BV 1D (28))
DESCRIPTION:Je hebt 72 uur na aanvang om een uitmatch op Badmintonvlaandere
 n in te vullen. Match info: Klein Boom 1D (40) - W&L BV 1D (28) - Link: ht
 tps://www.badmintonvlaanderen.be/sport/teammatch.aspx?id=015ED37D-B12B-47D
 6-B567-F9EECBF6F439&match=657
DTSTART;TZID=Europe/Brussels:20240131T190000
DTEND;TZID=Europe/Brussels:20240131T190000
END:VEVENT
BEGIN:VEVENT
UID:015ED37D-B12B-47D6-B567-F9EECBF6F439-13-653_awayreminder@194.badmintonn
 ers.net
DTSTAMP:20260420T070551Z
SUMMARY:Uitmatch bevestigd? (Brasschaat 1D (30) - W&L BV 1D (28))
DESCRIPTION:Je hebt 72 uur na aanvang om een uitmatch op Badmintonvlaandere
 n in te vullen. Match info: Brasschaat 1D (30) - W&L BV 1D (28) - Link: ht
 tps://www.badmintonvlaanderen.be/sport/teammatch.aspx?id=015ED37D-B12B-47D
 6-B567-F9EECBF6F439&match=653
DTSTART;TZID=Europe/Brussels:20240228T190000
DTEND;TZID=Europe/Brussels:20240228T190000
END:VEVENT
END:VCALENDAR