BEGIN:VCALENDAR
VERSION:2.0
PRODID:spatie/icalendar-generator
NAME:brasschaat_1d_30_reminders
X-WR-CALNAME:brasschaat_1d_30_reminders
BEGIN:VTIMEZONE
TZID:Europe/Brussels
BEGIN:DAYLIGHT
DTSTART:20230326T010000
TZOFFSETFROM:+0100
TZOFFSETTO:+0200
END:DAYLIGHT
BEGIN:STANDARD
DTSTART:20231029T030000
TZOFFSETFROM:+0200
TZOFFSETTO:+0100
END:STANDARD
BEGIN:DAYLIGHT
DTSTART:20240331T010000
TZOFFSETFROM:+0100
TZOFFSETTO:+0200
END:DAYLIGHT
END:VTIMEZONE
BEGIN:VTIMEZONE
TZID:UTC
BEGIN:STANDARD
DTSTART:20250724T054018
TZOFFSETFROM:+0000
TZOFFSETTO:+0000
END:STANDARD
END:VTIMEZONE
BEGIN:VEVENT
UID:015ED37D-B12B-47D6-B567-F9EECBF6F439-13-623_homereminder@198.badmintonn
 ers.net
DTSTAMP:20260420T054018Z
SUMMARY:Thuismatch ingevuld? (Brasschaat 1D (30) - Buggenhout 2D (31))
DESCRIPTION:Je hebt 36 uur na aanvang om een thuismatch op Badmintonvlaande
 ren in te vullen. Match info: Brasschaat 1D (30) - Buggenhout 2D (31) - Li
 nk: https://www.badmintonvlaanderen.be/sport/teammatch.aspx?id=015ED37D-B1
 2B-47D6-B567-F9EECBF6F439&match=623
DTSTART;TZID=Europe/Brussels:20231024T070000
DTEND;TZID=Europe/Brussels:20231024T070000
END:VEVENT
BEGIN:VEVENT
UID:015ED37D-B12B-47D6-B567-F9EECBF6F439-13-647_homereminder@198.badmintonn
 ers.net
DTSTAMP:20260420T054018Z
SUMMARY:Thuismatch ingevuld? (Brasschaat 1D (30) - Looise 1D (36))
DESCRIPTION:Je hebt 36 uur na aanvang om een thuismatch op Badmintonvlaande
 ren in te vullen. Match info: Brasschaat 1D (30) - Looise 1D (36) - Link: 
 https://www.badmintonvlaanderen.be/sport/teammatch.aspx?id=015ED37D-B12B-4
 7D6-B567-F9EECBF6F439&match=647
DTSTART;TZID=Europe/Brussels:20231107T070000
DTEND;TZID=Europe/Brussels:20231107T070000
END:VEVENT
BEGIN:VEVENT
UID:015ED37D-B12B-47D6-B567-F9EECBF6F439-13-635_homereminder@198.badmintonn
 ers.net
DTSTAMP:20260420T054018Z
SUMMARY:Thuismatch ingevuld? (Brasschaat 1D (30) - Hebad 1D (31))
DESCRIPTION:Je hebt 36 uur na aanvang om een thuismatch op Badmintonvlaande
 ren in te vullen. Match info: Brasschaat 1D (30) - Hebad 1D (31) - Link: h
 ttps://www.badmintonvlaanderen.be/sport/teammatch.aspx?id=015ED37D-B12B-47
 D6-B567-F9EECBF6F439&match=635
DTSTART;TZID=Europe/Brussels:20231205T070000
DTEND;TZID=Europe/Brussels:20231205T070000
END:VEVENT
BEGIN:VEVENT
UID:015ED37D-B12B-47D6-B567-F9EECBF6F439-13-653_homereminder@198.badmintonn
 ers.net
DTSTAMP:20260420T054018Z
SUMMARY:Thuismatch ingevuld? (Brasschaat 1D (30) - W&L BV 1D (28))
DESCRIPTION:Je hebt 36 uur na aanvang om een thuismatch op Badmintonvlaande
 ren in te vullen. Match info: Brasschaat 1D (30) - W&L BV 1D (28) - Link: 
 https://www.badmintonvlaanderen.be/sport/teammatch.aspx?id=015ED37D-B12B-4
 7D6-B567-F9EECBF6F439&match=653
DTSTART;TZID=Europe/Brussels:20240227T070000
DTEND;TZID=Europe/Brussels:20240227T070000
END:VEVENT
BEGIN:VEVENT
UID:015ED37D-B12B-47D6-B567-F9EECBF6F439-13-629_homereminder@198.badmintonn
 ers.net
DTSTAMP:20260420T054018Z
SUMMARY:Thuismatch ingevuld? (Brasschaat 1D (30) - De Klamp 1D (39))
DESCRIPTION:Je hebt 36 uur na aanvang om een thuismatch op Badmintonvlaande
 ren in te vullen. Match info: Brasschaat 1D (30) - De Klamp 1D (39) - Link
 : https://www.badmintonvlaanderen.be/sport/teammatch.aspx?id=015ED37D-B12B
 -47D6-B567-F9EECBF6F439&match=629
DTSTART;TZID=Europe/Brussels:20240312T070000
DTEND;TZID=Europe/Brussels:20240312T070000
END:VEVENT
BEGIN:VEVENT
UID:015ED37D-B12B-47D6-B567-F9EECBF6F439-13-641_homereminder@198.badmintonn
 ers.net
DTSTAMP:20260420T054018Z
SUMMARY:Thuismatch ingevuld? (Brasschaat 1D (30) - Klein Boom 1D (40))
DESCRIPTION:Je hebt 36 uur na aanvang om een thuismatch op Badmintonvlaande
 ren in te vullen. Match info: Brasschaat 1D (30) - Klein Boom 1D (40) - Li
 nk: https://www.badmintonvlaanderen.be/sport/teammatch.aspx?id=015ED37D-B1
 2B-47D6-B567-F9EECBF6F439&match=641
DTSTART;TZID=Europe/Brussels:20240409T070000
DTEND;TZID=Europe/Brussels:20240409T070000
END:VEVENT
BEGIN:VEVENT
UID:015ED37D-B12B-47D6-B567-F9EECBF6F439-13-622_awayreminder@198.badmintonn
 ers.net
DTSTAMP:20260420T054018Z
SUMMARY:Uitmatch bevestigd? (W&L BV 1D (28) - Brasschaat 1D (30))
DESCRIPTION:Je hebt 72 uur na aanvang om een uitmatch op Badmintonvlaandere
 n in te vullen. Match info: W&L BV 1D (28) - Brasschaat 1D (30) - Link: ht
 tps://www.badmintonvlaanderen.be/sport/teammatch.aspx?id=015ED37D-B12B-47D
 6-B567-F9EECBF6F439&match=622
DTSTART;TZID=Europe/Brussels:20230927T130000
DTEND;TZID=Europe/Brussels:20230927T130000
END:VEVENT
BEGIN:VEVENT
UID:015ED37D-B12B-47D6-B567-F9EECBF6F439-13-618_awayreminder@198.badmintonn
 ers.net
DTSTAMP:20260420T054018Z
SUMMARY:Uitmatch bevestigd? (De Klamp 1D (39) - Brasschaat 1D (30))
DESCRIPTION:Je hebt 72 uur na aanvang om een uitmatch op Badmintonvlaandere
 n in te vullen. Match info: De Klamp 1D (39) - Brasschaat 1D (30) - Link: 
 https://www.badmintonvlaanderen.be/sport/teammatch.aspx?id=015ED37D-B12B-4
 7D6-B567-F9EECBF6F439&match=618
DTSTART;TZID=Europe/Brussels:20231122T181500
DTEND;TZID=Europe/Brussels:20231122T181500
END:VEVENT
BEGIN:VEVENT
UID:015ED37D-B12B-47D6-B567-F9EECBF6F439-13-620_awayreminder@198.badmintonn
 ers.net
DTSTAMP:20260420T054018Z
SUMMARY:Uitmatch bevestigd? (Klein Boom 1D (40) - Brasschaat 1D (30))
DESCRIPTION:Je hebt 72 uur na aanvang om een uitmatch op Badmintonvlaandere
 n in te vullen. Match info: Klein Boom 1D (40) - Brasschaat 1D (30) - Link
 : https://www.badmintonvlaanderen.be/sport/teammatch.aspx?id=015ED37D-B12B
 -47D6-B567-F9EECBF6F439&match=620
DTSTART;TZID=Europe/Brussels:20231220T190000
DTEND;TZID=Europe/Brussels:20231220T190000
END:VEVENT
BEGIN:VEVENT
UID:015ED37D-B12B-47D6-B567-F9EECBF6F439-13-617_awayreminder@198.badmintonn
 ers.net
DTSTAMP:20260420T054018Z
SUMMARY:Uitmatch bevestigd? (Buggenhout 2D (31) - Brasschaat 1D (30))
DESCRIPTION:Je hebt 72 uur na aanvang om een uitmatch op Badmintonvlaandere
 n in te vullen. Match info: Buggenhout 2D (31) - Brasschaat 1D (30) - Link
 : https://www.badmintonvlaanderen.be/sport/teammatch.aspx?id=015ED37D-B12B
 -47D6-B567-F9EECBF6F439&match=617
DTSTART;TZID=Europe/Brussels:20240117T133000
DTEND;TZID=Europe/Brussels:20240117T133000
END:VEVENT
BEGIN:VEVENT
UID:015ED37D-B12B-47D6-B567-F9EECBF6F439-13-619_awayreminder@198.badmintonn
 ers.net
DTSTAMP:20260420T054018Z
SUMMARY:Uitmatch bevestigd? (Hebad 1D (31) - Brasschaat 1D (30))
DESCRIPTION:Je hebt 72 uur na aanvang om een uitmatch op Badmintonvlaandere
 n in te vullen. Match info: Hebad 1D (31) - Brasschaat 1D (30) - Link: htt
 ps://www.badmintonvlaanderen.be/sport/teammatch.aspx?id=015ED37D-B12B-47D6
 -B567-F9EECBF6F439&match=619
DTSTART;TZID=Europe/Brussels:20240207T140000
DTEND;TZID=Europe/Brussels:20240207T140000
END:VEVENT
BEGIN:VEVENT
UID:015ED37D-B12B-47D6-B567-F9EECBF6F439-13-621_awayreminder@198.badmintonn
 ers.net
DTSTAMP:20260420T054018Z
SUMMARY:Uitmatch bevestigd? (Looise 1D (36) - Brasschaat 1D (30))
DESCRIPTION:Je hebt 72 uur na aanvang om een uitmatch op Badmintonvlaandere
 n in te vullen. Match info: Looise 1D (36) - Brasschaat 1D (30) - Link: ht
 tps://www.badmintonvlaanderen.be/sport/teammatch.aspx?id=015ED37D-B12B-47D
 6-B567-F9EECBF6F439&match=621
DTSTART;TZID=Europe/Brussels:20240327T150000
DTEND;TZID=Europe/Brussels:20240327T150000
END:VEVENT
END:VCALENDAR