BEGIN:VCALENDAR
VERSION:2.0
PRODID:spatie/icalendar-generator
NAME:looise_1d_36_reminders
X-WR-CALNAME:looise_1d_36_reminders
BEGIN:VTIMEZONE
TZID:Europe/Brussels
BEGIN:DAYLIGHT
DTSTART:20230326T010000
TZOFFSETFROM:+0100
TZOFFSETTO:+0200
END:DAYLIGHT
BEGIN:STANDARD
DTSTART:20231029T030000
TZOFFSETFROM:+0200
TZOFFSETTO:+0100
END:STANDARD
BEGIN:DAYLIGHT
DTSTART:20240331T010000
TZOFFSETFROM:+0100
TZOFFSETTO:+0200
END:DAYLIGHT
END:VTIMEZONE
BEGIN:VTIMEZONE
TZID:UTC
BEGIN:STANDARD
DTSTART:20250724T070456
TZOFFSETFROM:+0000
TZOFFSETTO:+0000
END:STANDARD
END:VTIMEZONE
BEGIN:VEVENT
UID:015ED37D-B12B-47D6-B567-F9EECBF6F439-13-639_homereminder@200.badmintonn
 ers.net
DTSTAMP:20260420T070456Z
SUMMARY:Thuismatch ingevuld? (Looise 1D (36) - Hebad 1D (31))
DESCRIPTION:Je hebt 36 uur na aanvang om een thuismatch op Badmintonvlaande
 ren in te vullen. Match info: Looise 1D (36) - Hebad 1D (31) - Link: https
 ://www.badmintonvlaanderen.be/sport/teammatch.aspx?id=015ED37D-B12B-47D6-B
 567-F9EECBF6F439&match=639
DTSTART;TZID=Europe/Brussels:20231024T030000
DTEND;TZID=Europe/Brussels:20231024T030000
END:VEVENT
BEGIN:VEVENT
UID:015ED37D-B12B-47D6-B567-F9EECBF6F439-13-627_homereminder@200.badmintonn
 ers.net
DTSTAMP:20260420T070456Z
SUMMARY:Thuismatch ingevuld? (Looise 1D (36) - Buggenhout 2D (31))
DESCRIPTION:Je hebt 36 uur na aanvang om een thuismatch op Badmintonvlaande
 ren in te vullen. Match info: Looise 1D (36) - Buggenhout 2D (31) - Link: 
 https://www.badmintonvlaanderen.be/sport/teammatch.aspx?id=015ED37D-B12B-4
 7D6-B567-F9EECBF6F439&match=627
DTSTART;TZID=Europe/Brussels:20231211T063000
DTEND;TZID=Europe/Brussels:20231211T063000
END:VEVENT
BEGIN:VEVENT
UID:015ED37D-B12B-47D6-B567-F9EECBF6F439-13-658_homereminder@200.badmintonn
 ers.net
DTSTAMP:20260420T070456Z
SUMMARY:Thuismatch ingevuld? (Looise 1D (36) - W&L BV 1D (28))
DESCRIPTION:Je hebt 36 uur na aanvang om een thuismatch op Badmintonvlaande
 ren in te vullen. Match info: Looise 1D (36) - W&L BV 1D (28) - Link: http
 s://www.badmintonvlaanderen.be/sport/teammatch.aspx?id=015ED37D-B12B-47D6-
 B567-F9EECBF6F439&match=658
DTSTART;TZID=Europe/Brussels:20231219T030000
DTEND;TZID=Europe/Brussels:20231219T030000
END:VEVENT
BEGIN:VEVENT
UID:015ED37D-B12B-47D6-B567-F9EECBF6F439-13-633_homereminder@200.badmintonn
 ers.net
DTSTAMP:20260420T070456Z
SUMMARY:Thuismatch ingevuld? (Looise 1D (36) - De Klamp 1D (39))
DESCRIPTION:Je hebt 36 uur na aanvang om een thuismatch op Badmintonvlaande
 ren in te vullen. Match info: Looise 1D (36) - De Klamp 1D (39) - Link: ht
 tps://www.badmintonvlaanderen.be/sport/teammatch.aspx?id=015ED37D-B12B-47D
 6-B567-F9EECBF6F439&match=633
DTSTART;TZID=Europe/Brussels:20240305T030000
DTEND;TZID=Europe/Brussels:20240305T030000
END:VEVENT
BEGIN:VEVENT
UID:015ED37D-B12B-47D6-B567-F9EECBF6F439-13-621_homereminder@200.badmintonn
 ers.net
DTSTAMP:20260420T070456Z
SUMMARY:Thuismatch ingevuld? (Looise 1D (36) - Brasschaat 1D (30))
DESCRIPTION:Je hebt 36 uur na aanvang om een thuismatch op Badmintonvlaande
 ren in te vullen. Match info: Looise 1D (36) - Brasschaat 1D (30) - Link: 
 https://www.badmintonvlaanderen.be/sport/teammatch.aspx?id=015ED37D-B12B-4
 7D6-B567-F9EECBF6F439&match=621
DTSTART;TZID=Europe/Brussels:20240326T030000
DTEND;TZID=Europe/Brussels:20240326T030000
END:VEVENT
BEGIN:VEVENT
UID:015ED37D-B12B-47D6-B567-F9EECBF6F439-13-645_homereminder@200.badmintonn
 ers.net
DTSTAMP:20260420T070456Z
SUMMARY:Thuismatch ingevuld? (Looise 1D (36) - Klein Boom 1D (40))
DESCRIPTION:Je hebt 36 uur na aanvang om een thuismatch op Badmintonvlaande
 ren in te vullen. Match info: Looise 1D (36) - Klein Boom 1D (40) - Link: 
 https://www.badmintonvlaanderen.be/sport/teammatch.aspx?id=015ED37D-B12B-4
 7D6-B567-F9EECBF6F439&match=645
DTSTART;TZID=Europe/Brussels:20240423T030000
DTEND;TZID=Europe/Brussels:20240423T030000
END:VEVENT
BEGIN:VEVENT
UID:015ED37D-B12B-47D6-B567-F9EECBF6F439-13-647_awayreminder@200.badmintonn
 ers.net
DTSTAMP:20260420T070456Z
SUMMARY:Uitmatch bevestigd? (Brasschaat 1D (30) - Looise 1D (36))
DESCRIPTION:Je hebt 72 uur na aanvang om een uitmatch op Badmintonvlaandere
 n in te vullen. Match info: Brasschaat 1D (30) - Looise 1D (36) - Link: ht
 tps://www.badmintonvlaanderen.be/sport/teammatch.aspx?id=015ED37D-B12B-47D
 6-B567-F9EECBF6F439&match=647
DTSTART;TZID=Europe/Brussels:20231108T190000
DTEND;TZID=Europe/Brussels:20231108T190000
END:VEVENT
BEGIN:VEVENT
UID:015ED37D-B12B-47D6-B567-F9EECBF6F439-13-651_awayreminder@200.badmintonn
 ers.net
DTSTAMP:20260420T070456Z
SUMMARY:Uitmatch bevestigd? (Klein Boom 1D (40) - Looise 1D (36))
DESCRIPTION:Je hebt 72 uur na aanvang om een uitmatch op Badmintonvlaandere
 n in te vullen. Match info: Klein Boom 1D (40) - Looise 1D (36) - Link: ht
 tps://www.badmintonvlaanderen.be/sport/teammatch.aspx?id=015ED37D-B12B-47D
 6-B567-F9EECBF6F439&match=651
DTSTART;TZID=Europe/Brussels:20231122T190000
DTEND;TZID=Europe/Brussels:20231122T190000
END:VEVENT
BEGIN:VEVENT
UID:015ED37D-B12B-47D6-B567-F9EECBF6F439-13-649_awayreminder@200.badmintonn
 ers.net
DTSTAMP:20260420T070456Z
SUMMARY:Uitmatch bevestigd? (De Klamp 1D (39) - Looise 1D (36))
DESCRIPTION:Je hebt 72 uur na aanvang om een uitmatch op Badmintonvlaandere
 n in te vullen. Match info: De Klamp 1D (39) - Looise 1D (36) - Link: http
 s://www.badmintonvlaanderen.be/sport/teammatch.aspx?id=015ED37D-B12B-47D6-
 B567-F9EECBF6F439&match=649
DTSTART;TZID=Europe/Brussels:20231218T200000
DTEND;TZID=Europe/Brussels:20231218T200000
END:VEVENT
BEGIN:VEVENT
UID:015ED37D-B12B-47D6-B567-F9EECBF6F439-13-650_awayreminder@200.badmintonn
 ers.net
DTSTAMP:20260420T070456Z
SUMMARY:Uitmatch bevestigd? (Hebad 1D (31) - Looise 1D (36))
DESCRIPTION:Je hebt 72 uur na aanvang om een uitmatch op Badmintonvlaandere
 n in te vullen. Match info: Hebad 1D (31) - Looise 1D (36) - Link: https:/
 /www.badmintonvlaanderen.be/sport/teammatch.aspx?id=015ED37D-B12B-47D6-B56
 7-F9EECBF6F439&match=650
DTSTART;TZID=Europe/Brussels:20240117T140000
DTEND;TZID=Europe/Brussels:20240117T140000
END:VEVENT
BEGIN:VEVENT
UID:015ED37D-B12B-47D6-B567-F9EECBF6F439-13-648_awayreminder@200.badmintonn
 ers.net
DTSTAMP:20260420T070456Z
SUMMARY:Uitmatch bevestigd? (Buggenhout 2D (31) - Looise 1D (36))
DESCRIPTION:Je hebt 72 uur na aanvang om een uitmatch op Badmintonvlaandere
 n in te vullen. Match info: Buggenhout 2D (31) - Looise 1D (36) - Link: ht
 tps://www.badmintonvlaanderen.be/sport/teammatch.aspx?id=015ED37D-B12B-47D
 6-B567-F9EECBF6F439&match=648
DTSTART;TZID=Europe/Brussels:20240313T133000
DTEND;TZID=Europe/Brussels:20240313T133000
END:VEVENT
BEGIN:VEVENT
UID:015ED37D-B12B-47D6-B567-F9EECBF6F439-13-652_awayreminder@200.badmintonn
 ers.net
DTSTAMP:20260420T070456Z
SUMMARY:Uitmatch bevestigd? (W&L BV 1D (28) - Looise 1D (36))
DESCRIPTION:Je hebt 72 uur na aanvang om een uitmatch op Badmintonvlaandere
 n in te vullen. Match info: W&L BV 1D (28) - Looise 1D (36) - Link: https:
 //www.badmintonvlaanderen.be/sport/teammatch.aspx?id=015ED37D-B12B-47D6-B5
 67-F9EECBF6F439&match=652
DTSTART;TZID=Europe/Brussels:20240410T130000
DTEND;TZID=Europe/Brussels:20240410T130000
END:VEVENT
END:VCALENDAR