BEGIN:VCALENDAR
VERSION:2.0
PRODID:spatie/icalendar-generator
NAME:klein_boom_1d_40_reminders
X-WR-CALNAME:klein_boom_1d_40_reminders
BEGIN:VTIMEZONE
TZID:Europe/Brussels
BEGIN:DAYLIGHT
DTSTART:20230326T010000
TZOFFSETFROM:+0100
TZOFFSETTO:+0200
END:DAYLIGHT
BEGIN:STANDARD
DTSTART:20231029T030000
TZOFFSETFROM:+0200
TZOFFSETTO:+0100
END:STANDARD
BEGIN:DAYLIGHT
DTSTART:20240331T010000
TZOFFSETFROM:+0100
TZOFFSETTO:+0200
END:DAYLIGHT
END:VTIMEZONE
BEGIN:VTIMEZONE
TZID:UTC
BEGIN:STANDARD
DTSTART:20250724T054021
TZOFFSETFROM:+0000
TZOFFSETTO:+0000
END:STANDARD
END:VTIMEZONE
BEGIN:VEVENT
UID:015ED37D-B12B-47D6-B567-F9EECBF6F439-13-651_homereminder@203.badmintonn
 ers.net
DTSTAMP:20260420T054021Z
SUMMARY:Thuismatch ingevuld? (Klein Boom 1D (40) - Looise 1D (36))
DESCRIPTION:Je hebt 36 uur na aanvang om een thuismatch op Badmintonvlaande
 ren in te vullen. Match info: Klein Boom 1D (40) - Looise 1D (36) - Link: 
 https://www.badmintonvlaanderen.be/sport/teammatch.aspx?id=015ED37D-B12B-4
 7D6-B567-F9EECBF6F439&match=651
DTSTART;TZID=Europe/Brussels:20231121T070000
DTEND;TZID=Europe/Brussels:20231121T070000
END:VEVENT
BEGIN:VEVENT
UID:015ED37D-B12B-47D6-B567-F9EECBF6F439-13-632_homereminder@203.badmintonn
 ers.net
DTSTAMP:20260420T054021Z
SUMMARY:Thuismatch ingevuld? (Klein Boom 1D (40) - De Klamp 1D (39))
DESCRIPTION:Je hebt 36 uur na aanvang om een thuismatch op Badmintonvlaande
 ren in te vullen. Match info: Klein Boom 1D (40) - De Klamp 1D (39) - Link
 : https://www.badmintonvlaanderen.be/sport/teammatch.aspx?id=015ED37D-B12B
 -47D6-B567-F9EECBF6F439&match=632
DTSTART;TZID=Europe/Brussels:20231129T080000
DTEND;TZID=Europe/Brussels:20231129T080000
END:VEVENT
BEGIN:VEVENT
UID:015ED37D-B12B-47D6-B567-F9EECBF6F439-13-620_homereminder@203.badmintonn
 ers.net
DTSTAMP:20260420T054021Z
SUMMARY:Thuismatch ingevuld? (Klein Boom 1D (40) - Brasschaat 1D (30))
DESCRIPTION:Je hebt 36 uur na aanvang om een thuismatch op Badmintonvlaande
 ren in te vullen. Match info: Klein Boom 1D (40) - Brasschaat 1D (30) - Li
 nk: https://www.badmintonvlaanderen.be/sport/teammatch.aspx?id=015ED37D-B1
 2B-47D6-B567-F9EECBF6F439&match=620
DTSTART;TZID=Europe/Brussels:20231219T070000
DTEND;TZID=Europe/Brussels:20231219T070000
END:VEVENT
BEGIN:VEVENT
UID:015ED37D-B12B-47D6-B567-F9EECBF6F439-13-657_homereminder@203.badmintonn
 ers.net
DTSTAMP:20260420T054021Z
SUMMARY:Thuismatch ingevuld? (Klein Boom 1D (40) - W&L BV 1D (28))
DESCRIPTION:Je hebt 36 uur na aanvang om een thuismatch op Badmintonvlaande
 ren in te vullen. Match info: Klein Boom 1D (40) - W&L BV 1D (28) - Link: 
 https://www.badmintonvlaanderen.be/sport/teammatch.aspx?id=015ED37D-B12B-4
 7D6-B567-F9EECBF6F439&match=657
DTSTART;TZID=Europe/Brussels:20240130T070000
DTEND;TZID=Europe/Brussels:20240130T070000
END:VEVENT
BEGIN:VEVENT
UID:015ED37D-B12B-47D6-B567-F9EECBF6F439-13-638_homereminder@203.badmintonn
 ers.net
DTSTAMP:20260420T054021Z
SUMMARY:Thuismatch ingevuld? (Klein Boom 1D (40) - Hebad 1D (31))
DESCRIPTION:Je hebt 36 uur na aanvang om een thuismatch op Badmintonvlaande
 ren in te vullen. Match info: Klein Boom 1D (40) - Hebad 1D (31) - Link: h
 ttps://www.badmintonvlaanderen.be/sport/teammatch.aspx?id=015ED37D-B12B-47
 D6-B567-F9EECBF6F439&match=638
DTSTART;TZID=Europe/Brussels:20240213T070000
DTEND;TZID=Europe/Brussels:20240213T070000
END:VEVENT
BEGIN:VEVENT
UID:015ED37D-B12B-47D6-B567-F9EECBF6F439-13-626_homereminder@203.badmintonn
 ers.net
DTSTAMP:20260420T054021Z
SUMMARY:Thuismatch ingevuld? (Klein Boom 1D (40) - Buggenhout 2D (31))
DESCRIPTION:Je hebt 36 uur na aanvang om een thuismatch op Badmintonvlaande
 ren in te vullen. Match info: Klein Boom 1D (40) - Buggenhout 2D (31) - Li
 nk: https://www.badmintonvlaanderen.be/sport/teammatch.aspx?id=015ED37D-B1
 2B-47D6-B567-F9EECBF6F439&match=626
DTSTART;TZID=Europe/Brussels:20240326T070000
DTEND;TZID=Europe/Brussels:20240326T070000
END:VEVENT
BEGIN:VEVENT
UID:015ED37D-B12B-47D6-B567-F9EECBF6F439-13-644_awayreminder@203.badmintonn
 ers.net
DTSTAMP:20260420T054021Z
SUMMARY:Uitmatch bevestigd? (Hebad 1D (31) - Klein Boom 1D (40))
DESCRIPTION:Je hebt 72 uur na aanvang om een uitmatch op Badmintonvlaandere
 n in te vullen. Match info: Hebad 1D (31) - Klein Boom 1D (40) - Link: htt
 ps://www.badmintonvlaanderen.be/sport/teammatch.aspx?id=015ED37D-B12B-47D6
 -B567-F9EECBF6F439&match=644
DTSTART;TZID=Europe/Brussels:20231011T140000
DTEND;TZID=Europe/Brussels:20231011T140000
END:VEVENT
BEGIN:VEVENT
UID:015ED37D-B12B-47D6-B567-F9EECBF6F439-13-642_awayreminder@203.badmintonn
 ers.net
DTSTAMP:20260420T054021Z
SUMMARY:Uitmatch bevestigd? (Buggenhout 2D (31) - Klein Boom 1D (40))
DESCRIPTION:Je hebt 72 uur na aanvang om een uitmatch op Badmintonvlaandere
 n in te vullen. Match info: Buggenhout 2D (31) - Klein Boom 1D (40) - Link
 : https://www.badmintonvlaanderen.be/sport/teammatch.aspx?id=015ED37D-B12B
 -47D6-B567-F9EECBF6F439&match=642
DTSTART;TZID=Europe/Brussels:20231101T100000
DTEND;TZID=Europe/Brussels:20231101T100000
END:VEVENT
BEGIN:VEVENT
UID:015ED37D-B12B-47D6-B567-F9EECBF6F439-13-646_awayreminder@203.badmintonn
 ers.net
DTSTAMP:20260420T054021Z
SUMMARY:Uitmatch bevestigd? (W&L BV 1D (28) - Klein Boom 1D (40))
DESCRIPTION:Je hebt 72 uur na aanvang om een uitmatch op Badmintonvlaandere
 n in te vullen. Match info: W&L BV 1D (28) - Klein Boom 1D (40) - Link: ht
 tps://www.badmintonvlaanderen.be/sport/teammatch.aspx?id=015ED37D-B12B-47D
 6-B567-F9EECBF6F439&match=646
DTSTART;TZID=Europe/Brussels:20231206T130000
DTEND;TZID=Europe/Brussels:20231206T130000
END:VEVENT
BEGIN:VEVENT
UID:015ED37D-B12B-47D6-B567-F9EECBF6F439-13-643_awayreminder@203.badmintonn
 ers.net
DTSTAMP:20260420T054021Z
SUMMARY:Uitmatch bevestigd? (De Klamp 1D (39) - Klein Boom 1D (40))
DESCRIPTION:Je hebt 72 uur na aanvang om een uitmatch op Badmintonvlaandere
 n in te vullen. Match info: De Klamp 1D (39) - Klein Boom 1D (40) - Link: 
 https://www.badmintonvlaanderen.be/sport/teammatch.aspx?id=015ED37D-B12B-4
 7D6-B567-F9EECBF6F439&match=643
DTSTART;TZID=Europe/Brussels:20240228T181500
DTEND;TZID=Europe/Brussels:20240228T181500
END:VEVENT
BEGIN:VEVENT
UID:015ED37D-B12B-47D6-B567-F9EECBF6F439-13-641_awayreminder@203.badmintonn
 ers.net
DTSTAMP:20260420T054021Z
SUMMARY:Uitmatch bevestigd? (Brasschaat 1D (30) - Klein Boom 1D (40))
DESCRIPTION:Je hebt 72 uur na aanvang om een uitmatch op Badmintonvlaandere
 n in te vullen. Match info: Brasschaat 1D (30) - Klein Boom 1D (40) - Link
 : https://www.badmintonvlaanderen.be/sport/teammatch.aspx?id=015ED37D-B12B
 -47D6-B567-F9EECBF6F439&match=641
DTSTART;TZID=Europe/Brussels:20240410T190000
DTEND;TZID=Europe/Brussels:20240410T190000
END:VEVENT
BEGIN:VEVENT
UID:015ED37D-B12B-47D6-B567-F9EECBF6F439-13-645_awayreminder@203.badmintonn
 ers.net
DTSTAMP:20260420T054021Z
SUMMARY:Uitmatch bevestigd? (Looise 1D (36) - Klein Boom 1D (40))
DESCRIPTION:Je hebt 72 uur na aanvang om een uitmatch op Badmintonvlaandere
 n in te vullen. Match info: Looise 1D (36) - Klein Boom 1D (40) - Link: ht
 tps://www.badmintonvlaanderen.be/sport/teammatch.aspx?id=015ED37D-B12B-47D
 6-B567-F9EECBF6F439&match=645
DTSTART;TZID=Europe/Brussels:20240424T150000
DTEND;TZID=Europe/Brussels:20240424T150000
END:VEVENT
END:VCALENDAR