BEGIN:VCALENDAR
VERSION:2.0
PRODID:spatie/icalendar-generator
NAME:hebad_1d_31_reminders
X-WR-CALNAME:hebad_1d_31_reminders
BEGIN:VTIMEZONE
TZID:Europe/Brussels
BEGIN:DAYLIGHT
DTSTART:20230326T010000
TZOFFSETFROM:+0100
TZOFFSETTO:+0200
END:DAYLIGHT
BEGIN:STANDARD
DTSTART:20231029T030000
TZOFFSETFROM:+0200
TZOFFSETTO:+0100
END:STANDARD
BEGIN:DAYLIGHT
DTSTART:20240331T010000
TZOFFSETFROM:+0100
TZOFFSETTO:+0200
END:DAYLIGHT
END:VTIMEZONE
BEGIN:VTIMEZONE
TZID:UTC
BEGIN:STANDARD
DTSTART:20250724T054021
TZOFFSETFROM:+0000
TZOFFSETTO:+0000
END:STANDARD
END:VTIMEZONE
BEGIN:VEVENT
UID:015ED37D-B12B-47D6-B567-F9EECBF6F439-13-644_homereminder@204.badmintonn
 ers.net
DTSTAMP:20260420T054021Z
SUMMARY:Thuismatch ingevuld? (Hebad 1D (31) - Klein Boom 1D (40))
DESCRIPTION:Je hebt 36 uur na aanvang om een thuismatch op Badmintonvlaande
 ren in te vullen. Match info: Hebad 1D (31) - Klein Boom 1D (40) - Link: h
 ttps://www.badmintonvlaanderen.be/sport/teammatch.aspx?id=015ED37D-B12B-47
 D6-B567-F9EECBF6F439&match=644
DTSTART;TZID=Europe/Brussels:20231010T020000
DTEND;TZID=Europe/Brussels:20231010T020000
END:VEVENT
BEGIN:VEVENT
UID:015ED37D-B12B-47D6-B567-F9EECBF6F439-13-656_homereminder@204.badmintonn
 ers.net
DTSTAMP:20260420T054021Z
SUMMARY:Thuismatch ingevuld? (Hebad 1D (31) - W&L BV 1D (28))
DESCRIPTION:Je hebt 36 uur na aanvang om een thuismatch op Badmintonvlaande
 ren in te vullen. Match info: Hebad 1D (31) - W&L BV 1D (28) - Link: https
 ://www.badmintonvlaanderen.be/sport/teammatch.aspx?id=015ED37D-B12B-47D6-B
 567-F9EECBF6F439&match=656
DTSTART;TZID=Europe/Brussels:20231121T020000
DTEND;TZID=Europe/Brussels:20231121T020000
END:VEVENT
BEGIN:VEVENT
UID:015ED37D-B12B-47D6-B567-F9EECBF6F439-13-625_homereminder@204.badmintonn
 ers.net
DTSTAMP:20260420T054021Z
SUMMARY:Thuismatch ingevuld? (Hebad 1D (31) - Buggenhout 2D (31))
DESCRIPTION:Je hebt 36 uur na aanvang om een thuismatch op Badmintonvlaande
 ren in te vullen. Match info: Hebad 1D (31) - Buggenhout 2D (31) - Link: h
 ttps://www.badmintonvlaanderen.be/sport/teammatch.aspx?id=015ED37D-B12B-47
 D6-B567-F9EECBF6F439&match=625
DTSTART;TZID=Europe/Brussels:20231219T020000
DTEND;TZID=Europe/Brussels:20231219T020000
END:VEVENT
BEGIN:VEVENT
UID:015ED37D-B12B-47D6-B567-F9EECBF6F439-13-650_homereminder@204.badmintonn
 ers.net
DTSTAMP:20260420T054021Z
SUMMARY:Thuismatch ingevuld? (Hebad 1D (31) - Looise 1D (36))
DESCRIPTION:Je hebt 36 uur na aanvang om een thuismatch op Badmintonvlaande
 ren in te vullen. Match info: Hebad 1D (31) - Looise 1D (36) - Link: https
 ://www.badmintonvlaanderen.be/sport/teammatch.aspx?id=015ED37D-B12B-47D6-B
 567-F9EECBF6F439&match=650
DTSTART;TZID=Europe/Brussels:20240116T020000
DTEND;TZID=Europe/Brussels:20240116T020000
END:VEVENT
BEGIN:VEVENT
UID:015ED37D-B12B-47D6-B567-F9EECBF6F439-13-619_homereminder@204.badmintonn
 ers.net
DTSTAMP:20260420T054021Z
SUMMARY:Thuismatch ingevuld? (Hebad 1D (31) - Brasschaat 1D (30))
DESCRIPTION:Je hebt 36 uur na aanvang om een thuismatch op Badmintonvlaande
 ren in te vullen. Match info: Hebad 1D (31) - Brasschaat 1D (30) - Link: h
 ttps://www.badmintonvlaanderen.be/sport/teammatch.aspx?id=015ED37D-B12B-47
 D6-B567-F9EECBF6F439&match=619
DTSTART;TZID=Europe/Brussels:20240206T020000
DTEND;TZID=Europe/Brussels:20240206T020000
END:VEVENT
BEGIN:VEVENT
UID:015ED37D-B12B-47D6-B567-F9EECBF6F439-13-631_homereminder@204.badmintonn
 ers.net
DTSTAMP:20260420T054021Z
SUMMARY:Thuismatch ingevuld? (Hebad 1D (31) - De Klamp 1D (39))
DESCRIPTION:Je hebt 36 uur na aanvang om een thuismatch op Badmintonvlaande
 ren in te vullen. Match info: Hebad 1D (31) - De Klamp 1D (39) - Link: htt
 ps://www.badmintonvlaanderen.be/sport/teammatch.aspx?id=015ED37D-B12B-47D6
 -B567-F9EECBF6F439&match=631
DTSTART;TZID=Europe/Brussels:20240326T020000
DTEND;TZID=Europe/Brussels:20240326T020000
END:VEVENT
BEGIN:VEVENT
UID:015ED37D-B12B-47D6-B567-F9EECBF6F439-13-637_awayreminder@204.badmintonn
 ers.net
DTSTAMP:20260420T054021Z
SUMMARY:Uitmatch bevestigd? (De Klamp 1D (39) - Hebad 1D (31))
DESCRIPTION:Je hebt 72 uur na aanvang om een uitmatch op Badmintonvlaandere
 n in te vullen. Match info: De Klamp 1D (39) - Hebad 1D (31) - Link: https
 ://www.badmintonvlaanderen.be/sport/teammatch.aspx?id=015ED37D-B12B-47D6-B
 567-F9EECBF6F439&match=637
DTSTART;TZID=Europe/Brussels:20230913T181500
DTEND;TZID=Europe/Brussels:20230913T181500
END:VEVENT
BEGIN:VEVENT
UID:015ED37D-B12B-47D6-B567-F9EECBF6F439-13-639_awayreminder@204.badmintonn
 ers.net
DTSTAMP:20260420T054021Z
SUMMARY:Uitmatch bevestigd? (Looise 1D (36) - Hebad 1D (31))
DESCRIPTION:Je hebt 72 uur na aanvang om een uitmatch op Badmintonvlaandere
 n in te vullen. Match info: Looise 1D (36) - Hebad 1D (31) - Link: https:/
 /www.badmintonvlaanderen.be/sport/teammatch.aspx?id=015ED37D-B12B-47D6-B56
 7-F9EECBF6F439&match=639
DTSTART;TZID=Europe/Brussels:20231025T150000
DTEND;TZID=Europe/Brussels:20231025T150000
END:VEVENT
BEGIN:VEVENT
UID:015ED37D-B12B-47D6-B567-F9EECBF6F439-13-635_awayreminder@204.badmintonn
 ers.net
DTSTAMP:20260420T054021Z
SUMMARY:Uitmatch bevestigd? (Brasschaat 1D (30) - Hebad 1D (31))
DESCRIPTION:Je hebt 72 uur na aanvang om een uitmatch op Badmintonvlaandere
 n in te vullen. Match info: Brasschaat 1D (30) - Hebad 1D (31) - Link: htt
 ps://www.badmintonvlaanderen.be/sport/teammatch.aspx?id=015ED37D-B12B-47D6
 -B567-F9EECBF6F439&match=635
DTSTART;TZID=Europe/Brussels:20231206T190000
DTEND;TZID=Europe/Brussels:20231206T190000
END:VEVENT
BEGIN:VEVENT
UID:015ED37D-B12B-47D6-B567-F9EECBF6F439-13-638_awayreminder@204.badmintonn
 ers.net
DTSTAMP:20260420T054021Z
SUMMARY:Uitmatch bevestigd? (Klein Boom 1D (40) - Hebad 1D (31))
DESCRIPTION:Je hebt 72 uur na aanvang om een uitmatch op Badmintonvlaandere
 n in te vullen. Match info: Klein Boom 1D (40) - Hebad 1D (31) - Link: htt
 ps://www.badmintonvlaanderen.be/sport/teammatch.aspx?id=015ED37D-B12B-47D6
 -B567-F9EECBF6F439&match=638
DTSTART;TZID=Europe/Brussels:20240214T190000
DTEND;TZID=Europe/Brussels:20240214T190000
END:VEVENT
BEGIN:VEVENT
UID:015ED37D-B12B-47D6-B567-F9EECBF6F439-13-640_awayreminder@204.badmintonn
 ers.net
DTSTAMP:20260420T054021Z
SUMMARY:Uitmatch bevestigd? (W&L BV 1D (28) - Hebad 1D (31))
DESCRIPTION:Je hebt 72 uur na aanvang om een uitmatch op Badmintonvlaandere
 n in te vullen. Match info: W&L BV 1D (28) - Hebad 1D (31) - Link: https:/
 /www.badmintonvlaanderen.be/sport/teammatch.aspx?id=015ED37D-B12B-47D6-B56
 7-F9EECBF6F439&match=640
DTSTART;TZID=Europe/Brussels:20240313T130000
DTEND;TZID=Europe/Brussels:20240313T130000
END:VEVENT
BEGIN:VEVENT
UID:015ED37D-B12B-47D6-B567-F9EECBF6F439-13-636_awayreminder@204.badmintonn
 ers.net
DTSTAMP:20260420T054021Z
SUMMARY:Uitmatch bevestigd? (Buggenhout 2D (31) - Hebad 1D (31))
DESCRIPTION:Je hebt 72 uur na aanvang om een uitmatch op Badmintonvlaandere
 n in te vullen. Match info: Buggenhout 2D (31) - Hebad 1D (31) - Link: htt
 ps://www.badmintonvlaanderen.be/sport/teammatch.aspx?id=015ED37D-B12B-47D6
 -B567-F9EECBF6F439&match=636
DTSTART;TZID=Europe/Brussels:20240410T133000
DTEND;TZID=Europe/Brussels:20240410T133000
END:VEVENT
END:VCALENDAR