BEGIN:VCALENDAR
VERSION:2.0
PRODID:spatie/icalendar-generator
NAME:buggenhout_2d_31_reminders
X-WR-CALNAME:buggenhout_2d_31_reminders
BEGIN:VTIMEZONE
TZID:Europe/Brussels
BEGIN:DAYLIGHT
DTSTART:20230326T010000
TZOFFSETFROM:+0100
TZOFFSETTO:+0200
END:DAYLIGHT
BEGIN:STANDARD
DTSTART:20231029T030000
TZOFFSETFROM:+0200
TZOFFSETTO:+0100
END:STANDARD
BEGIN:DAYLIGHT
DTSTART:20240331T010000
TZOFFSETFROM:+0100
TZOFFSETTO:+0200
END:DAYLIGHT
END:VTIMEZONE
BEGIN:VTIMEZONE
TZID:UTC
BEGIN:STANDARD
DTSTART:20250724T070458
TZOFFSETFROM:+0000
TZOFFSETTO:+0000
END:STANDARD
END:VTIMEZONE
BEGIN:VEVENT
UID:015ED37D-B12B-47D6-B567-F9EECBF6F439-13-654_homereminder@205.badmintonn
 ers.net
DTSTAMP:20260420T070458Z
SUMMARY:Thuismatch ingevuld? (Buggenhout 2D (31) - W&L BV 1D (28))
DESCRIPTION:Je hebt 36 uur na aanvang om een thuismatch op Badmintonvlaande
 ren in te vullen. Match info: Buggenhout 2D (31) - W&L BV 1D (28) - Link: 
 https://www.badmintonvlaanderen.be/sport/teammatch.aspx?id=015ED37D-B12B-4
 7D6-B567-F9EECBF6F439&match=654
DTSTART;TZID=Europe/Brussels:20231010T013000
DTEND;TZID=Europe/Brussels:20231010T013000
END:VEVENT
BEGIN:VEVENT
UID:015ED37D-B12B-47D6-B567-F9EECBF6F439-13-642_homereminder@205.badmintonn
 ers.net
DTSTAMP:20260420T070458Z
SUMMARY:Thuismatch ingevuld? (Buggenhout 2D (31) - Klein Boom 1D (40))
DESCRIPTION:Je hebt 36 uur na aanvang om een thuismatch op Badmintonvlaande
 ren in te vullen. Match info: Buggenhout 2D (31) - Klein Boom 1D (40) - Li
 nk: https://www.badmintonvlaanderen.be/sport/teammatch.aspx?id=015ED37D-B1
 2B-47D6-B567-F9EECBF6F439&match=642
DTSTART;TZID=Europe/Brussels:20231030T220000
DTEND;TZID=Europe/Brussels:20231030T220000
END:VEVENT
BEGIN:VEVENT
UID:015ED37D-B12B-47D6-B567-F9EECBF6F439-13-630_homereminder@205.badmintonn
 ers.net
DTSTAMP:20260420T070458Z
SUMMARY:Thuismatch ingevuld? (Buggenhout 2D (31) - De Klamp 1D (39))
DESCRIPTION:Je hebt 36 uur na aanvang om een thuismatch op Badmintonvlaande
 ren in te vullen. Match info: Buggenhout 2D (31) - De Klamp 1D (39) - Link
 : https://www.badmintonvlaanderen.be/sport/teammatch.aspx?id=015ED37D-B12B
 -47D6-B567-F9EECBF6F439&match=630
DTSTART;TZID=Europe/Brussels:20231205T013000
DTEND;TZID=Europe/Brussels:20231205T013000
END:VEVENT
BEGIN:VEVENT
UID:015ED37D-B12B-47D6-B567-F9EECBF6F439-13-617_homereminder@205.badmintonn
 ers.net
DTSTAMP:20260420T070458Z
SUMMARY:Thuismatch ingevuld? (Buggenhout 2D (31) - Brasschaat 1D (30))
DESCRIPTION:Je hebt 36 uur na aanvang om een thuismatch op Badmintonvlaande
 ren in te vullen. Match info: Buggenhout 2D (31) - Brasschaat 1D (30) - Li
 nk: https://www.badmintonvlaanderen.be/sport/teammatch.aspx?id=015ED37D-B1
 2B-47D6-B567-F9EECBF6F439&match=617
DTSTART;TZID=Europe/Brussels:20240116T013000
DTEND;TZID=Europe/Brussels:20240116T013000
END:VEVENT
BEGIN:VEVENT
UID:015ED37D-B12B-47D6-B567-F9EECBF6F439-13-648_homereminder@205.badmintonn
 ers.net
DTSTAMP:20260420T070458Z
SUMMARY:Thuismatch ingevuld? (Buggenhout 2D (31) - Looise 1D (36))
DESCRIPTION:Je hebt 36 uur na aanvang om een thuismatch op Badmintonvlaande
 ren in te vullen. Match info: Buggenhout 2D (31) - Looise 1D (36) - Link: 
 https://www.badmintonvlaanderen.be/sport/teammatch.aspx?id=015ED37D-B12B-4
 7D6-B567-F9EECBF6F439&match=648
DTSTART;TZID=Europe/Brussels:20240312T013000
DTEND;TZID=Europe/Brussels:20240312T013000
END:VEVENT
BEGIN:VEVENT
UID:015ED37D-B12B-47D6-B567-F9EECBF6F439-13-636_homereminder@205.badmintonn
 ers.net
DTSTAMP:20260420T070458Z
SUMMARY:Thuismatch ingevuld? (Buggenhout 2D (31) - Hebad 1D (31))
DESCRIPTION:Je hebt 36 uur na aanvang om een thuismatch op Badmintonvlaande
 ren in te vullen. Match info: Buggenhout 2D (31) - Hebad 1D (31) - Link: h
 ttps://www.badmintonvlaanderen.be/sport/teammatch.aspx?id=015ED37D-B12B-47
 D6-B567-F9EECBF6F439&match=636
DTSTART;TZID=Europe/Brussels:20240409T013000
DTEND;TZID=Europe/Brussels:20240409T013000
END:VEVENT
BEGIN:VEVENT
UID:015ED37D-B12B-47D6-B567-F9EECBF6F439-13-623_awayreminder@205.badmintonn
 ers.net
DTSTAMP:20260420T070458Z
SUMMARY:Uitmatch bevestigd? (Brasschaat 1D (30) - Buggenhout 2D (31))
DESCRIPTION:Je hebt 72 uur na aanvang om een uitmatch op Badmintonvlaandere
 n in te vullen. Match info: Brasschaat 1D (30) - Buggenhout 2D (31) - Link
 : https://www.badmintonvlaanderen.be/sport/teammatch.aspx?id=015ED37D-B12B
 -47D6-B567-F9EECBF6F439&match=623
DTSTART;TZID=Europe/Brussels:20231025T190000
DTEND;TZID=Europe/Brussels:20231025T190000
END:VEVENT
BEGIN:VEVENT
UID:015ED37D-B12B-47D6-B567-F9EECBF6F439-13-627_awayreminder@205.badmintonn
 ers.net
DTSTAMP:20260420T070458Z
SUMMARY:Uitmatch bevestigd? (Looise 1D (36) - Buggenhout 2D (31))
DESCRIPTION:Je hebt 72 uur na aanvang om een uitmatch op Badmintonvlaandere
 n in te vullen. Match info: Looise 1D (36) - Buggenhout 2D (31) - Link: ht
 tps://www.badmintonvlaanderen.be/sport/teammatch.aspx?id=015ED37D-B12B-47D
 6-B567-F9EECBF6F439&match=627
DTSTART;TZID=Europe/Brussels:20231212T183000
DTEND;TZID=Europe/Brussels:20231212T183000
END:VEVENT
BEGIN:VEVENT
UID:015ED37D-B12B-47D6-B567-F9EECBF6F439-13-625_awayreminder@205.badmintonn
 ers.net
DTSTAMP:20260420T070458Z
SUMMARY:Uitmatch bevestigd? (Hebad 1D (31) - Buggenhout 2D (31))
DESCRIPTION:Je hebt 72 uur na aanvang om een uitmatch op Badmintonvlaandere
 n in te vullen. Match info: Hebad 1D (31) - Buggenhout 2D (31) - Link: htt
 ps://www.badmintonvlaanderen.be/sport/teammatch.aspx?id=015ED37D-B12B-47D6
 -B567-F9EECBF6F439&match=625
DTSTART;TZID=Europe/Brussels:20231220T140000
DTEND;TZID=Europe/Brussels:20231220T140000
END:VEVENT
BEGIN:VEVENT
UID:015ED37D-B12B-47D6-B567-F9EECBF6F439-13-624_awayreminder@205.badmintonn
 ers.net
DTSTAMP:20260420T070458Z
SUMMARY:Uitmatch bevestigd? (De Klamp 1D (39) - Buggenhout 2D (31))
DESCRIPTION:Je hebt 72 uur na aanvang om een uitmatch op Badmintonvlaandere
 n in te vullen. Match info: De Klamp 1D (39) - Buggenhout 2D (31) - Link: 
 https://www.badmintonvlaanderen.be/sport/teammatch.aspx?id=015ED37D-B12B-4
 7D6-B567-F9EECBF6F439&match=624
DTSTART;TZID=Europe/Brussels:20240131T181500
DTEND;TZID=Europe/Brussels:20240131T181500
END:VEVENT
BEGIN:VEVENT
UID:015ED37D-B12B-47D6-B567-F9EECBF6F439-13-628_awayreminder@205.badmintonn
 ers.net
DTSTAMP:20260420T070458Z
SUMMARY:Uitmatch bevestigd? (W&L BV 1D (28) - Buggenhout 2D (31))
DESCRIPTION:Je hebt 72 uur na aanvang om een uitmatch op Badmintonvlaandere
 n in te vullen. Match info: W&L BV 1D (28) - Buggenhout 2D (31) - Link: ht
 tps://www.badmintonvlaanderen.be/sport/teammatch.aspx?id=015ED37D-B12B-47D
 6-B567-F9EECBF6F439&match=628
DTSTART;TZID=Europe/Brussels:20240214T130000
DTEND;TZID=Europe/Brussels:20240214T130000
END:VEVENT
BEGIN:VEVENT
UID:015ED37D-B12B-47D6-B567-F9EECBF6F439-13-626_awayreminder@205.badmintonn
 ers.net
DTSTAMP:20260420T070458Z
SUMMARY:Uitmatch bevestigd? (Klein Boom 1D (40) - Buggenhout 2D (31))
DESCRIPTION:Je hebt 72 uur na aanvang om een uitmatch op Badmintonvlaandere
 n in te vullen. Match info: Klein Boom 1D (40) - Buggenhout 2D (31) - Link
 : https://www.badmintonvlaanderen.be/sport/teammatch.aspx?id=015ED37D-B12B
 -47D6-B567-F9EECBF6F439&match=626
DTSTART;TZID=Europe/Brussels:20240327T190000
DTEND;TZID=Europe/Brussels:20240327T190000
END:VEVENT
END:VCALENDAR