BEGIN:VCALENDAR
VERSION:2.0
PRODID:spatie/icalendar-generator
NAME:brasschaat_2g_48_reminders
X-WR-CALNAME:brasschaat_2g_48_reminders
BEGIN:VTIMEZONE
TZID:Europe/Brussels
BEGIN:DAYLIGHT
DTSTART:20230326T010000
TZOFFSETFROM:+0100
TZOFFSETTO:+0200
END:DAYLIGHT
BEGIN:STANDARD
DTSTART:20231029T030000
TZOFFSETFROM:+0200
TZOFFSETTO:+0100
END:STANDARD
BEGIN:DAYLIGHT
DTSTART:20240331T010000
TZOFFSETFROM:+0100
TZOFFSETTO:+0200
END:DAYLIGHT
BEGIN:STANDARD
DTSTART:20241027T030000
TZOFFSETFROM:+0200
TZOFFSETTO:+0100
END:STANDARD
END:VTIMEZONE
BEGIN:VTIMEZONE
TZID:UTC
BEGIN:STANDARD
DTSTART:20250724T070622
TZOFFSETFROM:+0000
TZOFFSETTO:+0000
END:STANDARD
END:VTIMEZONE
BEGIN:VEVENT
UID:015ED37D-B12B-47D6-B567-F9EECBF6F439-22-1079_homereminder@211.badminton
 ners.net
DTSTAMP:20260420T070622Z
SUMMARY:Thuismatch ingevuld? (Brasschaat 2G (48) - De Klamp 1G (61))
DESCRIPTION:Je hebt 36 uur na aanvang om een thuismatch op Badmintonvlaande
 ren in te vullen. Match info: Brasschaat 2G (48) - De Klamp 1G (61) - Link
 : https://www.badmintonvlaanderen.be/sport/teammatch.aspx?id=015ED37D-B12B
 -47D6-B567-F9EECBF6F439&match=1079
DTSTART;TZID=Europe/Brussels:20231003T070000
DTEND;TZID=Europe/Brussels:20231003T070000
END:VEVENT
BEGIN:VEVENT
UID:015ED37D-B12B-47D6-B567-F9EECBF6F439-22-1103_homereminder@211.badminton
 ners.net
DTSTAMP:20260420T070622Z
SUMMARY:Thuismatch ingevuld? (Brasschaat 2G (48) - Tots Keerbergen 1G (51))
DESCRIPTION:Je hebt 36 uur na aanvang om een thuismatch op Badmintonvlaande
 ren in te vullen. Match info: Brasschaat 2G (48) - Tots Keerbergen 1G (51)
  - Link: https://www.badmintonvlaanderen.be/sport/teammatch.aspx?id=015ED3
 7D-B12B-47D6-B567-F9EECBF6F439&match=1103
DTSTART;TZID=Europe/Brussels:20231128T070000
DTEND;TZID=Europe/Brussels:20231128T070000
END:VEVENT
BEGIN:VEVENT
UID:015ED37D-B12B-47D6-B567-F9EECBF6F439-22-1091_homereminder@211.badminton
 ners.net
DTSTAMP:20260420T070622Z
SUMMARY:Thuismatch ingevuld? (Brasschaat 2G (48) - Klein Boom 1G (51))
DESCRIPTION:Je hebt 36 uur na aanvang om een thuismatch op Badmintonvlaande
 ren in te vullen. Match info: Brasschaat 2G (48) - Klein Boom 1G (51) - Li
 nk: https://www.badmintonvlaanderen.be/sport/teammatch.aspx?id=015ED37D-B1
 2B-47D6-B567-F9EECBF6F439&match=1091
DTSTART;TZID=Europe/Brussels:20231202T080000
DTEND;TZID=Europe/Brussels:20231202T080000
END:VEVENT
BEGIN:VEVENT
UID:015ED37D-B12B-47D6-B567-F9EECBF6F439-22-1085_homereminder@211.badminton
 ners.net
DTSTAMP:20260420T070622Z
SUMMARY:Thuismatch ingevuld? (Brasschaat 2G (48) - Dijlevallei 5G (58))
DESCRIPTION:Je hebt 36 uur na aanvang om een thuismatch op Badmintonvlaande
 ren in te vullen. Match info: Brasschaat 2G (48) - Dijlevallei 5G (58) - L
 ink: https://www.badmintonvlaanderen.be/sport/teammatch.aspx?id=015ED37D-B
 12B-47D6-B567-F9EECBF6F439&match=1085
DTSTART;TZID=Europe/Brussels:20240123T070000
DTEND;TZID=Europe/Brussels:20240123T070000
END:VEVENT
BEGIN:VEVENT
UID:015ED37D-B12B-47D6-B567-F9EECBF6F439-22-1109_homereminder@211.badminton
 ners.net
DTSTAMP:20260420T070622Z
SUMMARY:Thuismatch ingevuld? (Brasschaat 2G (48) - W&L BV 3G (62))
DESCRIPTION:Je hebt 36 uur na aanvang om een thuismatch op Badmintonvlaande
 ren in te vullen. Match info: Brasschaat 2G (48) - W&L BV 3G (62) - Link: 
 https://www.badmintonvlaanderen.be/sport/teammatch.aspx?id=015ED37D-B12B-4
 7D6-B567-F9EECBF6F439&match=1109
DTSTART;TZID=Europe/Brussels:20240319T070000
DTEND;TZID=Europe/Brussels:20240319T070000
END:VEVENT
BEGIN:VEVENT
UID:015ED37D-B12B-47D6-B567-F9EECBF6F439-22-1097_homereminder@211.badminton
 ners.net
DTSTAMP:20260420T070622Z
SUMMARY:Thuismatch ingevuld? (Brasschaat 2G (48) - Olve 3G (49))
DESCRIPTION:Je hebt 36 uur na aanvang om een thuismatch op Badmintonvlaande
 ren in te vullen. Match info: Brasschaat 2G (48) - Olve 3G (49) - Link: ht
 tps://www.badmintonvlaanderen.be/sport/teammatch.aspx?id=015ED37D-B12B-47D
 6-B567-F9EECBF6F439&match=1097
DTSTART;TZID=Europe/Brussels:20240430T070000
DTEND;TZID=Europe/Brussels:20240430T070000
END:VEVENT
BEGIN:VEVENT
UID:015ED37D-B12B-47D6-B567-F9EECBF6F439-22-1074_awayreminder@211.badminton
 ners.net
DTSTAMP:20260420T070622Z
SUMMARY:Uitmatch bevestigd? (Dijlevallei 5G (58) - Brasschaat 2G (48))
DESCRIPTION:Je hebt 72 uur na aanvang om een uitmatch op Badmintonvlaandere
 n in te vullen. Match info: Dijlevallei 5G (58) - Brasschaat 2G (48) - Lin
 k: https://www.badmintonvlaanderen.be/sport/teammatch.aspx?id=015ED37D-B12
 B-47D6-B567-F9EECBF6F439&match=1074
DTSTART;TZID=Europe/Brussels:20230906T140000
DTEND;TZID=Europe/Brussels:20230906T140000
END:VEVENT
BEGIN:VEVENT
UID:015ED37D-B12B-47D6-B567-F9EECBF6F439-22-1078_awayreminder@211.badminton
 ners.net
DTSTAMP:20260420T070622Z
SUMMARY:Uitmatch bevestigd? (W&L BV 3G (62) - Brasschaat 2G (48))
DESCRIPTION:Je hebt 72 uur na aanvang om een uitmatch op Badmintonvlaandere
 n in te vullen. Match info: W&L BV 3G (62) - Brasschaat 2G (48) - Link: ht
 tps://www.badmintonvlaanderen.be/sport/teammatch.aspx?id=015ED37D-B12B-47D
 6-B567-F9EECBF6F439&match=1078
DTSTART;TZID=Europe/Brussels:20231101T130000
DTEND;TZID=Europe/Brussels:20231101T130000
END:VEVENT
BEGIN:VEVENT
UID:015ED37D-B12B-47D6-B567-F9EECBF6F439-22-1076_awayreminder@211.badminton
 ners.net
DTSTAMP:20260420T070622Z
SUMMARY:Uitmatch bevestigd? (Olve 3G (49) - Brasschaat 2G (48))
DESCRIPTION:Je hebt 72 uur na aanvang om een uitmatch op Badmintonvlaandere
 n in te vullen. Match info: Olve 3G (49) - Brasschaat 2G (48) - Link: http
 s://www.badmintonvlaanderen.be/sport/teammatch.aspx?id=015ED37D-B12B-47D6-
 B567-F9EECBF6F439&match=1076
DTSTART;TZID=Europe/Brussels:20231212T103000
DTEND;TZID=Europe/Brussels:20231212T103000
END:VEVENT
BEGIN:VEVENT
UID:015ED37D-B12B-47D6-B567-F9EECBF6F439-22-1075_awayreminder@211.badminton
 ners.net
DTSTAMP:20260420T070622Z
SUMMARY:Uitmatch bevestigd? (Klein Boom 1G (51) - Brasschaat 2G (48))
DESCRIPTION:Je hebt 72 uur na aanvang om een uitmatch op Badmintonvlaandere
 n in te vullen. Match info: Klein Boom 1G (51) - Brasschaat 2G (48) - Link
 : https://www.badmintonvlaanderen.be/sport/teammatch.aspx?id=015ED37D-B12B
 -47D6-B567-F9EECBF6F439&match=1075
DTSTART;TZID=Europe/Brussels:20240110T190000
DTEND;TZID=Europe/Brussels:20240110T190000
END:VEVENT
BEGIN:VEVENT
UID:015ED37D-B12B-47D6-B567-F9EECBF6F439-22-1073_awayreminder@211.badminton
 ners.net
DTSTAMP:20260420T070622Z
SUMMARY:Uitmatch bevestigd? (De Klamp 1G (61) - Brasschaat 2G (48))
DESCRIPTION:Je hebt 72 uur na aanvang om een uitmatch op Badmintonvlaandere
 n in te vullen. Match info: De Klamp 1G (61) - Brasschaat 2G (48) - Link: 
 https://www.badmintonvlaanderen.be/sport/teammatch.aspx?id=015ED37D-B12B-4
 7D6-B567-F9EECBF6F439&match=1073
DTSTART;TZID=Europe/Brussels:20240221T181500
DTEND;TZID=Europe/Brussels:20240221T181500
END:VEVENT
BEGIN:VEVENT
UID:015ED37D-B12B-47D6-B567-F9EECBF6F439-22-1077_awayreminder@211.badminton
 ners.net
DTSTAMP:20260420T070622Z
SUMMARY:Uitmatch bevestigd? (Tots Keerbergen 1G (51) - Brasschaat 2G (48))
DESCRIPTION:Je hebt 72 uur na aanvang om een uitmatch op Badmintonvlaandere
 n in te vullen. Match info: Tots Keerbergen 1G (51) - Brasschaat 2G (48) -
  Link: https://www.badmintonvlaanderen.be/sport/teammatch.aspx?id=015ED37D
 -B12B-47D6-B567-F9EECBF6F439&match=1077
DTSTART;TZID=Europe/Brussels:20240417T190000
DTEND;TZID=Europe/Brussels:20240417T190000
END:VEVENT
END:VCALENDAR