BEGIN:VCALENDAR
VERSION:2.0
PRODID:spatie/icalendar-generator
NAME:dijlevallei_5g_58_reminders
X-WR-CALNAME:dijlevallei_5g_58_reminders
BEGIN:VTIMEZONE
TZID:Europe/Brussels
BEGIN:DAYLIGHT
DTSTART:20230326T010000
TZOFFSETFROM:+0100
TZOFFSETTO:+0200
END:DAYLIGHT
BEGIN:STANDARD
DTSTART:20231029T030000
TZOFFSETFROM:+0200
TZOFFSETTO:+0100
END:STANDARD
BEGIN:DAYLIGHT
DTSTART:20240331T010000
TZOFFSETFROM:+0100
TZOFFSETTO:+0200
END:DAYLIGHT
BEGIN:STANDARD
DTSTART:20241027T030000
TZOFFSETFROM:+0200
TZOFFSETTO:+0100
END:STANDARD
END:VTIMEZONE
BEGIN:VTIMEZONE
TZID:UTC
BEGIN:STANDARD
DTSTART:20250724T070620
TZOFFSETFROM:+0000
TZOFFSETTO:+0000
END:STANDARD
END:VTIMEZONE
BEGIN:VEVENT
UID:015ED37D-B12B-47D6-B567-F9EECBF6F439-22-1074_homereminder@277.badminton
 ners.net
DTSTAMP:20260420T070620Z
SUMMARY:Thuismatch ingevuld? (Dijlevallei 5G (58) - Brasschaat 2G (48))
DESCRIPTION:Je hebt 36 uur na aanvang om een thuismatch op Badmintonvlaande
 ren in te vullen. Match info: Dijlevallei 5G (58) - Brasschaat 2G (48) - L
 ink: https://www.badmintonvlaanderen.be/sport/teammatch.aspx?id=015ED37D-B
 12B-47D6-B567-F9EECBF6F439&match=1074
DTSTART;TZID=Europe/Brussels:20230905T020000
DTEND;TZID=Europe/Brussels:20230905T020000
END:VEVENT
BEGIN:VEVENT
UID:015ED37D-B12B-47D6-B567-F9EECBF6F439-22-1105_homereminder@277.badminton
 ners.net
DTSTAMP:20260420T070620Z
SUMMARY:Thuismatch ingevuld? (Dijlevallei 5G (58) - Tots Keerbergen 1G (51)
 )
DESCRIPTION:Je hebt 36 uur na aanvang om een thuismatch op Badmintonvlaande
 ren in te vullen. Match info: Dijlevallei 5G (58) - Tots Keerbergen 1G (51
 ) - Link: https://www.badmintonvlaanderen.be/sport/teammatch.aspx?id=015ED
 37D-B12B-47D6-B567-F9EECBF6F439&match=1105
DTSTART;TZID=Europe/Brussels:20231002T043000
DTEND;TZID=Europe/Brussels:20231002T043000
END:VEVENT
BEGIN:VEVENT
UID:015ED37D-B12B-47D6-B567-F9EECBF6F439-22-1093_homereminder@277.badminton
 ners.net
DTSTAMP:20260420T070620Z
SUMMARY:Thuismatch ingevuld? (Dijlevallei 5G (58) - Klein Boom 1G (51))
DESCRIPTION:Je hebt 36 uur na aanvang om een thuismatch op Badmintonvlaande
 ren in te vullen. Match info: Dijlevallei 5G (58) - Klein Boom 1G (51) - L
 ink: https://www.badmintonvlaanderen.be/sport/teammatch.aspx?id=015ED37D-B
 12B-47D6-B567-F9EECBF6F439&match=1093
DTSTART;TZID=Europe/Brussels:20231003T020000
DTEND;TZID=Europe/Brussels:20231003T020000
END:VEVENT
BEGIN:VEVENT
UID:015ED37D-B12B-47D6-B567-F9EECBF6F439-22-1080_homereminder@277.badminton
 ners.net
DTSTAMP:20260420T070620Z
SUMMARY:Thuismatch ingevuld? (Dijlevallei 5G (58) - De Klamp 1G (61))
DESCRIPTION:Je hebt 36 uur na aanvang om een thuismatch op Badmintonvlaande
 ren in te vullen. Match info: Dijlevallei 5G (58) - De Klamp 1G (61) - Lin
 k: https://www.badmintonvlaanderen.be/sport/teammatch.aspx?id=015ED37D-B12
 B-47D6-B567-F9EECBF6F439&match=1080
DTSTART;TZID=Europe/Brussels:20240109T020000
DTEND;TZID=Europe/Brussels:20240109T020000
END:VEVENT
BEGIN:VEVENT
UID:015ED37D-B12B-47D6-B567-F9EECBF6F439-22-1099_homereminder@277.badminton
 ners.net
DTSTAMP:20260420T070620Z
SUMMARY:Thuismatch ingevuld? (Dijlevallei 5G (58) - Olve 3G (49))
DESCRIPTION:Je hebt 36 uur na aanvang om een thuismatch op Badmintonvlaande
 ren in te vullen. Match info: Dijlevallei 5G (58) - Olve 3G (49) - Link: h
 ttps://www.badmintonvlaanderen.be/sport/teammatch.aspx?id=015ED37D-B12B-47
 D6-B567-F9EECBF6F439&match=1099
DTSTART;TZID=Europe/Brussels:20240305T020000
DTEND;TZID=Europe/Brussels:20240305T020000
END:VEVENT
BEGIN:VEVENT
UID:015ED37D-B12B-47D6-B567-F9EECBF6F439-22-1111_homereminder@277.badminton
 ners.net
DTSTAMP:20260420T070620Z
SUMMARY:Thuismatch ingevuld? (Dijlevallei 5G (58) - W&L BV 3G (62))
DESCRIPTION:Je hebt 36 uur na aanvang om een thuismatch op Badmintonvlaande
 ren in te vullen. Match info: Dijlevallei 5G (58) - W&L BV 3G (62) - Link:
  https://www.badmintonvlaanderen.be/sport/teammatch.aspx?id=015ED37D-B12B-
 47D6-B567-F9EECBF6F439&match=1111
DTSTART;TZID=Europe/Brussels:20240430T020000
DTEND;TZID=Europe/Brussels:20240430T020000
END:VEVENT
BEGIN:VEVENT
UID:015ED37D-B12B-47D6-B567-F9EECBF6F439-22-1086_awayreminder@277.badminton
 ners.net
DTSTAMP:20260420T070620Z
SUMMARY:Uitmatch bevestigd? (De Klamp 1G (61) - Dijlevallei 5G (58))
DESCRIPTION:Je hebt 72 uur na aanvang om een uitmatch op Badmintonvlaandere
 n in te vullen. Match info: De Klamp 1G (61) - Dijlevallei 5G (58) - Link:
  https://www.badmintonvlaanderen.be/sport/teammatch.aspx?id=015ED37D-B12B-
 47D6-B567-F9EECBF6F439&match=1086
DTSTART;TZID=Europe/Brussels:20230920T181500
DTEND;TZID=Europe/Brussels:20230920T181500
END:VEVENT
BEGIN:VEVENT
UID:015ED37D-B12B-47D6-B567-F9EECBF6F439-22-1088_awayreminder@277.badminton
 ners.net
DTSTAMP:20260420T070620Z
SUMMARY:Uitmatch bevestigd? (Olve 3G (49) - Dijlevallei 5G (58))
DESCRIPTION:Je hebt 72 uur na aanvang om een uitmatch op Badmintonvlaandere
 n in te vullen. Match info: Olve 3G (49) - Dijlevallei 5G (58) - Link: htt
 ps://www.badmintonvlaanderen.be/sport/teammatch.aspx?id=015ED37D-B12B-47D6
 -B567-F9EECBF6F439&match=1088
DTSTART;TZID=Europe/Brussels:20231031T093000
DTEND;TZID=Europe/Brussels:20231031T093000
END:VEVENT
BEGIN:VEVENT
UID:015ED37D-B12B-47D6-B567-F9EECBF6F439-22-1090_awayreminder@277.badminton
 ners.net
DTSTAMP:20260420T070620Z
SUMMARY:Uitmatch bevestigd? (W&L BV 3G (62) - Dijlevallei 5G (58))
DESCRIPTION:Je hebt 72 uur na aanvang om een uitmatch op Badmintonvlaandere
 n in te vullen. Match info: W&L BV 3G (62) - Dijlevallei 5G (58) - Link: h
 ttps://www.badmintonvlaanderen.be/sport/teammatch.aspx?id=015ED37D-B12B-47
 D6-B567-F9EECBF6F439&match=1090
DTSTART;TZID=Europe/Brussels:20231213T130000
DTEND;TZID=Europe/Brussels:20231213T130000
END:VEVENT
BEGIN:VEVENT
UID:015ED37D-B12B-47D6-B567-F9EECBF6F439-22-1085_awayreminder@277.badminton
 ners.net
DTSTAMP:20260420T070620Z
SUMMARY:Uitmatch bevestigd? (Brasschaat 2G (48) - Dijlevallei 5G (58))
DESCRIPTION:Je hebt 72 uur na aanvang om een uitmatch op Badmintonvlaandere
 n in te vullen. Match info: Brasschaat 2G (48) - Dijlevallei 5G (58) - Lin
 k: https://www.badmintonvlaanderen.be/sport/teammatch.aspx?id=015ED37D-B12
 B-47D6-B567-F9EECBF6F439&match=1085
DTSTART;TZID=Europe/Brussels:20240124T190000
DTEND;TZID=Europe/Brussels:20240124T190000
END:VEVENT
BEGIN:VEVENT
UID:015ED37D-B12B-47D6-B567-F9EECBF6F439-22-1089_awayreminder@277.badminton
 ners.net
DTSTAMP:20260420T070620Z
SUMMARY:Uitmatch bevestigd? (Tots Keerbergen 1G (51) - Dijlevallei 5G (58))
DESCRIPTION:Je hebt 72 uur na aanvang om een uitmatch op Badmintonvlaandere
 n in te vullen. Match info: Tots Keerbergen 1G (51) - Dijlevallei 5G (58) 
 - Link: https://www.badmintonvlaanderen.be/sport/teammatch.aspx?id=015ED37
 D-B12B-47D6-B567-F9EECBF6F439&match=1089
DTSTART;TZID=Europe/Brussels:20240320T190000
DTEND;TZID=Europe/Brussels:20240320T190000
END:VEVENT
BEGIN:VEVENT
UID:015ED37D-B12B-47D6-B567-F9EECBF6F439-22-1087_awayreminder@277.badminton
 ners.net
DTSTAMP:20260420T070620Z
SUMMARY:Uitmatch bevestigd? (Klein Boom 1G (51) - Dijlevallei 5G (58))
DESCRIPTION:Je hebt 72 uur na aanvang om een uitmatch op Badmintonvlaandere
 n in te vullen. Match info: Klein Boom 1G (51) - Dijlevallei 5G (58) - Lin
 k: https://www.badmintonvlaanderen.be/sport/teammatch.aspx?id=015ED37D-B12
 B-47D6-B567-F9EECBF6F439&match=1087
DTSTART;TZID=Europe/Brussels:20240417T190000
DTEND;TZID=Europe/Brussels:20240417T190000
END:VEVENT
END:VCALENDAR