BEGIN:VCALENDAR
VERSION:2.0
PRODID:spatie/icalendar-generator
NAME:olve_3g_49_reminders
X-WR-CALNAME:olve_3g_49_reminders
BEGIN:VTIMEZONE
TZID:Europe/Brussels
BEGIN:DAYLIGHT
DTSTART:20230326T010000
TZOFFSETFROM:+0100
TZOFFSETTO:+0200
END:DAYLIGHT
BEGIN:STANDARD
DTSTART:20231029T030000
TZOFFSETFROM:+0200
TZOFFSETTO:+0100
END:STANDARD
BEGIN:DAYLIGHT
DTSTART:20240331T010000
TZOFFSETFROM:+0100
TZOFFSETTO:+0200
END:DAYLIGHT
BEGIN:STANDARD
DTSTART:20241027T030000
TZOFFSETFROM:+0200
TZOFFSETTO:+0100
END:STANDARD
END:VTIMEZONE
BEGIN:VTIMEZONE
TZID:UTC
BEGIN:STANDARD
DTSTART:20250724T072350
TZOFFSETFROM:+0000
TZOFFSETTO:+0000
END:STANDARD
END:VTIMEZONE
BEGIN:VEVENT
UID:015ED37D-B12B-47D6-B567-F9EECBF6F439-22-1107_homereminder@279.badminton
 ners.net
DTSTAMP:20260420T072350Z
SUMMARY:Thuismatch ingevuld? (Olve 3G (49) - Tots Keerbergen 1G (51))
DESCRIPTION:Je hebt 36 uur na aanvang om een thuismatch op Badmintonvlaande
 ren in te vullen. Match info: Olve 3G (49) - Tots Keerbergen 1G (51) - Lin
 k: https://www.badmintonvlaanderen.be/sport/teammatch.aspx?id=015ED37D-B12
 B-47D6-B567-F9EECBF6F439&match=1107
DTSTART;TZID=Europe/Brussels:20231015T223000
DTEND;TZID=Europe/Brussels:20231015T223000
END:VEVENT
BEGIN:VEVENT
UID:015ED37D-B12B-47D6-B567-F9EECBF6F439-22-1088_homereminder@279.badminton
 ners.net
DTSTAMP:20260420T072350Z
SUMMARY:Thuismatch ingevuld? (Olve 3G (49) - Dijlevallei 5G (58))
DESCRIPTION:Je hebt 36 uur na aanvang om een thuismatch op Badmintonvlaande
 ren in te vullen. Match info: Olve 3G (49) - Dijlevallei 5G (58) - Link: h
 ttps://www.badmintonvlaanderen.be/sport/teammatch.aspx?id=015ED37D-B12B-47
 D6-B567-F9EECBF6F439&match=1088
DTSTART;TZID=Europe/Brussels:20231029T213000
DTEND;TZID=Europe/Brussels:20231029T213000
END:VEVENT
BEGIN:VEVENT
UID:015ED37D-B12B-47D6-B567-F9EECBF6F439-22-1076_homereminder@279.badminton
 ners.net
DTSTAMP:20260420T072350Z
SUMMARY:Thuismatch ingevuld? (Olve 3G (49) - Brasschaat 2G (48))
DESCRIPTION:Je hebt 36 uur na aanvang om een thuismatch op Badmintonvlaande
 ren in te vullen. Match info: Olve 3G (49) - Brasschaat 2G (48) - Link: ht
 tps://www.badmintonvlaanderen.be/sport/teammatch.aspx?id=015ED37D-B12B-47D
 6-B567-F9EECBF6F439&match=1076
DTSTART;TZID=Europe/Brussels:20231210T223000
DTEND;TZID=Europe/Brussels:20231210T223000
END:VEVENT
BEGIN:VEVENT
UID:015ED37D-B12B-47D6-B567-F9EECBF6F439-22-1082_homereminder@279.badminton
 ners.net
DTSTAMP:20260420T072350Z
SUMMARY:Thuismatch ingevuld? (Olve 3G (49) - De Klamp 1G (61))
DESCRIPTION:Je hebt 36 uur na aanvang om een thuismatch op Badmintonvlaande
 ren in te vullen. Match info: Olve 3G (49) - De Klamp 1G (61) - Link: http
 s://www.badmintonvlaanderen.be/sport/teammatch.aspx?id=015ED37D-B12B-47D6-
 B567-F9EECBF6F439&match=1082
DTSTART;TZID=Europe/Brussels:20240121T223000
DTEND;TZID=Europe/Brussels:20240121T223000
END:VEVENT
BEGIN:VEVENT
UID:015ED37D-B12B-47D6-B567-F9EECBF6F439-22-1113_homereminder@279.badminton
 ners.net
DTSTAMP:20260420T072350Z
SUMMARY:Thuismatch ingevuld? (Olve 3G (49) - W&L BV 3G (62))
DESCRIPTION:Je hebt 36 uur na aanvang om een thuismatch op Badmintonvlaande
 ren in te vullen. Match info: Olve 3G (49) - W&L BV 3G (62) - Link: https:
 //www.badmintonvlaanderen.be/sport/teammatch.aspx?id=015ED37D-B12B-47D6-B5
 67-F9EECBF6F439&match=1113
DTSTART;TZID=Europe/Brussels:20240218T223000
DTEND;TZID=Europe/Brussels:20240218T223000
END:VEVENT
BEGIN:VEVENT
UID:015ED37D-B12B-47D6-B567-F9EECBF6F439-22-1094_homereminder@279.badminton
 ners.net
DTSTAMP:20260420T072350Z
SUMMARY:Thuismatch ingevuld? (Olve 3G (49) - Klein Boom 1G (51))
DESCRIPTION:Je hebt 36 uur na aanvang om een thuismatch op Badmintonvlaande
 ren in te vullen. Match info: Olve 3G (49) - Klein Boom 1G (51) - Link: ht
 tps://www.badmintonvlaanderen.be/sport/teammatch.aspx?id=015ED37D-B12B-47D
 6-B567-F9EECBF6F439&match=1094
DTSTART;TZID=Europe/Brussels:20240225T223000
DTEND;TZID=Europe/Brussels:20240225T223000
END:VEVENT
BEGIN:VEVENT
UID:015ED37D-B12B-47D6-B567-F9EECBF6F439-22-1102_awayreminder@279.badminton
 ners.net
DTSTAMP:20260420T072350Z
SUMMARY:Uitmatch bevestigd? (W&L BV 3G (62) - Olve 3G (49))
DESCRIPTION:Je hebt 72 uur na aanvang om een uitmatch op Badmintonvlaandere
 n in te vullen. Match info: W&L BV 3G (62) - Olve 3G (49) - Link: https://
 www.badmintonvlaanderen.be/sport/teammatch.aspx?id=015ED37D-B12B-47D6-B567
 -F9EECBF6F439&match=1102
DTSTART;TZID=Europe/Brussels:20230920T130000
DTEND;TZID=Europe/Brussels:20230920T130000
END:VEVENT
BEGIN:VEVENT
UID:015ED37D-B12B-47D6-B567-F9EECBF6F439-22-1100_awayreminder@279.badminton
 ners.net
DTSTAMP:20260420T072350Z
SUMMARY:Uitmatch bevestigd? (Klein Boom 1G (51) - Olve 3G (49))
DESCRIPTION:Je hebt 72 uur na aanvang om een uitmatch op Badmintonvlaandere
 n in te vullen. Match info: Klein Boom 1G (51) - Olve 3G (49) - Link: http
 s://www.badmintonvlaanderen.be/sport/teammatch.aspx?id=015ED37D-B12B-47D6-
 B567-F9EECBF6F439&match=1100
DTSTART;TZID=Europe/Brussels:20231115T190000
DTEND;TZID=Europe/Brussels:20231115T190000
END:VEVENT
BEGIN:VEVENT
UID:015ED37D-B12B-47D6-B567-F9EECBF6F439-22-1098_awayreminder@279.badminton
 ners.net
DTSTAMP:20260420T072350Z
SUMMARY:Uitmatch bevestigd? (De Klamp 1G (61) - Olve 3G (49))
DESCRIPTION:Je hebt 72 uur na aanvang om een uitmatch op Badmintonvlaandere
 n in te vullen. Match info: De Klamp 1G (61) - Olve 3G (49) - Link: https:
 //www.badmintonvlaanderen.be/sport/teammatch.aspx?id=015ED37D-B12B-47D6-B5
 67-F9EECBF6F439&match=1098
DTSTART;TZID=Europe/Brussels:20231213T181500
DTEND;TZID=Europe/Brussels:20231213T181500
END:VEVENT
BEGIN:VEVENT
UID:015ED37D-B12B-47D6-B567-F9EECBF6F439-22-1101_awayreminder@279.badminton
 ners.net
DTSTAMP:20260420T072350Z
SUMMARY:Uitmatch bevestigd? (Tots Keerbergen 1G (51) - Olve 3G (49))
DESCRIPTION:Je hebt 72 uur na aanvang om een uitmatch op Badmintonvlaandere
 n in te vullen. Match info: Tots Keerbergen 1G (51) - Olve 3G (49) - Link:
  https://www.badmintonvlaanderen.be/sport/teammatch.aspx?id=015ED37D-B12B-
 47D6-B567-F9EECBF6F439&match=1101
DTSTART;TZID=Europe/Brussels:20240110T190000
DTEND;TZID=Europe/Brussels:20240110T190000
END:VEVENT
BEGIN:VEVENT
UID:015ED37D-B12B-47D6-B567-F9EECBF6F439-22-1099_awayreminder@279.badminton
 ners.net
DTSTAMP:20260420T072350Z
SUMMARY:Uitmatch bevestigd? (Dijlevallei 5G (58) - Olve 3G (49))
DESCRIPTION:Je hebt 72 uur na aanvang om een uitmatch op Badmintonvlaandere
 n in te vullen. Match info: Dijlevallei 5G (58) - Olve 3G (49) - Link: htt
 ps://www.badmintonvlaanderen.be/sport/teammatch.aspx?id=015ED37D-B12B-47D6
 -B567-F9EECBF6F439&match=1099
DTSTART;TZID=Europe/Brussels:20240306T140000
DTEND;TZID=Europe/Brussels:20240306T140000
END:VEVENT
BEGIN:VEVENT
UID:015ED37D-B12B-47D6-B567-F9EECBF6F439-22-1097_awayreminder@279.badminton
 ners.net
DTSTAMP:20260420T072350Z
SUMMARY:Uitmatch bevestigd? (Brasschaat 2G (48) - Olve 3G (49))
DESCRIPTION:Je hebt 72 uur na aanvang om een uitmatch op Badmintonvlaandere
 n in te vullen. Match info: Brasschaat 2G (48) - Olve 3G (49) - Link: http
 s://www.badmintonvlaanderen.be/sport/teammatch.aspx?id=015ED37D-B12B-47D6-
 B567-F9EECBF6F439&match=1097
DTSTART;TZID=Europe/Brussels:20240501T190000
DTEND;TZID=Europe/Brussels:20240501T190000
END:VEVENT
END:VCALENDAR