BEGIN:VCALENDAR
VERSION:2.0
PRODID:spatie/icalendar-generator
NAME:tots_keerbergen_1g_51_reminders
X-WR-CALNAME:tots_keerbergen_1g_51_reminders
BEGIN:VTIMEZONE
TZID:Europe/Brussels
BEGIN:DAYLIGHT
DTSTART:20230326T010000
TZOFFSETFROM:+0100
TZOFFSETTO:+0200
END:DAYLIGHT
BEGIN:STANDARD
DTSTART:20231029T030000
TZOFFSETFROM:+0200
TZOFFSETTO:+0100
END:STANDARD
BEGIN:DAYLIGHT
DTSTART:20240331T010000
TZOFFSETFROM:+0100
TZOFFSETTO:+0200
END:DAYLIGHT
BEGIN:STANDARD
DTSTART:20241027T030000
TZOFFSETFROM:+0200
TZOFFSETTO:+0100
END:STANDARD
END:VTIMEZONE
BEGIN:VTIMEZONE
TZID:UTC
BEGIN:STANDARD
DTSTART:20250724T054057
TZOFFSETFROM:+0000
TZOFFSETTO:+0000
END:STANDARD
END:VTIMEZONE
BEGIN:VEVENT
UID:015ED37D-B12B-47D6-B567-F9EECBF6F439-22-1114_homereminder@283.badminton
 ners.net
DTSTAMP:20260420T054057Z
SUMMARY:Thuismatch ingevuld? (Tots Keerbergen 1G (51) - W&L BV 3G (62))
DESCRIPTION:Je hebt 36 uur na aanvang om een thuismatch op Badmintonvlaande
 ren in te vullen. Match info: Tots Keerbergen 1G (51) - W&L BV 3G (62) - L
 ink: https://www.badmintonvlaanderen.be/sport/teammatch.aspx?id=015ED37D-B
 12B-47D6-B567-F9EECBF6F439&match=1114
DTSTART;TZID=Europe/Brussels:20231003T070000
DTEND;TZID=Europe/Brussels:20231003T070000
END:VEVENT
BEGIN:VEVENT
UID:015ED37D-B12B-47D6-B567-F9EECBF6F439-22-1083_homereminder@283.badminton
 ners.net
DTSTAMP:20260420T054057Z
SUMMARY:Thuismatch ingevuld? (Tots Keerbergen 1G (51) - De Klamp 1G (61))
DESCRIPTION:Je hebt 36 uur na aanvang om een thuismatch op Badmintonvlaande
 ren in te vullen. Match info: Tots Keerbergen 1G (51) - De Klamp 1G (61) -
  Link: https://www.badmintonvlaanderen.be/sport/teammatch.aspx?id=015ED37D
 -B12B-47D6-B567-F9EECBF6F439&match=1083
DTSTART;TZID=Europe/Brussels:20231031T070000
DTEND;TZID=Europe/Brussels:20231031T070000
END:VEVENT
BEGIN:VEVENT
UID:015ED37D-B12B-47D6-B567-F9EECBF6F439-22-1095_homereminder@283.badminton
 ners.net
DTSTAMP:20260420T054057Z
SUMMARY:Thuismatch ingevuld? (Tots Keerbergen 1G (51) - Klein Boom 1G (51))
DESCRIPTION:Je hebt 36 uur na aanvang om een thuismatch op Badmintonvlaande
 ren in te vullen. Match info: Tots Keerbergen 1G (51) - Klein Boom 1G (51)
  - Link: https://www.badmintonvlaanderen.be/sport/teammatch.aspx?id=015ED3
 7D-B12B-47D6-B567-F9EECBF6F439&match=1095
DTSTART;TZID=Europe/Brussels:20231212T070000
DTEND;TZID=Europe/Brussels:20231212T070000
END:VEVENT
BEGIN:VEVENT
UID:015ED37D-B12B-47D6-B567-F9EECBF6F439-22-1101_homereminder@283.badminton
 ners.net
DTSTAMP:20260420T054057Z
SUMMARY:Thuismatch ingevuld? (Tots Keerbergen 1G (51) - Olve 3G (49))
DESCRIPTION:Je hebt 36 uur na aanvang om een thuismatch op Badmintonvlaande
 ren in te vullen. Match info: Tots Keerbergen 1G (51) - Olve 3G (49) - Lin
 k: https://www.badmintonvlaanderen.be/sport/teammatch.aspx?id=015ED37D-B12
 B-47D6-B567-F9EECBF6F439&match=1101
DTSTART;TZID=Europe/Brussels:20240109T070000
DTEND;TZID=Europe/Brussels:20240109T070000
END:VEVENT
BEGIN:VEVENT
UID:015ED37D-B12B-47D6-B567-F9EECBF6F439-22-1089_homereminder@283.badminton
 ners.net
DTSTAMP:20260420T054057Z
SUMMARY:Thuismatch ingevuld? (Tots Keerbergen 1G (51) - Dijlevallei 5G (58)
 )
DESCRIPTION:Je hebt 36 uur na aanvang om een thuismatch op Badmintonvlaande
 ren in te vullen. Match info: Tots Keerbergen 1G (51) - Dijlevallei 5G (58
 ) - Link: https://www.badmintonvlaanderen.be/sport/teammatch.aspx?id=015ED
 37D-B12B-47D6-B567-F9EECBF6F439&match=1089
DTSTART;TZID=Europe/Brussels:20240319T070000
DTEND;TZID=Europe/Brussels:20240319T070000
END:VEVENT
BEGIN:VEVENT
UID:015ED37D-B12B-47D6-B567-F9EECBF6F439-22-1077_homereminder@283.badminton
 ners.net
DTSTAMP:20260420T054057Z
SUMMARY:Thuismatch ingevuld? (Tots Keerbergen 1G (51) - Brasschaat 2G (48))
DESCRIPTION:Je hebt 36 uur na aanvang om een thuismatch op Badmintonvlaande
 ren in te vullen. Match info: Tots Keerbergen 1G (51) - Brasschaat 2G (48)
  - Link: https://www.badmintonvlaanderen.be/sport/teammatch.aspx?id=015ED3
 7D-B12B-47D6-B567-F9EECBF6F439&match=1077
DTSTART;TZID=Europe/Brussels:20240416T070000
DTEND;TZID=Europe/Brussels:20240416T070000
END:VEVENT
BEGIN:VEVENT
UID:015ED37D-B12B-47D6-B567-F9EECBF6F439-22-1105_awayreminder@283.badminton
 ners.net
DTSTAMP:20260420T054057Z
SUMMARY:Uitmatch bevestigd? (Dijlevallei 5G (58) - Tots Keerbergen 1G (51))
DESCRIPTION:Je hebt 72 uur na aanvang om een uitmatch op Badmintonvlaandere
 n in te vullen. Match info: Dijlevallei 5G (58) - Tots Keerbergen 1G (51) 
 - Link: https://www.badmintonvlaanderen.be/sport/teammatch.aspx?id=015ED37
 D-B12B-47D6-B567-F9EECBF6F439&match=1105
DTSTART;TZID=Europe/Brussels:20231003T163000
DTEND;TZID=Europe/Brussels:20231003T163000
END:VEVENT
BEGIN:VEVENT
UID:015ED37D-B12B-47D6-B567-F9EECBF6F439-22-1107_awayreminder@283.badminton
 ners.net
DTSTAMP:20260420T054057Z
SUMMARY:Uitmatch bevestigd? (Olve 3G (49) - Tots Keerbergen 1G (51))
DESCRIPTION:Je hebt 72 uur na aanvang om een uitmatch op Badmintonvlaandere
 n in te vullen. Match info: Olve 3G (49) - Tots Keerbergen 1G (51) - Link:
  https://www.badmintonvlaanderen.be/sport/teammatch.aspx?id=015ED37D-B12B-
 47D6-B567-F9EECBF6F439&match=1107
DTSTART;TZID=Europe/Brussels:20231017T103000
DTEND;TZID=Europe/Brussels:20231017T103000
END:VEVENT
BEGIN:VEVENT
UID:015ED37D-B12B-47D6-B567-F9EECBF6F439-22-1103_awayreminder@283.badminton
 ners.net
DTSTAMP:20260420T054057Z
SUMMARY:Uitmatch bevestigd? (Brasschaat 2G (48) - Tots Keerbergen 1G (51))
DESCRIPTION:Je hebt 72 uur na aanvang om een uitmatch op Badmintonvlaandere
 n in te vullen. Match info: Brasschaat 2G (48) - Tots Keerbergen 1G (51) -
  Link: https://www.badmintonvlaanderen.be/sport/teammatch.aspx?id=015ED37D
 -B12B-47D6-B567-F9EECBF6F439&match=1103
DTSTART;TZID=Europe/Brussels:20231129T190000
DTEND;TZID=Europe/Brussels:20231129T190000
END:VEVENT
BEGIN:VEVENT
UID:015ED37D-B12B-47D6-B567-F9EECBF6F439-22-1106_awayreminder@283.badminton
 ners.net
DTSTAMP:20260420T054057Z
SUMMARY:Uitmatch bevestigd? (Klein Boom 1G (51) - Tots Keerbergen 1G (51))
DESCRIPTION:Je hebt 72 uur na aanvang om een uitmatch op Badmintonvlaandere
 n in te vullen. Match info: Klein Boom 1G (51) - Tots Keerbergen 1G (51) -
  Link: https://www.badmintonvlaanderen.be/sport/teammatch.aspx?id=015ED37D
 -B12B-47D6-B567-F9EECBF6F439&match=1106
DTSTART;TZID=Europe/Brussels:20240221T190000
DTEND;TZID=Europe/Brussels:20240221T190000
END:VEVENT
BEGIN:VEVENT
UID:015ED37D-B12B-47D6-B567-F9EECBF6F439-22-1108_awayreminder@283.badminton
 ners.net
DTSTAMP:20260420T054057Z
SUMMARY:Uitmatch bevestigd? (W&L BV 3G (62) - Tots Keerbergen 1G (51))
DESCRIPTION:Je hebt 72 uur na aanvang om een uitmatch op Badmintonvlaandere
 n in te vullen. Match info: W&L BV 3G (62) - Tots Keerbergen 1G (51) - Lin
 k: https://www.badmintonvlaanderen.be/sport/teammatch.aspx?id=015ED37D-B12
 B-47D6-B567-F9EECBF6F439&match=1108
DTSTART;TZID=Europe/Brussels:20240306T130000
DTEND;TZID=Europe/Brussels:20240306T130000
END:VEVENT
BEGIN:VEVENT
UID:015ED37D-B12B-47D6-B567-F9EECBF6F439-22-1104_awayreminder@283.badminton
 ners.net
DTSTAMP:20260420T054057Z
SUMMARY:Uitmatch bevestigd? (De Klamp 1G (61) - Tots Keerbergen 1G (51))
DESCRIPTION:Je hebt 72 uur na aanvang om een uitmatch op Badmintonvlaandere
 n in te vullen. Match info: De Klamp 1G (61) - Tots Keerbergen 1G (51) - L
 ink: https://www.badmintonvlaanderen.be/sport/teammatch.aspx?id=015ED37D-B
 12B-47D6-B567-F9EECBF6F439&match=1104
DTSTART;TZID=Europe/Brussels:20240501T181500
DTEND;TZID=Europe/Brussels:20240501T181500
END:VEVENT
END:VCALENDAR