BEGIN:VCALENDAR
VERSION:2.0
PRODID:spatie/icalendar-generator
NAME:wl_bv_3g_62_reminders
X-WR-CALNAME:wl_bv_3g_62_reminders
BEGIN:VTIMEZONE
TZID:Europe/Brussels
BEGIN:DAYLIGHT
DTSTART:20230326T010000
TZOFFSETFROM:+0100
TZOFFSETTO:+0200
END:DAYLIGHT
BEGIN:STANDARD
DTSTART:20231029T030000
TZOFFSETFROM:+0200
TZOFFSETTO:+0100
END:STANDARD
BEGIN:DAYLIGHT
DTSTART:20240331T010000
TZOFFSETFROM:+0100
TZOFFSETTO:+0200
END:DAYLIGHT
BEGIN:STANDARD
DTSTART:20241027T030000
TZOFFSETFROM:+0200
TZOFFSETTO:+0100
END:STANDARD
END:VTIMEZONE
BEGIN:VTIMEZONE
TZID:UTC
BEGIN:STANDARD
DTSTART:20250726T082649
TZOFFSETFROM:+0000
TZOFFSETTO:+0000
END:STANDARD
END:VTIMEZONE
BEGIN:VEVENT
UID:015ED37D-B12B-47D6-B567-F9EECBF6F439-22-1102_homereminder@289.badminton
 ners.net
DTSTAMP:20260422T082649Z
SUMMARY:Thuismatch ingevuld? (W&L BV 3G (62) - Olve 3G (49))
DESCRIPTION:Je hebt 36 uur na aanvang om een thuismatch op Badmintonvlaande
 ren in te vullen. Match info: W&L BV 3G (62) - Olve 3G (49) - Link: https:
 //www.badmintonvlaanderen.be/sport/teammatch.aspx?id=015ED37D-B12B-47D6-B5
 67-F9EECBF6F439&match=1102
DTSTART;TZID=Europe/Brussels:20230919T010000
DTEND;TZID=Europe/Brussels:20230919T010000
END:VEVENT
BEGIN:VEVENT
UID:015ED37D-B12B-47D6-B567-F9EECBF6F439-22-1078_homereminder@289.badminton
 ners.net
DTSTAMP:20260422T082649Z
SUMMARY:Thuismatch ingevuld? (W&L BV 3G (62) - Brasschaat 2G (48))
DESCRIPTION:Je hebt 36 uur na aanvang om een thuismatch op Badmintonvlaande
 ren in te vullen. Match info: W&L BV 3G (62) - Brasschaat 2G (48) - Link: 
 https://www.badmintonvlaanderen.be/sport/teammatch.aspx?id=015ED37D-B12B-4
 7D6-B567-F9EECBF6F439&match=1078
DTSTART;TZID=Europe/Brussels:20231031T010000
DTEND;TZID=Europe/Brussels:20231031T010000
END:VEVENT
BEGIN:VEVENT
UID:015ED37D-B12B-47D6-B567-F9EECBF6F439-22-1090_homereminder@289.badminton
 ners.net
DTSTAMP:20260422T082649Z
SUMMARY:Thuismatch ingevuld? (W&L BV 3G (62) - Dijlevallei 5G (58))
DESCRIPTION:Je hebt 36 uur na aanvang om een thuismatch op Badmintonvlaande
 ren in te vullen. Match info: W&L BV 3G (62) - Dijlevallei 5G (58) - Link:
  https://www.badmintonvlaanderen.be/sport/teammatch.aspx?id=015ED37D-B12B-
 47D6-B567-F9EECBF6F439&match=1090
DTSTART;TZID=Europe/Brussels:20231212T010000
DTEND;TZID=Europe/Brussels:20231212T010000
END:VEVENT
BEGIN:VEVENT
UID:015ED37D-B12B-47D6-B567-F9EECBF6F439-22-1096_homereminder@289.badminton
 ners.net
DTSTAMP:20260422T082649Z
SUMMARY:Thuismatch ingevuld? (W&L BV 3G (62) - Klein Boom 1G (51))
DESCRIPTION:Je hebt 36 uur na aanvang om een thuismatch op Badmintonvlaande
 ren in te vullen. Match info: W&L BV 3G (62) - Klein Boom 1G (51) - Link: 
 https://www.badmintonvlaanderen.be/sport/teammatch.aspx?id=015ED37D-B12B-4
 7D6-B567-F9EECBF6F439&match=1096
DTSTART;TZID=Europe/Brussels:20240123T010000
DTEND;TZID=Europe/Brussels:20240123T010000
END:VEVENT
BEGIN:VEVENT
UID:015ED37D-B12B-47D6-B567-F9EECBF6F439-22-1108_homereminder@289.badminton
 ners.net
DTSTAMP:20260422T082649Z
SUMMARY:Thuismatch ingevuld? (W&L BV 3G (62) - Tots Keerbergen 1G (51))
DESCRIPTION:Je hebt 36 uur na aanvang om een thuismatch op Badmintonvlaande
 ren in te vullen. Match info: W&L BV 3G (62) - Tots Keerbergen 1G (51) - L
 ink: https://www.badmintonvlaanderen.be/sport/teammatch.aspx?id=015ED37D-B
 12B-47D6-B567-F9EECBF6F439&match=1108
DTSTART;TZID=Europe/Brussels:20240305T010000
DTEND;TZID=Europe/Brussels:20240305T010000
END:VEVENT
BEGIN:VEVENT
UID:015ED37D-B12B-47D6-B567-F9EECBF6F439-22-1084_homereminder@289.badminton
 ners.net
DTSTAMP:20260422T082649Z
SUMMARY:Thuismatch ingevuld? (W&L BV 3G (62) - De Klamp 1G (61))
DESCRIPTION:Je hebt 36 uur na aanvang om een thuismatch op Badmintonvlaande
 ren in te vullen. Match info: W&L BV 3G (62) - De Klamp 1G (61) - Link: ht
 tps://www.badmintonvlaanderen.be/sport/teammatch.aspx?id=015ED37D-B12B-47D
 6-B567-F9EECBF6F439&match=1084
DTSTART;TZID=Europe/Brussels:20240416T010000
DTEND;TZID=Europe/Brussels:20240416T010000
END:VEVENT
BEGIN:VEVENT
UID:015ED37D-B12B-47D6-B567-F9EECBF6F439-22-1114_awayreminder@289.badminton
 ners.net
DTSTAMP:20260422T082649Z
SUMMARY:Uitmatch bevestigd? (Tots Keerbergen 1G (51) - W&L BV 3G (62))
DESCRIPTION:Je hebt 72 uur na aanvang om een uitmatch op Badmintonvlaandere
 n in te vullen. Match info: Tots Keerbergen 1G (51) - W&L BV 3G (62) - Lin
 k: https://www.badmintonvlaanderen.be/sport/teammatch.aspx?id=015ED37D-B12
 B-47D6-B567-F9EECBF6F439&match=1114
DTSTART;TZID=Europe/Brussels:20231004T190000
DTEND;TZID=Europe/Brussels:20231004T190000
END:VEVENT
BEGIN:VEVENT
UID:015ED37D-B12B-47D6-B567-F9EECBF6F439-22-1110_awayreminder@289.badminton
 ners.net
DTSTAMP:20260422T082649Z
SUMMARY:Uitmatch bevestigd? (De Klamp 1G (61) - W&L BV 3G (62))
DESCRIPTION:Je hebt 72 uur na aanvang om een uitmatch op Badmintonvlaandere
 n in te vullen. Match info: De Klamp 1G (61) - W&L BV 3G (62) - Link: http
 s://www.badmintonvlaanderen.be/sport/teammatch.aspx?id=015ED37D-B12B-47D6-
 B567-F9EECBF6F439&match=1110
DTSTART;TZID=Europe/Brussels:20231115T181500
DTEND;TZID=Europe/Brussels:20231115T181500
END:VEVENT
BEGIN:VEVENT
UID:015ED37D-B12B-47D6-B567-F9EECBF6F439-22-1112_awayreminder@289.badminton
 ners.net
DTSTAMP:20260422T082649Z
SUMMARY:Uitmatch bevestigd? (Klein Boom 1G (51) - W&L BV 3G (62))
DESCRIPTION:Je hebt 72 uur na aanvang om een uitmatch op Badmintonvlaandere
 n in te vullen. Match info: Klein Boom 1G (51) - W&L BV 3G (62) - Link: ht
 tps://www.badmintonvlaanderen.be/sport/teammatch.aspx?id=015ED37D-B12B-47D
 6-B567-F9EECBF6F439&match=1112
DTSTART;TZID=Europe/Brussels:20231129T190000
DTEND;TZID=Europe/Brussels:20231129T190000
END:VEVENT
BEGIN:VEVENT
UID:015ED37D-B12B-47D6-B567-F9EECBF6F439-22-1113_awayreminder@289.badminton
 ners.net
DTSTAMP:20260422T082649Z
SUMMARY:Uitmatch bevestigd? (Olve 3G (49) - W&L BV 3G (62))
DESCRIPTION:Je hebt 72 uur na aanvang om een uitmatch op Badmintonvlaandere
 n in te vullen. Match info: Olve 3G (49) - W&L BV 3G (62) - Link: https://
 www.badmintonvlaanderen.be/sport/teammatch.aspx?id=015ED37D-B12B-47D6-B567
 -F9EECBF6F439&match=1113
DTSTART;TZID=Europe/Brussels:20240220T103000
DTEND;TZID=Europe/Brussels:20240220T103000
END:VEVENT
BEGIN:VEVENT
UID:015ED37D-B12B-47D6-B567-F9EECBF6F439-22-1109_awayreminder@289.badminton
 ners.net
DTSTAMP:20260422T082649Z
SUMMARY:Uitmatch bevestigd? (Brasschaat 2G (48) - W&L BV 3G (62))
DESCRIPTION:Je hebt 72 uur na aanvang om een uitmatch op Badmintonvlaandere
 n in te vullen. Match info: Brasschaat 2G (48) - W&L BV 3G (62) - Link: ht
 tps://www.badmintonvlaanderen.be/sport/teammatch.aspx?id=015ED37D-B12B-47D
 6-B567-F9EECBF6F439&match=1109
DTSTART;TZID=Europe/Brussels:20240320T190000
DTEND;TZID=Europe/Brussels:20240320T190000
END:VEVENT
BEGIN:VEVENT
UID:015ED37D-B12B-47D6-B567-F9EECBF6F439-22-1111_awayreminder@289.badminton
 ners.net
DTSTAMP:20260422T082649Z
SUMMARY:Uitmatch bevestigd? (Dijlevallei 5G (58) - W&L BV 3G (62))
DESCRIPTION:Je hebt 72 uur na aanvang om een uitmatch op Badmintonvlaandere
 n in te vullen. Match info: Dijlevallei 5G (58) - W&L BV 3G (62) - Link: h
 ttps://www.badmintonvlaanderen.be/sport/teammatch.aspx?id=015ED37D-B12B-47
 D6-B567-F9EECBF6F439&match=1111
DTSTART;TZID=Europe/Brussels:20240501T140000
DTEND;TZID=Europe/Brussels:20240501T140000
END:VEVENT
END:VCALENDAR