BEGIN:VCALENDAR
VERSION:2.0
PRODID:spatie/icalendar-generator
NAME:klein_boom_1g_51_reminders
X-WR-CALNAME:klein_boom_1g_51_reminders
BEGIN:VTIMEZONE
TZID:Europe/Brussels
BEGIN:DAYLIGHT
DTSTART:20230326T010000
TZOFFSETFROM:+0100
TZOFFSETTO:+0200
END:DAYLIGHT
BEGIN:STANDARD
DTSTART:20231029T030000
TZOFFSETFROM:+0200
TZOFFSETTO:+0100
END:STANDARD
BEGIN:DAYLIGHT
DTSTART:20240331T010000
TZOFFSETFROM:+0100
TZOFFSETTO:+0200
END:DAYLIGHT
END:VTIMEZONE
BEGIN:VTIMEZONE
TZID:UTC
BEGIN:STANDARD
DTSTART:20250724T072352
TZOFFSETFROM:+0000
TZOFFSETTO:+0000
END:STANDARD
END:VTIMEZONE
BEGIN:VEVENT
UID:015ED37D-B12B-47D6-B567-F9EECBF6F439-22-1081_homereminder@296.badminton
 ners.net
DTSTAMP:20260420T072352Z
SUMMARY:Thuismatch ingevuld? (Klein Boom 1G (51) - De Klamp 1G (61))
DESCRIPTION:Je hebt 36 uur na aanvang om een thuismatch op Badmintonvlaande
 ren in te vullen. Match info: Klein Boom 1G (51) - De Klamp 1G (61) - Link
 : https://www.badmintonvlaanderen.be/sport/teammatch.aspx?id=015ED37D-B12B
 -47D6-B567-F9EECBF6F439&match=1081
DTSTART;TZID=Europe/Brussels:20231107T070000
DTEND;TZID=Europe/Brussels:20231107T070000
END:VEVENT
BEGIN:VEVENT
UID:015ED37D-B12B-47D6-B567-F9EECBF6F439-22-1100_homereminder@296.badminton
 ners.net
DTSTAMP:20260420T072352Z
SUMMARY:Thuismatch ingevuld? (Klein Boom 1G (51) - Olve 3G (49))
DESCRIPTION:Je hebt 36 uur na aanvang om een thuismatch op Badmintonvlaande
 ren in te vullen. Match info: Klein Boom 1G (51) - Olve 3G (49) - Link: ht
 tps://www.badmintonvlaanderen.be/sport/teammatch.aspx?id=015ED37D-B12B-47D
 6-B567-F9EECBF6F439&match=1100
DTSTART;TZID=Europe/Brussels:20231114T070000
DTEND;TZID=Europe/Brussels:20231114T070000
END:VEVENT
BEGIN:VEVENT
UID:015ED37D-B12B-47D6-B567-F9EECBF6F439-22-1112_homereminder@296.badminton
 ners.net
DTSTAMP:20260420T072352Z
SUMMARY:Thuismatch ingevuld? (Klein Boom 1G (51) - W&L BV 3G (62))
DESCRIPTION:Je hebt 36 uur na aanvang om een thuismatch op Badmintonvlaande
 ren in te vullen. Match info: Klein Boom 1G (51) - W&L BV 3G (62) - Link: 
 https://www.badmintonvlaanderen.be/sport/teammatch.aspx?id=015ED37D-B12B-4
 7D6-B567-F9EECBF6F439&match=1112
DTSTART;TZID=Europe/Brussels:20231128T070000
DTEND;TZID=Europe/Brussels:20231128T070000
END:VEVENT
BEGIN:VEVENT
UID:015ED37D-B12B-47D6-B567-F9EECBF6F439-22-1075_homereminder@296.badminton
 ners.net
DTSTAMP:20260420T072352Z
SUMMARY:Thuismatch ingevuld? (Klein Boom 1G (51) - Brasschaat 2G (48))
DESCRIPTION:Je hebt 36 uur na aanvang om een thuismatch op Badmintonvlaande
 ren in te vullen. Match info: Klein Boom 1G (51) - Brasschaat 2G (48) - Li
 nk: https://www.badmintonvlaanderen.be/sport/teammatch.aspx?id=015ED37D-B1
 2B-47D6-B567-F9EECBF6F439&match=1075
DTSTART;TZID=Europe/Brussels:20240109T070000
DTEND;TZID=Europe/Brussels:20240109T070000
END:VEVENT
BEGIN:VEVENT
UID:015ED37D-B12B-47D6-B567-F9EECBF6F439-22-1106_homereminder@296.badminton
 ners.net
DTSTAMP:20260420T072352Z
SUMMARY:Thuismatch ingevuld? (Klein Boom 1G (51) - Tots Keerbergen 1G (51))
DESCRIPTION:Je hebt 36 uur na aanvang om een thuismatch op Badmintonvlaande
 ren in te vullen. Match info: Klein Boom 1G (51) - Tots Keerbergen 1G (51)
  - Link: https://www.badmintonvlaanderen.be/sport/teammatch.aspx?id=015ED3
 7D-B12B-47D6-B567-F9EECBF6F439&match=1106
DTSTART;TZID=Europe/Brussels:20240220T070000
DTEND;TZID=Europe/Brussels:20240220T070000
END:VEVENT
BEGIN:VEVENT
UID:015ED37D-B12B-47D6-B567-F9EECBF6F439-22-1087_homereminder@296.badminton
 ners.net
DTSTAMP:20260420T072352Z
SUMMARY:Thuismatch ingevuld? (Klein Boom 1G (51) - Dijlevallei 5G (58))
DESCRIPTION:Je hebt 36 uur na aanvang om een thuismatch op Badmintonvlaande
 ren in te vullen. Match info: Klein Boom 1G (51) - Dijlevallei 5G (58) - L
 ink: https://www.badmintonvlaanderen.be/sport/teammatch.aspx?id=015ED37D-B
 12B-47D6-B567-F9EECBF6F439&match=1087
DTSTART;TZID=Europe/Brussels:20240416T070000
DTEND;TZID=Europe/Brussels:20240416T070000
END:VEVENT
BEGIN:VEVENT
UID:015ED37D-B12B-47D6-B567-F9EECBF6F439-22-1093_awayreminder@296.badminton
 ners.net
DTSTAMP:20260420T072352Z
SUMMARY:Uitmatch bevestigd? (Dijlevallei 5G (58) - Klein Boom 1G (51))
DESCRIPTION:Je hebt 72 uur na aanvang om een uitmatch op Badmintonvlaandere
 n in te vullen. Match info: Dijlevallei 5G (58) - Klein Boom 1G (51) - Lin
 k: https://www.badmintonvlaanderen.be/sport/teammatch.aspx?id=015ED37D-B12
 B-47D6-B567-F9EECBF6F439&match=1093
DTSTART;TZID=Europe/Brussels:20231004T140000
DTEND;TZID=Europe/Brussels:20231004T140000
END:VEVENT
BEGIN:VEVENT
UID:015ED37D-B12B-47D6-B567-F9EECBF6F439-22-1091_awayreminder@296.badminton
 ners.net
DTSTAMP:20260420T072352Z
SUMMARY:Uitmatch bevestigd? (Brasschaat 2G (48) - Klein Boom 1G (51))
DESCRIPTION:Je hebt 72 uur na aanvang om een uitmatch op Badmintonvlaandere
 n in te vullen. Match info: Brasschaat 2G (48) - Klein Boom 1G (51) - Link
 : https://www.badmintonvlaanderen.be/sport/teammatch.aspx?id=015ED37D-B12B
 -47D6-B567-F9EECBF6F439&match=1091
DTSTART;TZID=Europe/Brussels:20231203T200000
DTEND;TZID=Europe/Brussels:20231203T200000
END:VEVENT
BEGIN:VEVENT
UID:015ED37D-B12B-47D6-B567-F9EECBF6F439-22-1095_awayreminder@296.badminton
 ners.net
DTSTAMP:20260420T072352Z
SUMMARY:Uitmatch bevestigd? (Tots Keerbergen 1G (51) - Klein Boom 1G (51))
DESCRIPTION:Je hebt 72 uur na aanvang om een uitmatch op Badmintonvlaandere
 n in te vullen. Match info: Tots Keerbergen 1G (51) - Klein Boom 1G (51) -
  Link: https://www.badmintonvlaanderen.be/sport/teammatch.aspx?id=015ED37D
 -B12B-47D6-B567-F9EECBF6F439&match=1095
DTSTART;TZID=Europe/Brussels:20231213T190000
DTEND;TZID=Europe/Brussels:20231213T190000
END:VEVENT
BEGIN:VEVENT
UID:015ED37D-B12B-47D6-B567-F9EECBF6F439-22-1096_awayreminder@296.badminton
 ners.net
DTSTAMP:20260420T072352Z
SUMMARY:Uitmatch bevestigd? (W&L BV 3G (62) - Klein Boom 1G (51))
DESCRIPTION:Je hebt 72 uur na aanvang om een uitmatch op Badmintonvlaandere
 n in te vullen. Match info: W&L BV 3G (62) - Klein Boom 1G (51) - Link: ht
 tps://www.badmintonvlaanderen.be/sport/teammatch.aspx?id=015ED37D-B12B-47D
 6-B567-F9EECBF6F439&match=1096
DTSTART;TZID=Europe/Brussels:20240124T130000
DTEND;TZID=Europe/Brussels:20240124T130000
END:VEVENT
BEGIN:VEVENT
UID:015ED37D-B12B-47D6-B567-F9EECBF6F439-22-1094_awayreminder@296.badminton
 ners.net
DTSTAMP:20260420T072352Z
SUMMARY:Uitmatch bevestigd? (Olve 3G (49) - Klein Boom 1G (51))
DESCRIPTION:Je hebt 72 uur na aanvang om een uitmatch op Badmintonvlaandere
 n in te vullen. Match info: Olve 3G (49) - Klein Boom 1G (51) - Link: http
 s://www.badmintonvlaanderen.be/sport/teammatch.aspx?id=015ED37D-B12B-47D6-
 B567-F9EECBF6F439&match=1094
DTSTART;TZID=Europe/Brussels:20240227T103000
DTEND;TZID=Europe/Brussels:20240227T103000
END:VEVENT
BEGIN:VEVENT
UID:015ED37D-B12B-47D6-B567-F9EECBF6F439-22-1092_awayreminder@296.badminton
 ners.net
DTSTAMP:20260420T072352Z
SUMMARY:Uitmatch bevestigd? (De Klamp 1G (61) - Klein Boom 1G (51))
DESCRIPTION:Je hebt 72 uur na aanvang om een uitmatch op Badmintonvlaandere
 n in te vullen. Match info: De Klamp 1G (61) - Klein Boom 1G (51) - Link: 
 https://www.badmintonvlaanderen.be/sport/teammatch.aspx?id=015ED37D-B12B-4
 7D6-B567-F9EECBF6F439&match=1092
DTSTART;TZID=Europe/Brussels:20240320T181500
DTEND;TZID=Europe/Brussels:20240320T181500
END:VEVENT
END:VCALENDAR