BEGIN:VCALENDAR
VERSION:2.0
PRODID:spatie/icalendar-generator
NAME:de_klamp_1g_61_reminders
X-WR-CALNAME:de_klamp_1g_61_reminders
BEGIN:VTIMEZONE
TZID:Europe/Brussels
BEGIN:DAYLIGHT
DTSTART:20230326T010000
TZOFFSETFROM:+0100
TZOFFSETTO:+0200
END:DAYLIGHT
BEGIN:STANDARD
DTSTART:20231029T030000
TZOFFSETFROM:+0200
TZOFFSETTO:+0100
END:STANDARD
BEGIN:DAYLIGHT
DTSTART:20240331T010000
TZOFFSETFROM:+0100
TZOFFSETTO:+0200
END:DAYLIGHT
BEGIN:STANDARD
DTSTART:20241027T030000
TZOFFSETFROM:+0200
TZOFFSETTO:+0100
END:STANDARD
END:VTIMEZONE
BEGIN:VTIMEZONE
TZID:UTC
BEGIN:STANDARD
DTSTART:20250724T070622
TZOFFSETFROM:+0000
TZOFFSETTO:+0000
END:STANDARD
END:VTIMEZONE
BEGIN:VEVENT
UID:015ED37D-B12B-47D6-B567-F9EECBF6F439-22-1086_homereminder@306.badminton
 ners.net
DTSTAMP:20260420T070622Z
SUMMARY:Thuismatch ingevuld? (De Klamp 1G (61) - Dijlevallei 5G (58))
DESCRIPTION:Je hebt 36 uur na aanvang om een thuismatch op Badmintonvlaande
 ren in te vullen. Match info: De Klamp 1G (61) - Dijlevallei 5G (58) - Lin
 k: https://www.badmintonvlaanderen.be/sport/teammatch.aspx?id=015ED37D-B12
 B-47D6-B567-F9EECBF6F439&match=1086
DTSTART;TZID=Europe/Brussels:20230919T061500
DTEND;TZID=Europe/Brussels:20230919T061500
END:VEVENT
BEGIN:VEVENT
UID:015ED37D-B12B-47D6-B567-F9EECBF6F439-22-1110_homereminder@306.badminton
 ners.net
DTSTAMP:20260420T070622Z
SUMMARY:Thuismatch ingevuld? (De Klamp 1G (61) - W&L BV 3G (62))
DESCRIPTION:Je hebt 36 uur na aanvang om een thuismatch op Badmintonvlaande
 ren in te vullen. Match info: De Klamp 1G (61) - W&L BV 3G (62) - Link: ht
 tps://www.badmintonvlaanderen.be/sport/teammatch.aspx?id=015ED37D-B12B-47D
 6-B567-F9EECBF6F439&match=1110
DTSTART;TZID=Europe/Brussels:20231114T061500
DTEND;TZID=Europe/Brussels:20231114T061500
END:VEVENT
BEGIN:VEVENT
UID:015ED37D-B12B-47D6-B567-F9EECBF6F439-22-1098_homereminder@306.badminton
 ners.net
DTSTAMP:20260420T070622Z
SUMMARY:Thuismatch ingevuld? (De Klamp 1G (61) - Olve 3G (49))
DESCRIPTION:Je hebt 36 uur na aanvang om een thuismatch op Badmintonvlaande
 ren in te vullen. Match info: De Klamp 1G (61) - Olve 3G (49) - Link: http
 s://www.badmintonvlaanderen.be/sport/teammatch.aspx?id=015ED37D-B12B-47D6-
 B567-F9EECBF6F439&match=1098
DTSTART;TZID=Europe/Brussels:20231212T061500
DTEND;TZID=Europe/Brussels:20231212T061500
END:VEVENT
BEGIN:VEVENT
UID:015ED37D-B12B-47D6-B567-F9EECBF6F439-22-1073_homereminder@306.badminton
 ners.net
DTSTAMP:20260420T070622Z
SUMMARY:Thuismatch ingevuld? (De Klamp 1G (61) - Brasschaat 2G (48))
DESCRIPTION:Je hebt 36 uur na aanvang om een thuismatch op Badmintonvlaande
 ren in te vullen. Match info: De Klamp 1G (61) - Brasschaat 2G (48) - Link
 : https://www.badmintonvlaanderen.be/sport/teammatch.aspx?id=015ED37D-B12B
 -47D6-B567-F9EECBF6F439&match=1073
DTSTART;TZID=Europe/Brussels:20240220T061500
DTEND;TZID=Europe/Brussels:20240220T061500
END:VEVENT
BEGIN:VEVENT
UID:015ED37D-B12B-47D6-B567-F9EECBF6F439-22-1092_homereminder@306.badminton
 ners.net
DTSTAMP:20260420T070622Z
SUMMARY:Thuismatch ingevuld? (De Klamp 1G (61) - Klein Boom 1G (51))
DESCRIPTION:Je hebt 36 uur na aanvang om een thuismatch op Badmintonvlaande
 ren in te vullen. Match info: De Klamp 1G (61) - Klein Boom 1G (51) - Link
 : https://www.badmintonvlaanderen.be/sport/teammatch.aspx?id=015ED37D-B12B
 -47D6-B567-F9EECBF6F439&match=1092
DTSTART;TZID=Europe/Brussels:20240319T061500
DTEND;TZID=Europe/Brussels:20240319T061500
END:VEVENT
BEGIN:VEVENT
UID:015ED37D-B12B-47D6-B567-F9EECBF6F439-22-1104_homereminder@306.badminton
 ners.net
DTSTAMP:20260420T070622Z
SUMMARY:Thuismatch ingevuld? (De Klamp 1G (61) - Tots Keerbergen 1G (51))
DESCRIPTION:Je hebt 36 uur na aanvang om een thuismatch op Badmintonvlaande
 ren in te vullen. Match info: De Klamp 1G (61) - Tots Keerbergen 1G (51) -
  Link: https://www.badmintonvlaanderen.be/sport/teammatch.aspx?id=015ED37D
 -B12B-47D6-B567-F9EECBF6F439&match=1104
DTSTART;TZID=Europe/Brussels:20240430T061500
DTEND;TZID=Europe/Brussels:20240430T061500
END:VEVENT
BEGIN:VEVENT
UID:015ED37D-B12B-47D6-B567-F9EECBF6F439-22-1079_awayreminder@306.badminton
 ners.net
DTSTAMP:20260420T070622Z
SUMMARY:Uitmatch bevestigd? (Brasschaat 2G (48) - De Klamp 1G (61))
DESCRIPTION:Je hebt 72 uur na aanvang om een uitmatch op Badmintonvlaandere
 n in te vullen. Match info: Brasschaat 2G (48) - De Klamp 1G (61) - Link: 
 https://www.badmintonvlaanderen.be/sport/teammatch.aspx?id=015ED37D-B12B-4
 7D6-B567-F9EECBF6F439&match=1079
DTSTART;TZID=Europe/Brussels:20231004T190000
DTEND;TZID=Europe/Brussels:20231004T190000
END:VEVENT
BEGIN:VEVENT
UID:015ED37D-B12B-47D6-B567-F9EECBF6F439-22-1083_awayreminder@306.badminton
 ners.net
DTSTAMP:20260420T070622Z
SUMMARY:Uitmatch bevestigd? (Tots Keerbergen 1G (51) - De Klamp 1G (61))
DESCRIPTION:Je hebt 72 uur na aanvang om een uitmatch op Badmintonvlaandere
 n in te vullen. Match info: Tots Keerbergen 1G (51) - De Klamp 1G (61) - L
 ink: https://www.badmintonvlaanderen.be/sport/teammatch.aspx?id=015ED37D-B
 12B-47D6-B567-F9EECBF6F439&match=1083
DTSTART;TZID=Europe/Brussels:20231101T190000
DTEND;TZID=Europe/Brussels:20231101T190000
END:VEVENT
BEGIN:VEVENT
UID:015ED37D-B12B-47D6-B567-F9EECBF6F439-22-1081_awayreminder@306.badminton
 ners.net
DTSTAMP:20260420T070622Z
SUMMARY:Uitmatch bevestigd? (Klein Boom 1G (51) - De Klamp 1G (61))
DESCRIPTION:Je hebt 72 uur na aanvang om een uitmatch op Badmintonvlaandere
 n in te vullen. Match info: Klein Boom 1G (51) - De Klamp 1G (61) - Link: 
 https://www.badmintonvlaanderen.be/sport/teammatch.aspx?id=015ED37D-B12B-4
 7D6-B567-F9EECBF6F439&match=1081
DTSTART;TZID=Europe/Brussels:20231108T190000
DTEND;TZID=Europe/Brussels:20231108T190000
END:VEVENT
BEGIN:VEVENT
UID:015ED37D-B12B-47D6-B567-F9EECBF6F439-22-1080_awayreminder@306.badminton
 ners.net
DTSTAMP:20260420T070622Z
SUMMARY:Uitmatch bevestigd? (Dijlevallei 5G (58) - De Klamp 1G (61))
DESCRIPTION:Je hebt 72 uur na aanvang om een uitmatch op Badmintonvlaandere
 n in te vullen. Match info: Dijlevallei 5G (58) - De Klamp 1G (61) - Link:
  https://www.badmintonvlaanderen.be/sport/teammatch.aspx?id=015ED37D-B12B-
 47D6-B567-F9EECBF6F439&match=1080
DTSTART;TZID=Europe/Brussels:20240110T140000
DTEND;TZID=Europe/Brussels:20240110T140000
END:VEVENT
BEGIN:VEVENT
UID:015ED37D-B12B-47D6-B567-F9EECBF6F439-22-1082_awayreminder@306.badminton
 ners.net
DTSTAMP:20260420T070622Z
SUMMARY:Uitmatch bevestigd? (Olve 3G (49) - De Klamp 1G (61))
DESCRIPTION:Je hebt 72 uur na aanvang om een uitmatch op Badmintonvlaandere
 n in te vullen. Match info: Olve 3G (49) - De Klamp 1G (61) - Link: https:
 //www.badmintonvlaanderen.be/sport/teammatch.aspx?id=015ED37D-B12B-47D6-B5
 67-F9EECBF6F439&match=1082
DTSTART;TZID=Europe/Brussels:20240123T103000
DTEND;TZID=Europe/Brussels:20240123T103000
END:VEVENT
BEGIN:VEVENT
UID:015ED37D-B12B-47D6-B567-F9EECBF6F439-22-1084_awayreminder@306.badminton
 ners.net
DTSTAMP:20260420T070622Z
SUMMARY:Uitmatch bevestigd? (W&L BV 3G (62) - De Klamp 1G (61))
DESCRIPTION:Je hebt 72 uur na aanvang om een uitmatch op Badmintonvlaandere
 n in te vullen. Match info: W&L BV 3G (62) - De Klamp 1G (61) - Link: http
 s://www.badmintonvlaanderen.be/sport/teammatch.aspx?id=015ED37D-B12B-47D6-
 B567-F9EECBF6F439&match=1084
DTSTART;TZID=Europe/Brussels:20240417T130000
DTEND;TZID=Europe/Brussels:20240417T130000
END:VEVENT
END:VCALENDAR