BEGIN:VCALENDAR
VERSION:2.0
PRODID:spatie/icalendar-generator
NAME:klein_boom_1d_39_reminders
X-WR-CALNAME:klein_boom_1d_39_reminders
BEGIN:VTIMEZONE
TZID:Europe/Brussels
BEGIN:DAYLIGHT
DTSTART:20220327T010000
TZOFFSETFROM:+0100
TZOFFSETTO:+0200
END:DAYLIGHT
BEGIN:STANDARD
DTSTART:20221030T030000
TZOFFSETFROM:+0200
TZOFFSETTO:+0100
END:STANDARD
BEGIN:DAYLIGHT
DTSTART:20230326T010000
TZOFFSETFROM:+0100
TZOFFSETTO:+0200
END:DAYLIGHT
END:VTIMEZONE
BEGIN:VTIMEZONE
TZID:UTC
BEGIN:STANDARD
DTSTART:20250724T072354
TZOFFSETFROM:+0000
TZOFFSETTO:+0000
END:STANDARD
END:VTIMEZONE
BEGIN:VEVENT
UID:32F5ED26-0D4B-47CE-BBB3-EBB3613B3D45-13-586_homereminder@100.badmintonn
 ers.net
DTSTAMP:20260420T072354Z
SUMMARY:Thuismatch ingevuld? (Klein Boom 1D (39) - Smash 1D (41))
DESCRIPTION:Je hebt 36 uur na aanvang om een thuismatch op Badmintonvlaande
 ren in te vullen. Match info: Klein Boom 1D (39) - Smash 1D (41) - Link: h
 ttps://www.badmintonvlaanderen.be/sport/teammatch.aspx?id=32F5ED26-0D4B-47
 CE-BBB3-EBB3613B3D45&match=586
DTSTART;TZID=Europe/Brussels:20220906T070000
DTEND;TZID=Europe/Brussels:20220906T070000
END:VEVENT
BEGIN:VEVENT
UID:32F5ED26-0D4B-47CE-BBB3-EBB3613B3D45-13-598_homereminder@100.badmintonn
 ers.net
DTSTAMP:20260420T072354Z
SUMMARY:Thuismatch ingevuld? (Klein Boom 1D (39) - Beerke 1D (45))
DESCRIPTION:Je hebt 36 uur na aanvang om een thuismatch op Badmintonvlaande
 ren in te vullen. Match info: Klein Boom 1D (39) - Beerke 1D (45) - Link: 
 https://www.badmintonvlaanderen.be/sport/teammatch.aspx?id=32F5ED26-0D4B-4
 7CE-BBB3-EBB3613B3D45&match=598
DTSTART;TZID=Europe/Brussels:20221004T070000
DTEND;TZID=Europe/Brussels:20221004T070000
END:VEVENT
BEGIN:VEVENT
UID:32F5ED26-0D4B-47CE-BBB3-EBB3613B3D45-13-567_homereminder@100.badmintonn
 ers.net
DTSTAMP:20260420T072354Z
SUMMARY:Thuismatch ingevuld? (Klein Boom 1D (39) - Waverse 1D (52))
DESCRIPTION:Je hebt 36 uur na aanvang om een thuismatch op Badmintonvlaande
 ren in te vullen. Match info: Klein Boom 1D (39) - Waverse 1D (52) - Link:
  https://www.badmintonvlaanderen.be/sport/teammatch.aspx?id=32F5ED26-0D4B-
 47CE-BBB3-EBB3613B3D45&match=567
DTSTART;TZID=Europe/Brussels:20221101T070000
DTEND;TZID=Europe/Brussels:20221101T070000
END:VEVENT
BEGIN:VEVENT
UID:32F5ED26-0D4B-47CE-BBB3-EBB3613B3D45-13-561_homereminder@100.badmintonn
 ers.net
DTSTAMP:20260420T072354Z
SUMMARY:Thuismatch ingevuld? (Klein Boom 1D (39) - Dijlevallei 4D (44))
DESCRIPTION:Je hebt 36 uur na aanvang om een thuismatch op Badmintonvlaande
 ren in te vullen. Match info: Klein Boom 1D (39) - Dijlevallei 4D (44) - L
 ink: https://www.badmintonvlaanderen.be/sport/teammatch.aspx?id=32F5ED26-0
 D4B-47CE-BBB3-EBB3613B3D45&match=561
DTSTART;TZID=Europe/Brussels:20221213T070000
DTEND;TZID=Europe/Brussels:20221213T070000
END:VEVENT
BEGIN:VEVENT
UID:32F5ED26-0D4B-47CE-BBB3-EBB3613B3D45-13-592_homereminder@100.badmintonn
 ers.net
DTSTAMP:20260420T072354Z
SUMMARY:Thuismatch ingevuld? (Klein Boom 1D (39) - Hebad 2D (45))
DESCRIPTION:Je hebt 36 uur na aanvang om een thuismatch op Badmintonvlaande
 ren in te vullen. Match info: Klein Boom 1D (39) - Hebad 2D (45) - Link: h
 ttps://www.badmintonvlaanderen.be/sport/teammatch.aspx?id=32F5ED26-0D4B-47
 CE-BBB3-EBB3613B3D45&match=592
DTSTART;TZID=Europe/Brussels:20230110T070000
DTEND;TZID=Europe/Brussels:20230110T070000
END:VEVENT
BEGIN:VEVENT
UID:32F5ED26-0D4B-47CE-BBB3-EBB3613B3D45-13-573_homereminder@100.badmintonn
 ers.net
DTSTAMP:20260420T072354Z
SUMMARY:Thuismatch ingevuld? (Klein Boom 1D (39) - Lubbinton 1D (51))
DESCRIPTION:Je hebt 36 uur na aanvang om een thuismatch op Badmintonvlaande
 ren in te vullen. Match info: Klein Boom 1D (39) - Lubbinton 1D (51) - Lin
 k: https://www.badmintonvlaanderen.be/sport/teammatch.aspx?id=32F5ED26-0D4
 B-47CE-BBB3-EBB3613B3D45&match=573
DTSTART;TZID=Europe/Brussels:20230307T070000
DTEND;TZID=Europe/Brussels:20230307T070000
END:VEVENT
BEGIN:VEVENT
UID:32F5ED26-0D4B-47CE-BBB3-EBB3613B3D45-13-581_awayreminder@100.badmintonn
 ers.net
DTSTAMP:20260420T072354Z
SUMMARY:Uitmatch bevestigd? (Hebad 2D (45) - Klein Boom 1D (39))
DESCRIPTION:Je hebt 72 uur na aanvang om een uitmatch op Badmintonvlaandere
 n in te vullen. Match info: Hebad 2D (45) - Klein Boom 1D (39) - Link: htt
 ps://www.badmintonvlaanderen.be/sport/teammatch.aspx?id=32F5ED26-0D4B-47CE
 -BBB3-EBB3613B3D45&match=581
DTSTART;TZID=Europe/Brussels:20220921T140000
DTEND;TZID=Europe/Brussels:20220921T140000
END:VEVENT
BEGIN:VEVENT
UID:32F5ED26-0D4B-47CE-BBB3-EBB3613B3D45-13-579_awayreminder@100.badmintonn
 ers.net
DTSTAMP:20260420T072354Z
SUMMARY:Uitmatch bevestigd? (Lubbinton 1D (51) - Klein Boom 1D (39))
DESCRIPTION:Je hebt 72 uur na aanvang om een uitmatch op Badmintonvlaandere
 n in te vullen. Match info: Lubbinton 1D (51) - Klein Boom 1D (39) - Link:
  https://www.badmintonvlaanderen.be/sport/teammatch.aspx?id=32F5ED26-0D4B-
 47CE-BBB3-EBB3613B3D45&match=579
DTSTART;TZID=Europe/Brussels:20221116T160000
DTEND;TZID=Europe/Brussels:20221116T160000
END:VEVENT
BEGIN:VEVENT
UID:32F5ED26-0D4B-47CE-BBB3-EBB3613B3D45-13-582_awayreminder@100.badmintonn
 ers.net
DTSTAMP:20260420T072354Z
SUMMARY:Uitmatch bevestigd? (Beerke 1D (45) - Klein Boom 1D (39))
DESCRIPTION:Je hebt 72 uur na aanvang om een uitmatch op Badmintonvlaandere
 n in te vullen. Match info: Beerke 1D (45) - Klein Boom 1D (39) - Link: ht
 tps://www.badmintonvlaanderen.be/sport/teammatch.aspx?id=32F5ED26-0D4B-47C
 E-BBB3-EBB3613B3D45&match=582
DTSTART;TZID=Europe/Brussels:20230125T100000
DTEND;TZID=Europe/Brussels:20230125T100000
END:VEVENT
BEGIN:VEVENT
UID:32F5ED26-0D4B-47CE-BBB3-EBB3613B3D45-13-578_awayreminder@100.badmintonn
 ers.net
DTSTAMP:20260420T072354Z
SUMMARY:Uitmatch bevestigd? (Waverse 1D (52) - Klein Boom 1D (39))
DESCRIPTION:Je hebt 72 uur na aanvang om een uitmatch op Badmintonvlaandere
 n in te vullen. Match info: Waverse 1D (52) - Klein Boom 1D (39) - Link: h
 ttps://www.badmintonvlaanderen.be/sport/teammatch.aspx?id=32F5ED26-0D4B-47
 CE-BBB3-EBB3613B3D45&match=578
DTSTART;TZID=Europe/Brussels:20230222T140000
DTEND;TZID=Europe/Brussels:20230222T140000
END:VEVENT
BEGIN:VEVENT
UID:32F5ED26-0D4B-47CE-BBB3-EBB3613B3D45-13-577_awayreminder@100.badmintonn
 ers.net
DTSTAMP:20260420T072354Z
SUMMARY:Uitmatch bevestigd? (Dijlevallei 4D (44) - Klein Boom 1D (39))
DESCRIPTION:Je hebt 72 uur na aanvang om een uitmatch op Badmintonvlaandere
 n in te vullen. Match info: Dijlevallei 4D (44) - Klein Boom 1D (39) - Lin
 k: https://www.badmintonvlaanderen.be/sport/teammatch.aspx?id=32F5ED26-0D4
 B-47CE-BBB3-EBB3613B3D45&match=577
DTSTART;TZID=Europe/Brussels:20230322T170000
DTEND;TZID=Europe/Brussels:20230322T170000
END:VEVENT
BEGIN:VEVENT
UID:32F5ED26-0D4B-47CE-BBB3-EBB3613B3D45-13-580_awayreminder@100.badmintonn
 ers.net
DTSTAMP:20260420T072354Z
SUMMARY:Uitmatch bevestigd? (Smash 1D (41) - Klein Boom 1D (39))
DESCRIPTION:Je hebt 72 uur na aanvang om een uitmatch op Badmintonvlaandere
 n in te vullen. Match info: Smash 1D (41) - Klein Boom 1D (39) - Link: htt
 ps://www.badmintonvlaanderen.be/sport/teammatch.aspx?id=32F5ED26-0D4B-47CE
 -BBB3-EBB3613B3D45&match=580
DTSTART;TZID=Europe/Brussels:20230405T130000
DTEND;TZID=Europe/Brussels:20230405T130000
END:VEVENT
END:VCALENDAR