BEGIN:VCALENDAR
VERSION:2.0
PRODID:spatie/icalendar-generator
NAME:beerke_1d_45_reminders
X-WR-CALNAME:beerke_1d_45_reminders
BEGIN:VTIMEZONE
TZID:Europe/Brussels
BEGIN:DAYLIGHT
DTSTART:20220327T010000
TZOFFSETFROM:+0100
TZOFFSETTO:+0200
END:DAYLIGHT
BEGIN:STANDARD
DTSTART:20221030T030000
TZOFFSETFROM:+0200
TZOFFSETTO:+0100
END:STANDARD
BEGIN:DAYLIGHT
DTSTART:20230326T010000
TZOFFSETFROM:+0100
TZOFFSETTO:+0200
END:DAYLIGHT
END:VTIMEZONE
BEGIN:VTIMEZONE
TZID:UTC
BEGIN:STANDARD
DTSTART:20250724T072353
TZOFFSETFROM:+0000
TZOFFSETTO:+0000
END:STANDARD
END:VTIMEZONE
BEGIN:VEVENT
UID:32F5ED26-0D4B-47CE-BBB3-EBB3613B3D45-13-576_homereminder@101.badmintonn
 ers.net
DTSTAMP:20260420T072353Z
SUMMARY:Thuismatch ingevuld? (Beerke 1D (45) - Lubbinton 1D (51))
DESCRIPTION:Je hebt 36 uur na aanvang om een thuismatch op Badmintonvlaande
 ren in te vullen. Match info: Beerke 1D (45) - Lubbinton 1D (51) - Link: h
 ttps://www.badmintonvlaanderen.be/sport/teammatch.aspx?id=32F5ED26-0D4B-47
 CE-BBB3-EBB3613B3D45&match=576
DTSTART;TZID=Europe/Brussels:20220919T220000
DTEND;TZID=Europe/Brussels:20220919T220000
END:VEVENT
BEGIN:VEVENT
UID:32F5ED26-0D4B-47CE-BBB3-EBB3613B3D45-13-588_homereminder@101.badmintonn
 ers.net
DTSTAMP:20260420T072353Z
SUMMARY:Thuismatch ingevuld? (Beerke 1D (45) - Smash 1D (41))
DESCRIPTION:Je hebt 36 uur na aanvang om een thuismatch op Badmintonvlaande
 ren in te vullen. Match info: Beerke 1D (45) - Smash 1D (41) - Link: https
 ://www.badmintonvlaanderen.be/sport/teammatch.aspx?id=32F5ED26-0D4B-47CE-B
 BB3-EBB3613B3D45&match=588
DTSTART;TZID=Europe/Brussels:20221017T220000
DTEND;TZID=Europe/Brussels:20221017T220000
END:VEVENT
BEGIN:VEVENT
UID:32F5ED26-0D4B-47CE-BBB3-EBB3613B3D45-13-564_homereminder@101.badmintonn
 ers.net
DTSTAMP:20260420T072353Z
SUMMARY:Thuismatch ingevuld? (Beerke 1D (45) - Dijlevallei 4D (44))
DESCRIPTION:Je hebt 36 uur na aanvang om een thuismatch op Badmintonvlaande
 ren in te vullen. Match info: Beerke 1D (45) - Dijlevallei 4D (44) - Link:
  https://www.badmintonvlaanderen.be/sport/teammatch.aspx?id=32F5ED26-0D4B-
 47CE-BBB3-EBB3613B3D45&match=564
DTSTART;TZID=Europe/Brussels:20221107T220000
DTEND;TZID=Europe/Brussels:20221107T220000
END:VEVENT
BEGIN:VEVENT
UID:32F5ED26-0D4B-47CE-BBB3-EBB3613B3D45-13-582_homereminder@101.badmintonn
 ers.net
DTSTAMP:20260420T072353Z
SUMMARY:Thuismatch ingevuld? (Beerke 1D (45) - Klein Boom 1D (39))
DESCRIPTION:Je hebt 36 uur na aanvang om een thuismatch op Badmintonvlaande
 ren in te vullen. Match info: Beerke 1D (45) - Klein Boom 1D (39) - Link: 
 https://www.badmintonvlaanderen.be/sport/teammatch.aspx?id=32F5ED26-0D4B-4
 7CE-BBB3-EBB3613B3D45&match=582
DTSTART;TZID=Europe/Brussels:20230123T220000
DTEND;TZID=Europe/Brussels:20230123T220000
END:VEVENT
BEGIN:VEVENT
UID:32F5ED26-0D4B-47CE-BBB3-EBB3613B3D45-13-594_homereminder@101.badmintonn
 ers.net
DTSTAMP:20260420T072353Z
SUMMARY:Thuismatch ingevuld? (Beerke 1D (45) - Hebad 2D (45))
DESCRIPTION:Je hebt 36 uur na aanvang om een thuismatch op Badmintonvlaande
 ren in te vullen. Match info: Beerke 1D (45) - Hebad 2D (45) - Link: https
 ://www.badmintonvlaanderen.be/sport/teammatch.aspx?id=32F5ED26-0D4B-47CE-B
 BB3-EBB3613B3D45&match=594
DTSTART;TZID=Europe/Brussels:20230220T220000
DTEND;TZID=Europe/Brussels:20230220T220000
END:VEVENT
BEGIN:VEVENT
UID:32F5ED26-0D4B-47CE-BBB3-EBB3613B3D45-13-570_homereminder@101.badmintonn
 ers.net
DTSTAMP:20260420T072353Z
SUMMARY:Thuismatch ingevuld? (Beerke 1D (45) - Waverse 1D (52))
DESCRIPTION:Je hebt 36 uur na aanvang om een thuismatch op Badmintonvlaande
 ren in te vullen. Match info: Beerke 1D (45) - Waverse 1D (52) - Link: htt
 ps://www.badmintonvlaanderen.be/sport/teammatch.aspx?id=32F5ED26-0D4B-47CE
 -BBB3-EBB3613B3D45&match=570
DTSTART;TZID=Europe/Brussels:20230403T220000
DTEND;TZID=Europe/Brussels:20230403T220000
END:VEVENT
BEGIN:VEVENT
UID:32F5ED26-0D4B-47CE-BBB3-EBB3613B3D45-13-598_awayreminder@101.badmintonn
 ers.net
DTSTAMP:20260420T072353Z
SUMMARY:Uitmatch bevestigd? (Klein Boom 1D (39) - Beerke 1D (45))
DESCRIPTION:Je hebt 72 uur na aanvang om een uitmatch op Badmintonvlaandere
 n in te vullen. Match info: Klein Boom 1D (39) - Beerke 1D (45) - Link: ht
 tps://www.badmintonvlaanderen.be/sport/teammatch.aspx?id=32F5ED26-0D4B-47C
 E-BBB3-EBB3613B3D45&match=598
DTSTART;TZID=Europe/Brussels:20221005T190000
DTEND;TZID=Europe/Brussels:20221005T190000
END:VEVENT
BEGIN:VEVENT
UID:32F5ED26-0D4B-47CE-BBB3-EBB3613B3D45-13-600_awayreminder@101.badmintonn
 ers.net
DTSTAMP:20260420T072353Z
SUMMARY:Uitmatch bevestigd? (Hebad 2D (45) - Beerke 1D (45))
DESCRIPTION:Je hebt 72 uur na aanvang om een uitmatch op Badmintonvlaandere
 n in te vullen. Match info: Hebad 2D (45) - Beerke 1D (45) - Link: https:/
 /www.badmintonvlaanderen.be/sport/teammatch.aspx?id=32F5ED26-0D4B-47CE-BBB
 3-EBB3613B3D45&match=600
DTSTART;TZID=Europe/Brussels:20221102T140000
DTEND;TZID=Europe/Brussels:20221102T140000
END:VEVENT
BEGIN:VEVENT
UID:32F5ED26-0D4B-47CE-BBB3-EBB3613B3D45-13-596_awayreminder@101.badmintonn
 ers.net
DTSTAMP:20260420T072353Z
SUMMARY:Uitmatch bevestigd? (Waverse 1D (52) - Beerke 1D (45))
DESCRIPTION:Je hebt 72 uur na aanvang om een uitmatch op Badmintonvlaandere
 n in te vullen. Match info: Waverse 1D (52) - Beerke 1D (45) - Link: https
 ://www.badmintonvlaanderen.be/sport/teammatch.aspx?id=32F5ED26-0D4B-47CE-B
 BB3-EBB3613B3D45&match=596
DTSTART;TZID=Europe/Brussels:20221121T200000
DTEND;TZID=Europe/Brussels:20221121T200000
END:VEVENT
BEGIN:VEVENT
UID:32F5ED26-0D4B-47CE-BBB3-EBB3613B3D45-13-597_awayreminder@101.badmintonn
 ers.net
DTSTAMP:20260420T072353Z
SUMMARY:Uitmatch bevestigd? (Lubbinton 1D (51) - Beerke 1D (45))
DESCRIPTION:Je hebt 72 uur na aanvang om een uitmatch op Badmintonvlaandere
 n in te vullen. Match info: Lubbinton 1D (51) - Beerke 1D (45) - Link: htt
 ps://www.badmintonvlaanderen.be/sport/teammatch.aspx?id=32F5ED26-0D4B-47CE
 -BBB3-EBB3613B3D45&match=597
DTSTART;TZID=Europe/Brussels:20230111T160000
DTEND;TZID=Europe/Brussels:20230111T160000
END:VEVENT
BEGIN:VEVENT
UID:32F5ED26-0D4B-47CE-BBB3-EBB3613B3D45-13-599_awayreminder@101.badmintonn
 ers.net
DTSTAMP:20260420T072353Z
SUMMARY:Uitmatch bevestigd? (Smash 1D (41) - Beerke 1D (45))
DESCRIPTION:Je hebt 72 uur na aanvang om een uitmatch op Badmintonvlaandere
 n in te vullen. Match info: Smash 1D (41) - Beerke 1D (45) - Link: https:/
 /www.badmintonvlaanderen.be/sport/teammatch.aspx?id=32F5ED26-0D4B-47CE-BBB
 3-EBB3613B3D45&match=599
DTSTART;TZID=Europe/Brussels:20230208T130000
DTEND;TZID=Europe/Brussels:20230208T130000
END:VEVENT
BEGIN:VEVENT
UID:32F5ED26-0D4B-47CE-BBB3-EBB3613B3D45-13-595_awayreminder@101.badmintonn
 ers.net
DTSTAMP:20260420T072353Z
SUMMARY:Uitmatch bevestigd? (Dijlevallei 4D (44) - Beerke 1D (45))
DESCRIPTION:Je hebt 72 uur na aanvang om een uitmatch op Badmintonvlaandere
 n in te vullen. Match info: Dijlevallei 4D (44) - Beerke 1D (45) - Link: h
 ttps://www.badmintonvlaanderen.be/sport/teammatch.aspx?id=32F5ED26-0D4B-47
 CE-BBB3-EBB3613B3D45&match=595
DTSTART;TZID=Europe/Brussels:20230419T170000
DTEND;TZID=Europe/Brussels:20230419T170000
END:VEVENT
END:VCALENDAR