BEGIN:VCALENDAR
VERSION:2.0
PRODID:spatie/icalendar-generator
NAME:lubbinton_1d_51_reminders
X-WR-CALNAME:lubbinton_1d_51_reminders
BEGIN:VTIMEZONE
TZID:Europe/Brussels
BEGIN:DAYLIGHT
DTSTART:20220327T010000
TZOFFSETFROM:+0100
TZOFFSETTO:+0200
END:DAYLIGHT
BEGIN:STANDARD
DTSTART:20221030T030000
TZOFFSETFROM:+0200
TZOFFSETTO:+0100
END:STANDARD
BEGIN:DAYLIGHT
DTSTART:20230326T010000
TZOFFSETFROM:+0100
TZOFFSETTO:+0200
END:DAYLIGHT
BEGIN:STANDARD
DTSTART:20231029T030000
TZOFFSETFROM:+0200
TZOFFSETTO:+0100
END:STANDARD
END:VTIMEZONE
BEGIN:VTIMEZONE
TZID:UTC
BEGIN:STANDARD
DTSTART:20250724T072354
TZOFFSETFROM:+0000
TZOFFSETTO:+0000
END:STANDARD
END:VTIMEZONE
BEGIN:VEVENT
UID:32F5ED26-0D4B-47CE-BBB3-EBB3613B3D45-13-560_homereminder@82.badmintonne
 rs.net
DTSTAMP:20260420T072354Z
SUMMARY:Thuismatch ingevuld? (Lubbinton 1D (51) - Dijlevallei 4D (44))
DESCRIPTION:Je hebt 36 uur na aanvang om een thuismatch op Badmintonvlaande
 ren in te vullen. Match info: Lubbinton 1D (51) - Dijlevallei 4D (44) - Li
 nk: https://www.badmintonvlaanderen.be/sport/teammatch.aspx?id=32F5ED26-0D
 4B-47CE-BBB3-EBB3613B3D45&match=560
DTSTART;TZID=Europe/Brussels:20221004T040000
DTEND;TZID=Europe/Brussels:20221004T040000
END:VEVENT
BEGIN:VEVENT
UID:32F5ED26-0D4B-47CE-BBB3-EBB3613B3D45-13-579_homereminder@82.badmintonne
 rs.net
DTSTAMP:20260420T072354Z
SUMMARY:Thuismatch ingevuld? (Lubbinton 1D (51) - Klein Boom 1D (39))
DESCRIPTION:Je hebt 36 uur na aanvang om een thuismatch op Badmintonvlaande
 ren in te vullen. Match info: Lubbinton 1D (51) - Klein Boom 1D (39) - Lin
 k: https://www.badmintonvlaanderen.be/sport/teammatch.aspx?id=32F5ED26-0D4
 B-47CE-BBB3-EBB3613B3D45&match=579
DTSTART;TZID=Europe/Brussels:20221115T040000
DTEND;TZID=Europe/Brussels:20221115T040000
END:VEVENT
BEGIN:VEVENT
UID:32F5ED26-0D4B-47CE-BBB3-EBB3613B3D45-13-591_homereminder@82.badmintonne
 rs.net
DTSTAMP:20260420T072354Z
SUMMARY:Thuismatch ingevuld? (Lubbinton 1D (51) - Hebad 2D (45))
DESCRIPTION:Je hebt 36 uur na aanvang om een thuismatch op Badmintonvlaande
 ren in te vullen. Match info: Lubbinton 1D (51) - Hebad 2D (45) - Link: ht
 tps://www.badmintonvlaanderen.be/sport/teammatch.aspx?id=32F5ED26-0D4B-47C
 E-BBB3-EBB3613B3D45&match=591
DTSTART;TZID=Europe/Brussels:20221129T040000
DTEND;TZID=Europe/Brussels:20221129T040000
END:VEVENT
BEGIN:VEVENT
UID:32F5ED26-0D4B-47CE-BBB3-EBB3613B3D45-13-597_homereminder@82.badmintonne
 rs.net
DTSTAMP:20260420T072354Z
SUMMARY:Thuismatch ingevuld? (Lubbinton 1D (51) - Beerke 1D (45))
DESCRIPTION:Je hebt 36 uur na aanvang om een thuismatch op Badmintonvlaande
 ren in te vullen. Match info: Lubbinton 1D (51) - Beerke 1D (45) - Link: h
 ttps://www.badmintonvlaanderen.be/sport/teammatch.aspx?id=32F5ED26-0D4B-47
 CE-BBB3-EBB3613B3D45&match=597
DTSTART;TZID=Europe/Brussels:20230110T040000
DTEND;TZID=Europe/Brussels:20230110T040000
END:VEVENT
BEGIN:VEVENT
UID:32F5ED26-0D4B-47CE-BBB3-EBB3613B3D45-13-566_homereminder@82.badmintonne
 rs.net
DTSTAMP:20260420T072354Z
SUMMARY:Thuismatch ingevuld? (Lubbinton 1D (51) - Waverse 1D (52))
DESCRIPTION:Je hebt 36 uur na aanvang om een thuismatch op Badmintonvlaande
 ren in te vullen. Match info: Lubbinton 1D (51) - Waverse 1D (52) - Link: 
 https://www.badmintonvlaanderen.be/sport/teammatch.aspx?id=32F5ED26-0D4B-4
 7CE-BBB3-EBB3613B3D45&match=566
DTSTART;TZID=Europe/Brussels:20230207T040000
DTEND;TZID=Europe/Brussels:20230207T040000
END:VEVENT
BEGIN:VEVENT
UID:32F5ED26-0D4B-47CE-BBB3-EBB3613B3D45-13-585_homereminder@82.badmintonne
 rs.net
DTSTAMP:20260420T072354Z
SUMMARY:Thuismatch ingevuld? (Lubbinton 1D (51) - Smash 1D (41))
DESCRIPTION:Je hebt 36 uur na aanvang om een thuismatch op Badmintonvlaande
 ren in te vullen. Match info: Lubbinton 1D (51) - Smash 1D (41) - Link: ht
 tps://www.badmintonvlaanderen.be/sport/teammatch.aspx?id=32F5ED26-0D4B-47C
 E-BBB3-EBB3613B3D45&match=585
DTSTART;TZID=Europe/Brussels:20230321T040000
DTEND;TZID=Europe/Brussels:20230321T040000
END:VEVENT
BEGIN:VEVENT
UID:32F5ED26-0D4B-47CE-BBB3-EBB3613B3D45-13-576_awayreminder@82.badmintonne
 rs.net
DTSTAMP:20260420T072354Z
SUMMARY:Uitmatch bevestigd? (Beerke 1D (45) - Lubbinton 1D (51))
DESCRIPTION:Je hebt 72 uur na aanvang om een uitmatch op Badmintonvlaandere
 n in te vullen. Match info: Beerke 1D (45) - Lubbinton 1D (51) - Link: htt
 ps://www.badmintonvlaanderen.be/sport/teammatch.aspx?id=32F5ED26-0D4B-47CE
 -BBB3-EBB3613B3D45&match=576
DTSTART;TZID=Europe/Brussels:20220921T100000
DTEND;TZID=Europe/Brussels:20220921T100000
END:VEVENT
BEGIN:VEVENT
UID:32F5ED26-0D4B-47CE-BBB3-EBB3613B3D45-13-572_awayreminder@82.badmintonne
 rs.net
DTSTAMP:20260420T072354Z
SUMMARY:Uitmatch bevestigd? (Waverse 1D (52) - Lubbinton 1D (51))
DESCRIPTION:Je hebt 72 uur na aanvang om een uitmatch op Badmintonvlaandere
 n in te vullen. Match info: Waverse 1D (52) - Lubbinton 1D (51) - Link: ht
 tps://www.badmintonvlaanderen.be/sport/teammatch.aspx?id=32F5ED26-0D4B-47C
 E-BBB3-EBB3613B3D45&match=572
DTSTART;TZID=Europe/Brussels:20221024T200000
DTEND;TZID=Europe/Brussels:20221024T200000
END:VEVENT
BEGIN:VEVENT
UID:32F5ED26-0D4B-47CE-BBB3-EBB3613B3D45-13-574_awayreminder@82.badmintonne
 rs.net
DTSTAMP:20260420T072354Z
SUMMARY:Uitmatch bevestigd? (Smash 1D (41) - Lubbinton 1D (51))
DESCRIPTION:Je hebt 72 uur na aanvang om een uitmatch op Badmintonvlaandere
 n in te vullen. Match info: Smash 1D (41) - Lubbinton 1D (51) - Link: http
 s://www.badmintonvlaanderen.be/sport/teammatch.aspx?id=32F5ED26-0D4B-47CE-
 BBB3-EBB3613B3D45&match=574
DTSTART;TZID=Europe/Brussels:20221214T130000
DTEND;TZID=Europe/Brussels:20221214T130000
END:VEVENT
BEGIN:VEVENT
UID:32F5ED26-0D4B-47CE-BBB3-EBB3613B3D45-13-573_awayreminder@82.badmintonne
 rs.net
DTSTAMP:20260420T072354Z
SUMMARY:Uitmatch bevestigd? (Klein Boom 1D (39) - Lubbinton 1D (51))
DESCRIPTION:Je hebt 72 uur na aanvang om een uitmatch op Badmintonvlaandere
 n in te vullen. Match info: Klein Boom 1D (39) - Lubbinton 1D (51) - Link:
  https://www.badmintonvlaanderen.be/sport/teammatch.aspx?id=32F5ED26-0D4B-
 47CE-BBB3-EBB3613B3D45&match=573
DTSTART;TZID=Europe/Brussels:20230308T190000
DTEND;TZID=Europe/Brussels:20230308T190000
END:VEVENT
BEGIN:VEVENT
UID:32F5ED26-0D4B-47CE-BBB3-EBB3613B3D45-13-575_awayreminder@82.badmintonne
 rs.net
DTSTAMP:20260420T072354Z
SUMMARY:Uitmatch bevestigd? (Hebad 2D (45) - Lubbinton 1D (51))
DESCRIPTION:Je hebt 72 uur na aanvang om een uitmatch op Badmintonvlaandere
 n in te vullen. Match info: Hebad 2D (45) - Lubbinton 1D (51) - Link: http
 s://www.badmintonvlaanderen.be/sport/teammatch.aspx?id=32F5ED26-0D4B-47CE-
 BBB3-EBB3613B3D45&match=575
DTSTART;TZID=Europe/Brussels:20230405T140000
DTEND;TZID=Europe/Brussels:20230405T140000
END:VEVENT
BEGIN:VEVENT
UID:32F5ED26-0D4B-47CE-BBB3-EBB3613B3D45-13-571_awayreminder@82.badmintonne
 rs.net
DTSTAMP:20260420T072354Z
SUMMARY:Uitmatch bevestigd? (Dijlevallei 4D (44) - Lubbinton 1D (51))
DESCRIPTION:Je hebt 72 uur na aanvang om een uitmatch op Badmintonvlaandere
 n in te vullen. Match info: Dijlevallei 4D (44) - Lubbinton 1D (51) - Link
 : https://www.badmintonvlaanderen.be/sport/teammatch.aspx?id=32F5ED26-0D4B
 -47CE-BBB3-EBB3613B3D45&match=571
DTSTART;TZID=Europe/Brussels:20230503T170000
DTEND;TZID=Europe/Brussels:20230503T170000
END:VEVENT
END:VCALENDAR