BEGIN:VCALENDAR
VERSION:2.0
PRODID:spatie/icalendar-generator
NAME:waverse_1d_52_reminders
X-WR-CALNAME:waverse_1d_52_reminders
BEGIN:VTIMEZONE
TZID:Europe/Brussels
BEGIN:DAYLIGHT
DTSTART:20220327T010000
TZOFFSETFROM:+0100
TZOFFSETTO:+0200
END:DAYLIGHT
BEGIN:STANDARD
DTSTART:20221030T030000
TZOFFSETFROM:+0200
TZOFFSETTO:+0100
END:STANDARD
BEGIN:DAYLIGHT
DTSTART:20230326T010000
TZOFFSETFROM:+0100
TZOFFSETTO:+0200
END:DAYLIGHT
BEGIN:STANDARD
DTSTART:20231029T030000
TZOFFSETFROM:+0200
TZOFFSETTO:+0100
END:STANDARD
END:VTIMEZONE
BEGIN:VTIMEZONE
TZID:UTC
BEGIN:STANDARD
DTSTART:20250724T072354
TZOFFSETFROM:+0000
TZOFFSETTO:+0000
END:STANDARD
END:VTIMEZONE
BEGIN:VEVENT
UID:32F5ED26-0D4B-47CE-BBB3-EBB3613B3D45-13-572_homereminder@86.badmintonne
 rs.net
DTSTAMP:20260420T072354Z
SUMMARY:Thuismatch ingevuld? (Waverse 1D (52) - Lubbinton 1D (51))
DESCRIPTION:Je hebt 36 uur na aanvang om een thuismatch op Badmintonvlaande
 ren in te vullen. Match info: Waverse 1D (52) - Lubbinton 1D (51) - Link: 
 https://www.badmintonvlaanderen.be/sport/teammatch.aspx?id=32F5ED26-0D4B-4
 7CE-BBB3-EBB3613B3D45&match=572
DTSTART;TZID=Europe/Brussels:20221023T080000
DTEND;TZID=Europe/Brussels:20221023T080000
END:VEVENT
BEGIN:VEVENT
UID:32F5ED26-0D4B-47CE-BBB3-EBB3613B3D45-13-584_homereminder@86.badmintonne
 rs.net
DTSTAMP:20260420T072354Z
SUMMARY:Thuismatch ingevuld? (Waverse 1D (52) - Smash 1D (41))
DESCRIPTION:Je hebt 36 uur na aanvang om een thuismatch op Badmintonvlaande
 ren in te vullen. Match info: Waverse 1D (52) - Smash 1D (41) - Link: http
 s://www.badmintonvlaanderen.be/sport/teammatch.aspx?id=32F5ED26-0D4B-47CE-
 BBB3-EBB3613B3D45&match=584
DTSTART;TZID=Europe/Brussels:20221115T020000
DTEND;TZID=Europe/Brussels:20221115T020000
END:VEVENT
BEGIN:VEVENT
UID:32F5ED26-0D4B-47CE-BBB3-EBB3613B3D45-13-596_homereminder@86.badmintonne
 rs.net
DTSTAMP:20260420T072354Z
SUMMARY:Thuismatch ingevuld? (Waverse 1D (52) - Beerke 1D (45))
DESCRIPTION:Je hebt 36 uur na aanvang om een thuismatch op Badmintonvlaande
 ren in te vullen. Match info: Waverse 1D (52) - Beerke 1D (45) - Link: htt
 ps://www.badmintonvlaanderen.be/sport/teammatch.aspx?id=32F5ED26-0D4B-47CE
 -BBB3-EBB3613B3D45&match=596
DTSTART;TZID=Europe/Brussels:20221120T080000
DTEND;TZID=Europe/Brussels:20221120T080000
END:VEVENT
BEGIN:VEVENT
UID:32F5ED26-0D4B-47CE-BBB3-EBB3613B3D45-13-559_homereminder@86.badmintonne
 rs.net
DTSTAMP:20260420T072354Z
SUMMARY:Thuismatch ingevuld? (Waverse 1D (52) - Dijlevallei 4D (44))
DESCRIPTION:Je hebt 36 uur na aanvang om een thuismatch op Badmintonvlaande
 ren in te vullen. Match info: Waverse 1D (52) - Dijlevallei 4D (44) - Link
 : https://www.badmintonvlaanderen.be/sport/teammatch.aspx?id=32F5ED26-0D4B
 -47CE-BBB3-EBB3613B3D45&match=559
DTSTART;TZID=Europe/Brussels:20221129T020000
DTEND;TZID=Europe/Brussels:20221129T020000
END:VEVENT
BEGIN:VEVENT
UID:32F5ED26-0D4B-47CE-BBB3-EBB3613B3D45-13-578_homereminder@86.badmintonne
 rs.net
DTSTAMP:20260420T072354Z
SUMMARY:Thuismatch ingevuld? (Waverse 1D (52) - Klein Boom 1D (39))
DESCRIPTION:Je hebt 36 uur na aanvang om een thuismatch op Badmintonvlaande
 ren in te vullen. Match info: Waverse 1D (52) - Klein Boom 1D (39) - Link:
  https://www.badmintonvlaanderen.be/sport/teammatch.aspx?id=32F5ED26-0D4B-
 47CE-BBB3-EBB3613B3D45&match=578
DTSTART;TZID=Europe/Brussels:20230221T020000
DTEND;TZID=Europe/Brussels:20230221T020000
END:VEVENT
BEGIN:VEVENT
UID:32F5ED26-0D4B-47CE-BBB3-EBB3613B3D45-13-590_homereminder@86.badmintonne
 rs.net
DTSTAMP:20260420T072354Z
SUMMARY:Thuismatch ingevuld? (Waverse 1D (52) - Hebad 2D (45))
DESCRIPTION:Je hebt 36 uur na aanvang om een thuismatch op Badmintonvlaande
 ren in te vullen. Match info: Waverse 1D (52) - Hebad 2D (45) - Link: http
 s://www.badmintonvlaanderen.be/sport/teammatch.aspx?id=32F5ED26-0D4B-47CE-
 BBB3-EBB3613B3D45&match=590
DTSTART;TZID=Europe/Brussels:20230321T020000
DTEND;TZID=Europe/Brussels:20230321T020000
END:VEVENT
BEGIN:VEVENT
UID:32F5ED26-0D4B-47CE-BBB3-EBB3613B3D45-13-567_awayreminder@86.badmintonne
 rs.net
DTSTAMP:20260420T072354Z
SUMMARY:Uitmatch bevestigd? (Klein Boom 1D (39) - Waverse 1D (52))
DESCRIPTION:Je hebt 72 uur na aanvang om een uitmatch op Badmintonvlaandere
 n in te vullen. Match info: Klein Boom 1D (39) - Waverse 1D (52) - Link: h
 ttps://www.badmintonvlaanderen.be/sport/teammatch.aspx?id=32F5ED26-0D4B-47
 CE-BBB3-EBB3613B3D45&match=567
DTSTART;TZID=Europe/Brussels:20221102T190000
DTEND;TZID=Europe/Brussels:20221102T190000
END:VEVENT
BEGIN:VEVENT
UID:32F5ED26-0D4B-47CE-BBB3-EBB3613B3D45-13-569_awayreminder@86.badmintonne
 rs.net
DTSTAMP:20260420T072354Z
SUMMARY:Uitmatch bevestigd? (Hebad 2D (45) - Waverse 1D (52))
DESCRIPTION:Je hebt 72 uur na aanvang om een uitmatch op Badmintonvlaandere
 n in te vullen. Match info: Hebad 2D (45) - Waverse 1D (52) - Link: https:
 //www.badmintonvlaanderen.be/sport/teammatch.aspx?id=32F5ED26-0D4B-47CE-BB
 B3-EBB3613B3D45&match=569
DTSTART;TZID=Europe/Brussels:20221214T140000
DTEND;TZID=Europe/Brussels:20221214T140000
END:VEVENT
BEGIN:VEVENT
UID:32F5ED26-0D4B-47CE-BBB3-EBB3613B3D45-13-566_awayreminder@86.badmintonne
 rs.net
DTSTAMP:20260420T072354Z
SUMMARY:Uitmatch bevestigd? (Lubbinton 1D (51) - Waverse 1D (52))
DESCRIPTION:Je hebt 72 uur na aanvang om een uitmatch op Badmintonvlaandere
 n in te vullen. Match info: Lubbinton 1D (51) - Waverse 1D (52) - Link: ht
 tps://www.badmintonvlaanderen.be/sport/teammatch.aspx?id=32F5ED26-0D4B-47C
 E-BBB3-EBB3613B3D45&match=566
DTSTART;TZID=Europe/Brussels:20230208T160000
DTEND;TZID=Europe/Brussels:20230208T160000
END:VEVENT
BEGIN:VEVENT
UID:32F5ED26-0D4B-47CE-BBB3-EBB3613B3D45-13-568_awayreminder@86.badmintonne
 rs.net
DTSTAMP:20260420T072354Z
SUMMARY:Uitmatch bevestigd? (Smash 1D (41) - Waverse 1D (52))
DESCRIPTION:Je hebt 72 uur na aanvang om een uitmatch op Badmintonvlaandere
 n in te vullen. Match info: Smash 1D (41) - Waverse 1D (52) - Link: https:
 //www.badmintonvlaanderen.be/sport/teammatch.aspx?id=32F5ED26-0D4B-47CE-BB
 B3-EBB3613B3D45&match=568
DTSTART;TZID=Europe/Brussels:20230308T130000
DTEND;TZID=Europe/Brussels:20230308T130000
END:VEVENT
BEGIN:VEVENT
UID:32F5ED26-0D4B-47CE-BBB3-EBB3613B3D45-13-570_awayreminder@86.badmintonne
 rs.net
DTSTAMP:20260420T072354Z
SUMMARY:Uitmatch bevestigd? (Beerke 1D (45) - Waverse 1D (52))
DESCRIPTION:Je hebt 72 uur na aanvang om een uitmatch op Badmintonvlaandere
 n in te vullen. Match info: Beerke 1D (45) - Waverse 1D (52) - Link: https
 ://www.badmintonvlaanderen.be/sport/teammatch.aspx?id=32F5ED26-0D4B-47CE-B
 BB3-EBB3613B3D45&match=570
DTSTART;TZID=Europe/Brussels:20230405T100000
DTEND;TZID=Europe/Brussels:20230405T100000
END:VEVENT
BEGIN:VEVENT
UID:32F5ED26-0D4B-47CE-BBB3-EBB3613B3D45-13-565_awayreminder@86.badmintonne
 rs.net
DTSTAMP:20260420T072354Z
SUMMARY:Uitmatch bevestigd? (Dijlevallei 4D (44) - Waverse 1D (52))
DESCRIPTION:Je hebt 72 uur na aanvang om een uitmatch op Badmintonvlaandere
 n in te vullen. Match info: Dijlevallei 4D (44) - Waverse 1D (52) - Link: 
 https://www.badmintonvlaanderen.be/sport/teammatch.aspx?id=32F5ED26-0D4B-4
 7CE-BBB3-EBB3613B3D45&match=565
DTSTART;TZID=Europe/Brussels:20230502T140000
DTEND;TZID=Europe/Brussels:20230502T140000
END:VEVENT
END:VCALENDAR