BEGIN:VCALENDAR
VERSION:2.0
PRODID:spatie/icalendar-generator
NAME:smash_1d_41_reminders
X-WR-CALNAME:smash_1d_41_reminders
BEGIN:VTIMEZONE
TZID:Europe/Brussels
BEGIN:DAYLIGHT
DTSTART:20220327T010000
TZOFFSETFROM:+0100
TZOFFSETTO:+0200
END:DAYLIGHT
BEGIN:STANDARD
DTSTART:20221030T030000
TZOFFSETFROM:+0200
TZOFFSETTO:+0100
END:STANDARD
BEGIN:DAYLIGHT
DTSTART:20230326T010000
TZOFFSETFROM:+0100
TZOFFSETTO:+0200
END:DAYLIGHT
END:VTIMEZONE
BEGIN:VTIMEZONE
TZID:UTC
BEGIN:STANDARD
DTSTART:20250724T072351
TZOFFSETFROM:+0000
TZOFFSETTO:+0000
END:STANDARD
END:VTIMEZONE
BEGIN:VEVENT
UID:32F5ED26-0D4B-47CE-BBB3-EBB3613B3D45-13-593_homereminder@97.badmintonne
 rs.net
DTSTAMP:20260420T072351Z
SUMMARY:Thuismatch ingevuld? (Smash 1D (41) - Hebad 2D (45))
DESCRIPTION:Je hebt 36 uur na aanvang om een thuismatch op Badmintonvlaande
 ren in te vullen. Match info: Smash 1D (41) - Hebad 2D (45) - Link: https:
 //www.badmintonvlaanderen.be/sport/teammatch.aspx?id=32F5ED26-0D4B-47CE-BB
 B3-EBB3613B3D45&match=593
DTSTART;TZID=Europe/Brussels:20221004T010000
DTEND;TZID=Europe/Brussels:20221004T010000
END:VEVENT
BEGIN:VEVENT
UID:32F5ED26-0D4B-47CE-BBB3-EBB3613B3D45-13-562_homereminder@97.badmintonne
 rs.net
DTSTAMP:20260420T072351Z
SUMMARY:Thuismatch ingevuld? (Smash 1D (41) - Dijlevallei 4D (44))
DESCRIPTION:Je hebt 36 uur na aanvang om een thuismatch op Badmintonvlaande
 ren in te vullen. Match info: Smash 1D (41) - Dijlevallei 4D (44) - Link: 
 https://www.badmintonvlaanderen.be/sport/teammatch.aspx?id=32F5ED26-0D4B-4
 7CE-BBB3-EBB3613B3D45&match=562
DTSTART;TZID=Europe/Brussels:20221101T010000
DTEND;TZID=Europe/Brussels:20221101T010000
END:VEVENT
BEGIN:VEVENT
UID:32F5ED26-0D4B-47CE-BBB3-EBB3613B3D45-13-574_homereminder@97.badmintonne
 rs.net
DTSTAMP:20260420T072351Z
SUMMARY:Thuismatch ingevuld? (Smash 1D (41) - Lubbinton 1D (51))
DESCRIPTION:Je hebt 36 uur na aanvang om een thuismatch op Badmintonvlaande
 ren in te vullen. Match info: Smash 1D (41) - Lubbinton 1D (51) - Link: ht
 tps://www.badmintonvlaanderen.be/sport/teammatch.aspx?id=32F5ED26-0D4B-47C
 E-BBB3-EBB3613B3D45&match=574
DTSTART;TZID=Europe/Brussels:20221213T010000
DTEND;TZID=Europe/Brussels:20221213T010000
END:VEVENT
BEGIN:VEVENT
UID:32F5ED26-0D4B-47CE-BBB3-EBB3613B3D45-13-599_homereminder@97.badmintonne
 rs.net
DTSTAMP:20260420T072351Z
SUMMARY:Thuismatch ingevuld? (Smash 1D (41) - Beerke 1D (45))
DESCRIPTION:Je hebt 36 uur na aanvang om een thuismatch op Badmintonvlaande
 ren in te vullen. Match info: Smash 1D (41) - Beerke 1D (45) - Link: https
 ://www.badmintonvlaanderen.be/sport/teammatch.aspx?id=32F5ED26-0D4B-47CE-B
 BB3-EBB3613B3D45&match=599
DTSTART;TZID=Europe/Brussels:20230207T010000
DTEND;TZID=Europe/Brussels:20230207T010000
END:VEVENT
BEGIN:VEVENT
UID:32F5ED26-0D4B-47CE-BBB3-EBB3613B3D45-13-568_homereminder@97.badmintonne
 rs.net
DTSTAMP:20260420T072351Z
SUMMARY:Thuismatch ingevuld? (Smash 1D (41) - Waverse 1D (52))
DESCRIPTION:Je hebt 36 uur na aanvang om een thuismatch op Badmintonvlaande
 ren in te vullen. Match info: Smash 1D (41) - Waverse 1D (52) - Link: http
 s://www.badmintonvlaanderen.be/sport/teammatch.aspx?id=32F5ED26-0D4B-47CE-
 BBB3-EBB3613B3D45&match=568
DTSTART;TZID=Europe/Brussels:20230307T010000
DTEND;TZID=Europe/Brussels:20230307T010000
END:VEVENT
BEGIN:VEVENT
UID:32F5ED26-0D4B-47CE-BBB3-EBB3613B3D45-13-580_homereminder@97.badmintonne
 rs.net
DTSTAMP:20260420T072351Z
SUMMARY:Thuismatch ingevuld? (Smash 1D (41) - Klein Boom 1D (39))
DESCRIPTION:Je hebt 36 uur na aanvang om een thuismatch op Badmintonvlaande
 ren in te vullen. Match info: Smash 1D (41) - Klein Boom 1D (39) - Link: h
 ttps://www.badmintonvlaanderen.be/sport/teammatch.aspx?id=32F5ED26-0D4B-47
 CE-BBB3-EBB3613B3D45&match=580
DTSTART;TZID=Europe/Brussels:20230404T010000
DTEND;TZID=Europe/Brussels:20230404T010000
END:VEVENT
BEGIN:VEVENT
UID:32F5ED26-0D4B-47CE-BBB3-EBB3613B3D45-13-586_awayreminder@97.badmintonne
 rs.net
DTSTAMP:20260420T072351Z
SUMMARY:Uitmatch bevestigd? (Klein Boom 1D (39) - Smash 1D (41))
DESCRIPTION:Je hebt 72 uur na aanvang om een uitmatch op Badmintonvlaandere
 n in te vullen. Match info: Klein Boom 1D (39) - Smash 1D (41) - Link: htt
 ps://www.badmintonvlaanderen.be/sport/teammatch.aspx?id=32F5ED26-0D4B-47CE
 -BBB3-EBB3613B3D45&match=586
DTSTART;TZID=Europe/Brussels:20220907T190000
DTEND;TZID=Europe/Brussels:20220907T190000
END:VEVENT
BEGIN:VEVENT
UID:32F5ED26-0D4B-47CE-BBB3-EBB3613B3D45-13-588_awayreminder@97.badmintonne
 rs.net
DTSTAMP:20260420T072351Z
SUMMARY:Uitmatch bevestigd? (Beerke 1D (45) - Smash 1D (41))
DESCRIPTION:Je hebt 72 uur na aanvang om een uitmatch op Badmintonvlaandere
 n in te vullen. Match info: Beerke 1D (45) - Smash 1D (41) - Link: https:/
 /www.badmintonvlaanderen.be/sport/teammatch.aspx?id=32F5ED26-0D4B-47CE-BBB
 3-EBB3613B3D45&match=588
DTSTART;TZID=Europe/Brussels:20221019T100000
DTEND;TZID=Europe/Brussels:20221019T100000
END:VEVENT
BEGIN:VEVENT
UID:32F5ED26-0D4B-47CE-BBB3-EBB3613B3D45-13-584_awayreminder@97.badmintonne
 rs.net
DTSTAMP:20260420T072351Z
SUMMARY:Uitmatch bevestigd? (Waverse 1D (52) - Smash 1D (41))
DESCRIPTION:Je hebt 72 uur na aanvang om een uitmatch op Badmintonvlaandere
 n in te vullen. Match info: Waverse 1D (52) - Smash 1D (41) - Link: https:
 //www.badmintonvlaanderen.be/sport/teammatch.aspx?id=32F5ED26-0D4B-47CE-BB
 B3-EBB3613B3D45&match=584
DTSTART;TZID=Europe/Brussels:20221116T140000
DTEND;TZID=Europe/Brussels:20221116T140000
END:VEVENT
BEGIN:VEVENT
UID:32F5ED26-0D4B-47CE-BBB3-EBB3613B3D45-13-587_awayreminder@97.badmintonne
 rs.net
DTSTAMP:20260420T072351Z
SUMMARY:Uitmatch bevestigd? (Hebad 2D (45) - Smash 1D (41))
DESCRIPTION:Je hebt 72 uur na aanvang om een uitmatch op Badmintonvlaandere
 n in te vullen. Match info: Hebad 2D (45) - Smash 1D (41) - Link: https://
 www.badmintonvlaanderen.be/sport/teammatch.aspx?id=32F5ED26-0D4B-47CE-BBB3
 -EBB3613B3D45&match=587
DTSTART;TZID=Europe/Brussels:20230220T200000
DTEND;TZID=Europe/Brussels:20230220T200000
END:VEVENT
BEGIN:VEVENT
UID:32F5ED26-0D4B-47CE-BBB3-EBB3613B3D45-13-583_awayreminder@97.badmintonne
 rs.net
DTSTAMP:20260420T072351Z
SUMMARY:Uitmatch bevestigd? (Dijlevallei 4D (44) - Smash 1D (41))
DESCRIPTION:Je hebt 72 uur na aanvang om een uitmatch op Badmintonvlaandere
 n in te vullen. Match info: Dijlevallei 4D (44) - Smash 1D (41) - Link: ht
 tps://www.badmintonvlaanderen.be/sport/teammatch.aspx?id=32F5ED26-0D4B-47C
 E-BBB3-EBB3613B3D45&match=583
DTSTART;TZID=Europe/Brussels:20230222T170000
DTEND;TZID=Europe/Brussels:20230222T170000
END:VEVENT
BEGIN:VEVENT
UID:32F5ED26-0D4B-47CE-BBB3-EBB3613B3D45-13-585_awayreminder@97.badmintonne
 rs.net
DTSTAMP:20260420T072351Z
SUMMARY:Uitmatch bevestigd? (Lubbinton 1D (51) - Smash 1D (41))
DESCRIPTION:Je hebt 72 uur na aanvang om een uitmatch op Badmintonvlaandere
 n in te vullen. Match info: Lubbinton 1D (51) - Smash 1D (41) - Link: http
 s://www.badmintonvlaanderen.be/sport/teammatch.aspx?id=32F5ED26-0D4B-47CE-
 BBB3-EBB3613B3D45&match=585
DTSTART;TZID=Europe/Brussels:20230322T160000
DTEND;TZID=Europe/Brussels:20230322T160000
END:VEVENT
END:VCALENDAR