BEGIN:VCALENDAR
VERSION:2.0
PRODID:spatie/icalendar-generator
NAME:dijlevallei_4d_44_reminders
X-WR-CALNAME:dijlevallei_4d_44_reminders
BEGIN:VTIMEZONE
TZID:Europe/Brussels
BEGIN:DAYLIGHT
DTSTART:20220327T010000
TZOFFSETFROM:+0100
TZOFFSETTO:+0200
END:DAYLIGHT
BEGIN:STANDARD
DTSTART:20221030T030000
TZOFFSETFROM:+0200
TZOFFSETTO:+0100
END:STANDARD
BEGIN:DAYLIGHT
DTSTART:20230326T010000
TZOFFSETFROM:+0100
TZOFFSETTO:+0200
END:DAYLIGHT
BEGIN:STANDARD
DTSTART:20231029T030000
TZOFFSETFROM:+0200
TZOFFSETTO:+0100
END:STANDARD
END:VTIMEZONE
BEGIN:VTIMEZONE
TZID:UTC
BEGIN:STANDARD
DTSTART:20250724T054056
TZOFFSETFROM:+0000
TZOFFSETTO:+0000
END:STANDARD
END:VTIMEZONE
BEGIN:VEVENT
UID:32F5ED26-0D4B-47CE-BBB3-EBB3613B3D45-13-583_homereminder@98.badmintonne
 rs.net
DTSTAMP:20260420T054056Z
SUMMARY:Thuismatch ingevuld? (Dijlevallei 4D (44) - Smash 1D (41))
DESCRIPTION:Je hebt 36 uur na aanvang om een thuismatch op Badmintonvlaande
 ren in te vullen. Match info: Dijlevallei 4D (44) - Smash 1D (41) - Link: 
 https://www.badmintonvlaanderen.be/sport/teammatch.aspx?id=32F5ED26-0D4B-4
 7CE-BBB3-EBB3613B3D45&match=583
DTSTART;TZID=Europe/Brussels:20230221T050000
DTEND;TZID=Europe/Brussels:20230221T050000
END:VEVENT
BEGIN:VEVENT
UID:32F5ED26-0D4B-47CE-BBB3-EBB3613B3D45-13-589_homereminder@98.badmintonne
 rs.net
DTSTAMP:20260420T054056Z
SUMMARY:Thuismatch ingevuld? (Dijlevallei 4D (44) - Hebad 2D (45))
DESCRIPTION:Je hebt 36 uur na aanvang om een thuismatch op Badmintonvlaande
 ren in te vullen. Match info: Dijlevallei 4D (44) - Hebad 2D (45) - Link: 
 https://www.badmintonvlaanderen.be/sport/teammatch.aspx?id=32F5ED26-0D4B-4
 7CE-BBB3-EBB3613B3D45&match=589
DTSTART;TZID=Europe/Brussels:20230307T050000
DTEND;TZID=Europe/Brussels:20230307T050000
END:VEVENT
BEGIN:VEVENT
UID:32F5ED26-0D4B-47CE-BBB3-EBB3613B3D45-13-577_homereminder@98.badmintonne
 rs.net
DTSTAMP:20260420T054056Z
SUMMARY:Thuismatch ingevuld? (Dijlevallei 4D (44) - Klein Boom 1D (39))
DESCRIPTION:Je hebt 36 uur na aanvang om een thuismatch op Badmintonvlaande
 ren in te vullen. Match info: Dijlevallei 4D (44) - Klein Boom 1D (39) - L
 ink: https://www.badmintonvlaanderen.be/sport/teammatch.aspx?id=32F5ED26-0
 D4B-47CE-BBB3-EBB3613B3D45&match=577
DTSTART;TZID=Europe/Brussels:20230321T050000
DTEND;TZID=Europe/Brussels:20230321T050000
END:VEVENT
BEGIN:VEVENT
UID:32F5ED26-0D4B-47CE-BBB3-EBB3613B3D45-13-595_homereminder@98.badmintonne
 rs.net
DTSTAMP:20260420T054056Z
SUMMARY:Thuismatch ingevuld? (Dijlevallei 4D (44) - Beerke 1D (45))
DESCRIPTION:Je hebt 36 uur na aanvang om een thuismatch op Badmintonvlaande
 ren in te vullen. Match info: Dijlevallei 4D (44) - Beerke 1D (45) - Link:
  https://www.badmintonvlaanderen.be/sport/teammatch.aspx?id=32F5ED26-0D4B-
 47CE-BBB3-EBB3613B3D45&match=595
DTSTART;TZID=Europe/Brussels:20230418T050000
DTEND;TZID=Europe/Brussels:20230418T050000
END:VEVENT
BEGIN:VEVENT
UID:32F5ED26-0D4B-47CE-BBB3-EBB3613B3D45-13-565_homereminder@98.badmintonne
 rs.net
DTSTAMP:20260420T054056Z
SUMMARY:Thuismatch ingevuld? (Dijlevallei 4D (44) - Waverse 1D (52))
DESCRIPTION:Je hebt 36 uur na aanvang om een thuismatch op Badmintonvlaande
 ren in te vullen. Match info: Dijlevallei 4D (44) - Waverse 1D (52) - Link
 : https://www.badmintonvlaanderen.be/sport/teammatch.aspx?id=32F5ED26-0D4B
 -47CE-BBB3-EBB3613B3D45&match=565
DTSTART;TZID=Europe/Brussels:20230501T020000
DTEND;TZID=Europe/Brussels:20230501T020000
END:VEVENT
BEGIN:VEVENT
UID:32F5ED26-0D4B-47CE-BBB3-EBB3613B3D45-13-571_homereminder@98.badmintonne
 rs.net
DTSTAMP:20260420T054056Z
SUMMARY:Thuismatch ingevuld? (Dijlevallei 4D (44) - Lubbinton 1D (51))
DESCRIPTION:Je hebt 36 uur na aanvang om een thuismatch op Badmintonvlaande
 ren in te vullen. Match info: Dijlevallei 4D (44) - Lubbinton 1D (51) - Li
 nk: https://www.badmintonvlaanderen.be/sport/teammatch.aspx?id=32F5ED26-0D
 4B-47CE-BBB3-EBB3613B3D45&match=571
DTSTART;TZID=Europe/Brussels:20230502T050000
DTEND;TZID=Europe/Brussels:20230502T050000
END:VEVENT
BEGIN:VEVENT
UID:32F5ED26-0D4B-47CE-BBB3-EBB3613B3D45-13-560_awayreminder@98.badmintonne
 rs.net
DTSTAMP:20260420T054056Z
SUMMARY:Uitmatch bevestigd? (Lubbinton 1D (51) - Dijlevallei 4D (44))
DESCRIPTION:Je hebt 72 uur na aanvang om een uitmatch op Badmintonvlaandere
 n in te vullen. Match info: Lubbinton 1D (51) - Dijlevallei 4D (44) - Link
 : https://www.badmintonvlaanderen.be/sport/teammatch.aspx?id=32F5ED26-0D4B
 -47CE-BBB3-EBB3613B3D45&match=560
DTSTART;TZID=Europe/Brussels:20221005T160000
DTEND;TZID=Europe/Brussels:20221005T160000
END:VEVENT
BEGIN:VEVENT
UID:32F5ED26-0D4B-47CE-BBB3-EBB3613B3D45-13-562_awayreminder@98.badmintonne
 rs.net
DTSTAMP:20260420T054056Z
SUMMARY:Uitmatch bevestigd? (Smash 1D (41) - Dijlevallei 4D (44))
DESCRIPTION:Je hebt 72 uur na aanvang om een uitmatch op Badmintonvlaandere
 n in te vullen. Match info: Smash 1D (41) - Dijlevallei 4D (44) - Link: ht
 tps://www.badmintonvlaanderen.be/sport/teammatch.aspx?id=32F5ED26-0D4B-47C
 E-BBB3-EBB3613B3D45&match=562
DTSTART;TZID=Europe/Brussels:20221102T130000
DTEND;TZID=Europe/Brussels:20221102T130000
END:VEVENT
BEGIN:VEVENT
UID:32F5ED26-0D4B-47CE-BBB3-EBB3613B3D45-13-564_awayreminder@98.badmintonne
 rs.net
DTSTAMP:20260420T054056Z
SUMMARY:Uitmatch bevestigd? (Beerke 1D (45) - Dijlevallei 4D (44))
DESCRIPTION:Je hebt 72 uur na aanvang om een uitmatch op Badmintonvlaandere
 n in te vullen. Match info: Beerke 1D (45) - Dijlevallei 4D (44) - Link: h
 ttps://www.badmintonvlaanderen.be/sport/teammatch.aspx?id=32F5ED26-0D4B-47
 CE-BBB3-EBB3613B3D45&match=564
DTSTART;TZID=Europe/Brussels:20221109T100000
DTEND;TZID=Europe/Brussels:20221109T100000
END:VEVENT
BEGIN:VEVENT
UID:32F5ED26-0D4B-47CE-BBB3-EBB3613B3D45-13-563_awayreminder@98.badmintonne
 rs.net
DTSTAMP:20260420T054056Z
SUMMARY:Uitmatch bevestigd? (Hebad 2D (45) - Dijlevallei 4D (44))
DESCRIPTION:Je hebt 72 uur na aanvang om een uitmatch op Badmintonvlaandere
 n in te vullen. Match info: Hebad 2D (45) - Dijlevallei 4D (44) - Link: ht
 tps://www.badmintonvlaanderen.be/sport/teammatch.aspx?id=32F5ED26-0D4B-47C
 E-BBB3-EBB3613B3D45&match=563
DTSTART;TZID=Europe/Brussels:20221116T140000
DTEND;TZID=Europe/Brussels:20221116T140000
END:VEVENT
BEGIN:VEVENT
UID:32F5ED26-0D4B-47CE-BBB3-EBB3613B3D45-13-559_awayreminder@98.badmintonne
 rs.net
DTSTAMP:20260420T054056Z
SUMMARY:Uitmatch bevestigd? (Waverse 1D (52) - Dijlevallei 4D (44))
DESCRIPTION:Je hebt 72 uur na aanvang om een uitmatch op Badmintonvlaandere
 n in te vullen. Match info: Waverse 1D (52) - Dijlevallei 4D (44) - Link: 
 https://www.badmintonvlaanderen.be/sport/teammatch.aspx?id=32F5ED26-0D4B-4
 7CE-BBB3-EBB3613B3D45&match=559
DTSTART;TZID=Europe/Brussels:20221130T140000
DTEND;TZID=Europe/Brussels:20221130T140000
END:VEVENT
BEGIN:VEVENT
UID:32F5ED26-0D4B-47CE-BBB3-EBB3613B3D45-13-561_awayreminder@98.badmintonne
 rs.net
DTSTAMP:20260420T054056Z
SUMMARY:Uitmatch bevestigd? (Klein Boom 1D (39) - Dijlevallei 4D (44))
DESCRIPTION:Je hebt 72 uur na aanvang om een uitmatch op Badmintonvlaandere
 n in te vullen. Match info: Klein Boom 1D (39) - Dijlevallei 4D (44) - Lin
 k: https://www.badmintonvlaanderen.be/sport/teammatch.aspx?id=32F5ED26-0D4
 B-47CE-BBB3-EBB3613B3D45&match=561
DTSTART;TZID=Europe/Brussels:20221214T190000
DTEND;TZID=Europe/Brussels:20221214T190000
END:VEVENT
END:VCALENDAR