BEGIN:VCALENDAR
VERSION:2.0
PRODID:spatie/icalendar-generator
NAME:opslag_1g_58_reminders
X-WR-CALNAME:opslag_1g_58_reminders
BEGIN:VTIMEZONE
TZID:Europe/Brussels
BEGIN:DAYLIGHT
DTSTART:20220327T010000
TZOFFSETFROM:+0100
TZOFFSETTO:+0200
END:DAYLIGHT
BEGIN:STANDARD
DTSTART:20221030T030000
TZOFFSETFROM:+0200
TZOFFSETTO:+0100
END:STANDARD
BEGIN:DAYLIGHT
DTSTART:20230326T010000
TZOFFSETFROM:+0100
TZOFFSETTO:+0200
END:DAYLIGHT
END:VTIMEZONE
BEGIN:VTIMEZONE
TZID:UTC
BEGIN:STANDARD
DTSTART:20250724T055110
TZOFFSETFROM:+0000
TZOFFSETTO:+0000
END:STANDARD
END:VTIMEZONE
BEGIN:VEVENT
UID:32F5ED26-0D4B-47CE-BBB3-EBB3613B3D45-18-843_homereminder@54.badmintonne
 rs.net
DTSTAMP:20260420T055110Z
SUMMARY:Thuismatch ingevuld? (Opslag 1G (58) - Klein Boom 1G (52))
DESCRIPTION:Je hebt 36 uur na aanvang om een thuismatch op Badmintonvlaande
 ren in te vullen. Match info: Opslag 1G (58) - Klein Boom 1G (52) - Link: 
 https://www.badmintonvlaanderen.be/sport/teammatch.aspx?id=32F5ED26-0D4B-4
 7CE-BBB3-EBB3613B3D45&match=843
DTSTART;TZID=Europe/Brussels:20221108T043000
DTEND;TZID=Europe/Brussels:20221108T043000
END:VEVENT
BEGIN:VEVENT
UID:32F5ED26-0D4B-47CE-BBB3-EBB3613B3D45-18-828_homereminder@54.badmintonne
 rs.net
DTSTAMP:20260420T055110Z
SUMMARY:Thuismatch ingevuld? (Opslag 1G (58) - De Nekker 1G (53))
DESCRIPTION:Je hebt 36 uur na aanvang om een thuismatch op Badmintonvlaande
 ren in te vullen. Match info: Opslag 1G (58) - De Nekker 1G (53) - Link: h
 ttps://www.badmintonvlaanderen.be/sport/teammatch.aspx?id=32F5ED26-0D4B-47
 CE-BBB3-EBB3613B3D45&match=828
DTSTART;TZID=Europe/Brussels:20221122T043000
DTEND;TZID=Europe/Brussels:20221122T043000
END:VEVENT
BEGIN:VEVENT
UID:32F5ED26-0D4B-47CE-BBB3-EBB3613B3D45-18-821_homereminder@54.badmintonne
 rs.net
DTSTAMP:20260420T055110Z
SUMMARY:Thuismatch ingevuld? (Opslag 1G (58) - Brasschaat 2G (50))
DESCRIPTION:Je hebt 36 uur na aanvang om een thuismatch op Badmintonvlaande
 ren in te vullen. Match info: Opslag 1G (58) - Brasschaat 2G (50) - Link: 
 https://www.badmintonvlaanderen.be/sport/teammatch.aspx?id=32F5ED26-0D4B-4
 7CE-BBB3-EBB3613B3D45&match=821
DTSTART;TZID=Europe/Brussels:20221129T043000
DTEND;TZID=Europe/Brussels:20221129T043000
END:VEVENT
BEGIN:VEVENT
UID:32F5ED26-0D4B-47CE-BBB3-EBB3613B3D45-18-1153_homereminder@54.badmintonn
 ers.net
DTSTAMP:20260420T055110Z
SUMMARY:Thuismatch ingevuld? (Opslag 1G (58) - Dilbeek 1G (65))
DESCRIPTION:Je hebt 36 uur na aanvang om een thuismatch op Badmintonvlaande
 ren in te vullen. Match info: Opslag 1G (58) - Dilbeek 1G (65) - Link: htt
 ps://www.badmintonvlaanderen.be/sport/teammatch.aspx?id=32F5ED26-0D4B-47CE
 -BBB3-EBB3613B3D45&match=1153
DTSTART;TZID=Europe/Brussels:20221220T043000
DTEND;TZID=Europe/Brussels:20221220T043000
END:VEVENT
BEGIN:VEVENT
UID:32F5ED26-0D4B-47CE-BBB3-EBB3613B3D45-18-850_homereminder@54.badmintonne
 rs.net
DTSTAMP:20260420T055110Z
SUMMARY:Thuismatch ingevuld? (Opslag 1G (58) - Royal Antwerp 2G (49))
DESCRIPTION:Je hebt 36 uur na aanvang om een thuismatch op Badmintonvlaande
 ren in te vullen. Match info: Opslag 1G (58) - Royal Antwerp 2G (49) - Lin
 k: https://www.badmintonvlaanderen.be/sport/teammatch.aspx?id=32F5ED26-0D4
 B-47CE-BBB3-EBB3613B3D45&match=850
DTSTART;TZID=Europe/Brussels:20230117T043000
DTEND;TZID=Europe/Brussels:20230117T043000
END:VEVENT
BEGIN:VEVENT
UID:32F5ED26-0D4B-47CE-BBB3-EBB3613B3D45-18-1146_homereminder@54.badmintonn
 ers.net
DTSTAMP:20260420T055110Z
SUMMARY:Thuismatch ingevuld? (Opslag 1G (58) - Hebad 4G (63))
DESCRIPTION:Je hebt 36 uur na aanvang om een thuismatch op Badmintonvlaande
 ren in te vullen. Match info: Opslag 1G (58) - Hebad 4G (63) - Link: https
 ://www.badmintonvlaanderen.be/sport/teammatch.aspx?id=32F5ED26-0D4B-47CE-B
 BB3-EBB3613B3D45&match=1146
DTSTART;TZID=Europe/Brussels:20230228T043000
DTEND;TZID=Europe/Brussels:20230228T043000
END:VEVENT
BEGIN:VEVENT
UID:32F5ED26-0D4B-47CE-BBB3-EBB3613B3D45-18-857_homereminder@54.badmintonne
 rs.net
DTSTAMP:20260420T055110Z
SUMMARY:Thuismatch ingevuld? (Opslag 1G (58) - Tots Keerbergen 1G (58))
DESCRIPTION:Je hebt 36 uur na aanvang om een thuismatch op Badmintonvlaande
 ren in te vullen. Match info: Opslag 1G (58) - Tots Keerbergen 1G (58) - L
 ink: https://www.badmintonvlaanderen.be/sport/teammatch.aspx?id=32F5ED26-0
 D4B-47CE-BBB3-EBB3613B3D45&match=857
DTSTART;TZID=Europe/Brussels:20230328T043000
DTEND;TZID=Europe/Brussels:20230328T043000
END:VEVENT
BEGIN:VEVENT
UID:32F5ED26-0D4B-47CE-BBB3-EBB3613B3D45-18-1136_awayreminder@54.badmintonn
 ers.net
DTSTAMP:20260420T055110Z
SUMMARY:Uitmatch bevestigd? (Hebad 4G (63) - Opslag 1G (58))
DESCRIPTION:Je hebt 72 uur na aanvang om een uitmatch op Badmintonvlaandere
 n in te vullen. Match info: Hebad 4G (63) - Opslag 1G (58) - Link: https:/
 /www.badmintonvlaanderen.be/sport/teammatch.aspx?id=32F5ED26-0D4B-47CE-BBB
 3-EBB3613B3D45&match=1136
DTSTART;TZID=Europe/Brussels:20221026T140000
DTEND;TZID=Europe/Brussels:20221026T140000
END:VEVENT
BEGIN:VEVENT
UID:32F5ED26-0D4B-47CE-BBB3-EBB3613B3D45-18-837_awayreminder@54.badmintonne
 rs.net
DTSTAMP:20260420T055110Z
SUMMARY:Uitmatch bevestigd? (Royal Antwerp 2G (49) - Opslag 1G (58))
DESCRIPTION:Je hebt 72 uur na aanvang om een uitmatch op Badmintonvlaandere
 n in te vullen. Match info: Royal Antwerp 2G (49) - Opslag 1G (58) - Link:
  https://www.badmintonvlaanderen.be/sport/teammatch.aspx?id=32F5ED26-0D4B-
 47CE-BBB3-EBB3613B3D45&match=837
DTSTART;TZID=Europe/Brussels:20221116T180000
DTEND;TZID=Europe/Brussels:20221116T180000
END:VEVENT
BEGIN:VEVENT
UID:32F5ED26-0D4B-47CE-BBB3-EBB3613B3D45-18-838_awayreminder@54.badmintonne
 rs.net
DTSTAMP:20260420T055110Z
SUMMARY:Uitmatch bevestigd? (Tots Keerbergen 1G (58) - Opslag 1G (58))
DESCRIPTION:Je hebt 72 uur na aanvang om een uitmatch op Badmintonvlaandere
 n in te vullen. Match info: Tots Keerbergen 1G (58) - Opslag 1G (58) - Lin
 k: https://www.badmintonvlaanderen.be/sport/teammatch.aspx?id=32F5ED26-0D4
 B-47CE-BBB3-EBB3613B3D45&match=838
DTSTART;TZID=Europe/Brussels:20221207T190000
DTEND;TZID=Europe/Brussels:20221207T190000
END:VEVENT
BEGIN:VEVENT
UID:32F5ED26-0D4B-47CE-BBB3-EBB3613B3D45-18-1137_awayreminder@54.badmintonn
 ers.net
DTSTAMP:20260420T055110Z
SUMMARY:Uitmatch bevestigd? (Dilbeek 1G (65) - Opslag 1G (58))
DESCRIPTION:Je hebt 72 uur na aanvang om een uitmatch op Badmintonvlaandere
 n in te vullen. Match info: Dilbeek 1G (65) - Opslag 1G (58) - Link: https
 ://www.badmintonvlaanderen.be/sport/teammatch.aspx?id=32F5ED26-0D4B-47CE-B
 BB3-EBB3613B3D45&match=1137
DTSTART;TZID=Europe/Brussels:20230201T200000
DTEND;TZID=Europe/Brussels:20230201T200000
END:VEVENT
BEGIN:VEVENT
UID:32F5ED26-0D4B-47CE-BBB3-EBB3613B3D45-18-835_awayreminder@54.badmintonne
 rs.net
DTSTAMP:20260420T055110Z
SUMMARY:Uitmatch bevestigd? (De Nekker 1G (53) - Opslag 1G (58))
DESCRIPTION:Je hebt 72 uur na aanvang om een uitmatch op Badmintonvlaandere
 n in te vullen. Match info: De Nekker 1G (53) - Opslag 1G (58) - Link: htt
 ps://www.badmintonvlaanderen.be/sport/teammatch.aspx?id=32F5ED26-0D4B-47CE
 -BBB3-EBB3613B3D45&match=835
DTSTART;TZID=Europe/Brussels:20230211T203000
DTEND;TZID=Europe/Brussels:20230211T203000
END:VEVENT
BEGIN:VEVENT
UID:32F5ED26-0D4B-47CE-BBB3-EBB3613B3D45-18-834_awayreminder@54.badmintonne
 rs.net
DTSTAMP:20260420T055110Z
SUMMARY:Uitmatch bevestigd? (Brasschaat 2G (50) - Opslag 1G (58))
DESCRIPTION:Je hebt 72 uur na aanvang om een uitmatch op Badmintonvlaandere
 n in te vullen. Match info: Brasschaat 2G (50) - Opslag 1G (58) - Link: ht
 tps://www.badmintonvlaanderen.be/sport/teammatch.aspx?id=32F5ED26-0D4B-47C
 E-BBB3-EBB3613B3D45&match=834
DTSTART;TZID=Europe/Brussels:20230315T190000
DTEND;TZID=Europe/Brussels:20230315T190000
END:VEVENT
BEGIN:VEVENT
UID:32F5ED26-0D4B-47CE-BBB3-EBB3613B3D45-18-836_awayreminder@54.badmintonne
 rs.net
DTSTAMP:20260420T055110Z
SUMMARY:Uitmatch bevestigd? (Klein Boom 1G (52) - Opslag 1G (58))
DESCRIPTION:Je hebt 72 uur na aanvang om een uitmatch op Badmintonvlaandere
 n in te vullen. Match info: Klein Boom 1G (52) - Opslag 1G (58) - Link: ht
 tps://www.badmintonvlaanderen.be/sport/teammatch.aspx?id=32F5ED26-0D4B-47C
 E-BBB3-EBB3613B3D45&match=836
DTSTART;TZID=Europe/Brussels:20230426T190000
DTEND;TZID=Europe/Brussels:20230426T190000
END:VEVENT
END:VCALENDAR