BEGIN:VCALENDAR
VERSION:2.0
PRODID:spatie/icalendar-generator
NAME:tots_keerbergen_1g_58_reminders
X-WR-CALNAME:tots_keerbergen_1g_58_reminders
BEGIN:VTIMEZONE
TZID:Europe/Brussels
BEGIN:DAYLIGHT
DTSTART:20220327T010000
TZOFFSETFROM:+0100
TZOFFSETTO:+0200
END:DAYLIGHT
BEGIN:STANDARD
DTSTART:20221030T030000
TZOFFSETFROM:+0200
TZOFFSETTO:+0100
END:STANDARD
BEGIN:DAYLIGHT
DTSTART:20230326T010000
TZOFFSETFROM:+0100
TZOFFSETTO:+0200
END:DAYLIGHT
BEGIN:STANDARD
DTSTART:20231029T030000
TZOFFSETFROM:+0200
TZOFFSETTO:+0100
END:STANDARD
END:VTIMEZONE
BEGIN:VTIMEZONE
TZID:UTC
BEGIN:STANDARD
DTSTART:20250724T055117
TZOFFSETFROM:+0000
TZOFFSETTO:+0000
END:STANDARD
END:VTIMEZONE
BEGIN:VEVENT
UID:32F5ED26-0D4B-47CE-BBB3-EBB3613B3D45-18-1149_homereminder@60.badmintonn
 ers.net
DTSTAMP:20260420T055117Z
SUMMARY:Thuismatch ingevuld? (Tots Keerbergen 1G (58) - Hebad 4G (63))
DESCRIPTION:Je hebt 36 uur na aanvang om een thuismatch op Badmintonvlaande
 ren in te vullen. Match info: Tots Keerbergen 1G (58) - Hebad 4G (63) - Li
 nk: https://www.badmintonvlaanderen.be/sport/teammatch.aspx?id=32F5ED26-0D
 4B-47CE-BBB3-EBB3613B3D45&match=1149
DTSTART;TZID=Europe/Brussels:20221011T070000
DTEND;TZID=Europe/Brussels:20221011T070000
END:VEVENT
BEGIN:VEVENT
UID:32F5ED26-0D4B-47CE-BBB3-EBB3613B3D45-18-845_homereminder@60.badmintonne
 rs.net
DTSTAMP:20260420T055117Z
SUMMARY:Thuismatch ingevuld? (Tots Keerbergen 1G (58) - Klein Boom 1G (52))
DESCRIPTION:Je hebt 36 uur na aanvang om een thuismatch op Badmintonvlaande
 ren in te vullen. Match info: Tots Keerbergen 1G (58) - Klein Boom 1G (52)
  - Link: https://www.badmintonvlaanderen.be/sport/teammatch.aspx?id=32F5ED
 26-0D4B-47CE-BBB3-EBB3613B3D45&match=845
DTSTART;TZID=Europe/Brussels:20221025T070000
DTEND;TZID=Europe/Brussels:20221025T070000
END:VEVENT
BEGIN:VEVENT
UID:32F5ED26-0D4B-47CE-BBB3-EBB3613B3D45-18-838_homereminder@60.badmintonne
 rs.net
DTSTAMP:20260420T055117Z
SUMMARY:Thuismatch ingevuld? (Tots Keerbergen 1G (58) - Opslag 1G (58))
DESCRIPTION:Je hebt 36 uur na aanvang om een thuismatch op Badmintonvlaande
 ren in te vullen. Match info: Tots Keerbergen 1G (58) - Opslag 1G (58) - L
 ink: https://www.badmintonvlaanderen.be/sport/teammatch.aspx?id=32F5ED26-0
 D4B-47CE-BBB3-EBB3613B3D45&match=838
DTSTART;TZID=Europe/Brussels:20221206T070000
DTEND;TZID=Europe/Brussels:20221206T070000
END:VEVENT
BEGIN:VEVENT
UID:32F5ED26-0D4B-47CE-BBB3-EBB3613B3D45-18-831_homereminder@60.badmintonne
 rs.net
DTSTAMP:20260420T055117Z
SUMMARY:Thuismatch ingevuld? (Tots Keerbergen 1G (58) - De Nekker 1G (53))
DESCRIPTION:Je hebt 36 uur na aanvang om een thuismatch op Badmintonvlaande
 ren in te vullen. Match info: Tots Keerbergen 1G (58) - De Nekker 1G (53) 
 - Link: https://www.badmintonvlaanderen.be/sport/teammatch.aspx?id=32F5ED2
 6-0D4B-47CE-BBB3-EBB3613B3D45&match=831
DTSTART;TZID=Europe/Brussels:20230117T070000
DTEND;TZID=Europe/Brussels:20230117T070000
END:VEVENT
BEGIN:VEVENT
UID:32F5ED26-0D4B-47CE-BBB3-EBB3613B3D45-18-824_homereminder@60.badmintonne
 rs.net
DTSTAMP:20260420T055117Z
SUMMARY:Thuismatch ingevuld? (Tots Keerbergen 1G (58) - Brasschaat 2G (50))
DESCRIPTION:Je hebt 36 uur na aanvang om een thuismatch op Badmintonvlaande
 ren in te vullen. Match info: Tots Keerbergen 1G (58) - Brasschaat 2G (50)
  - Link: https://www.badmintonvlaanderen.be/sport/teammatch.aspx?id=32F5ED
 26-0D4B-47CE-BBB3-EBB3613B3D45&match=824
DTSTART;TZID=Europe/Brussels:20230207T070000
DTEND;TZID=Europe/Brussels:20230207T070000
END:VEVENT
BEGIN:VEVENT
UID:32F5ED26-0D4B-47CE-BBB3-EBB3613B3D45-18-1156_homereminder@60.badmintonn
 ers.net
DTSTAMP:20260420T055117Z
SUMMARY:Thuismatch ingevuld? (Tots Keerbergen 1G (58) - Dilbeek 1G (65))
DESCRIPTION:Je hebt 36 uur na aanvang om een thuismatch op Badmintonvlaande
 ren in te vullen. Match info: Tots Keerbergen 1G (58) - Dilbeek 1G (65) - 
 Link: https://www.badmintonvlaanderen.be/sport/teammatch.aspx?id=32F5ED26-
 0D4B-47CE-BBB3-EBB3613B3D45&match=1156
DTSTART;TZID=Europe/Brussels:20230214T070000
DTEND;TZID=Europe/Brussels:20230214T070000
END:VEVENT
BEGIN:VEVENT
UID:32F5ED26-0D4B-47CE-BBB3-EBB3613B3D45-18-852_homereminder@60.badmintonne
 rs.net
DTSTAMP:20260420T055117Z
SUMMARY:Thuismatch ingevuld? (Tots Keerbergen 1G (58) - Royal Antwerp 2G (4
 9))
DESCRIPTION:Je hebt 36 uur na aanvang om een thuismatch op Badmintonvlaande
 ren in te vullen. Match info: Tots Keerbergen 1G (58) - Royal Antwerp 2G (
 49) - Link: https://www.badmintonvlaanderen.be/sport/teammatch.aspx?id=32F
 5ED26-0D4B-47CE-BBB3-EBB3613B3D45&match=852
DTSTART;TZID=Europe/Brussels:20230314T070000
DTEND;TZID=Europe/Brussels:20230314T070000
END:VEVENT
BEGIN:VEVENT
UID:32F5ED26-0D4B-47CE-BBB3-EBB3613B3D45-18-855_awayreminder@60.badmintonne
 rs.net
DTSTAMP:20260420T055117Z
SUMMARY:Uitmatch bevestigd? (Brasschaat 2G (50) - Tots Keerbergen 1G (58))
DESCRIPTION:Je hebt 72 uur na aanvang om een uitmatch op Badmintonvlaandere
 n in te vullen. Match info: Brasschaat 2G (50) - Tots Keerbergen 1G (58) -
  Link: https://www.badmintonvlaanderen.be/sport/teammatch.aspx?id=32F5ED26
 -0D4B-47CE-BBB3-EBB3613B3D45&match=855
DTSTART;TZID=Europe/Brussels:20221116T190000
DTEND;TZID=Europe/Brussels:20221116T190000
END:VEVENT
BEGIN:VEVENT
UID:32F5ED26-0D4B-47CE-BBB3-EBB3613B3D45-18-1143_awayreminder@60.badmintonn
 ers.net
DTSTAMP:20260420T055117Z
SUMMARY:Uitmatch bevestigd? (Dilbeek 1G (65) - Tots Keerbergen 1G (58))
DESCRIPTION:Je hebt 72 uur na aanvang om een uitmatch op Badmintonvlaandere
 n in te vullen. Match info: Dilbeek 1G (65) - Tots Keerbergen 1G (58) - Li
 nk: https://www.badmintonvlaanderen.be/sport/teammatch.aspx?id=32F5ED26-0D
 4B-47CE-BBB3-EBB3613B3D45&match=1143
DTSTART;TZID=Europe/Brussels:20221123T200000
DTEND;TZID=Europe/Brussels:20221123T200000
END:VEVENT
BEGIN:VEVENT
UID:32F5ED26-0D4B-47CE-BBB3-EBB3613B3D45-18-856_awayreminder@60.badmintonne
 rs.net
DTSTAMP:20260420T055117Z
SUMMARY:Uitmatch bevestigd? (De Nekker 1G (53) - Tots Keerbergen 1G (58))
DESCRIPTION:Je hebt 72 uur na aanvang om een uitmatch op Badmintonvlaandere
 n in te vullen. Match info: De Nekker 1G (53) - Tots Keerbergen 1G (58) - 
 Link: https://www.badmintonvlaanderen.be/sport/teammatch.aspx?id=32F5ED26-
 0D4B-47CE-BBB3-EBB3613B3D45&match=856
DTSTART;TZID=Europe/Brussels:20221217T203000
DTEND;TZID=Europe/Brussels:20221217T203000
END:VEVENT
BEGIN:VEVENT
UID:32F5ED26-0D4B-47CE-BBB3-EBB3613B3D45-18-1142_awayreminder@60.badmintonn
 ers.net
DTSTAMP:20260420T055117Z
SUMMARY:Uitmatch bevestigd? (Hebad 4G (63) - Tots Keerbergen 1G (58))
DESCRIPTION:Je hebt 72 uur na aanvang om een uitmatch op Badmintonvlaandere
 n in te vullen. Match info: Hebad 4G (63) - Tots Keerbergen 1G (58) - Link
 : https://www.badmintonvlaanderen.be/sport/teammatch.aspx?id=32F5ED26-0D4B
 -47CE-BBB3-EBB3613B3D45&match=1142
DTSTART;TZID=Europe/Brussels:20230201T140000
DTEND;TZID=Europe/Brussels:20230201T140000
END:VEVENT
BEGIN:VEVENT
UID:32F5ED26-0D4B-47CE-BBB3-EBB3613B3D45-18-858_awayreminder@60.badmintonne
 rs.net
DTSTAMP:20260420T055117Z
SUMMARY:Uitmatch bevestigd? (Klein Boom 1G (52) - Tots Keerbergen 1G (58))
DESCRIPTION:Je hebt 72 uur na aanvang om een uitmatch op Badmintonvlaandere
 n in te vullen. Match info: Klein Boom 1G (52) - Tots Keerbergen 1G (58) -
  Link: https://www.badmintonvlaanderen.be/sport/teammatch.aspx?id=32F5ED26
 -0D4B-47CE-BBB3-EBB3613B3D45&match=858
DTSTART;TZID=Europe/Brussels:20230301T190000
DTEND;TZID=Europe/Brussels:20230301T190000
END:VEVENT
BEGIN:VEVENT
UID:32F5ED26-0D4B-47CE-BBB3-EBB3613B3D45-18-857_awayreminder@60.badmintonne
 rs.net
DTSTAMP:20260420T055117Z
SUMMARY:Uitmatch bevestigd? (Opslag 1G (58) - Tots Keerbergen 1G (58))
DESCRIPTION:Je hebt 72 uur na aanvang om een uitmatch op Badmintonvlaandere
 n in te vullen. Match info: Opslag 1G (58) - Tots Keerbergen 1G (58) - Lin
 k: https://www.badmintonvlaanderen.be/sport/teammatch.aspx?id=32F5ED26-0D4
 B-47CE-BBB3-EBB3613B3D45&match=857
DTSTART;TZID=Europe/Brussels:20230329T163000
DTEND;TZID=Europe/Brussels:20230329T163000
END:VEVENT
BEGIN:VEVENT
UID:32F5ED26-0D4B-47CE-BBB3-EBB3613B3D45-18-859_awayreminder@60.badmintonne
 rs.net
DTSTAMP:20260420T055117Z
SUMMARY:Uitmatch bevestigd? (Royal Antwerp 2G (49) - Tots Keerbergen 1G (58
 ))
DESCRIPTION:Je hebt 72 uur na aanvang om een uitmatch op Badmintonvlaandere
 n in te vullen. Match info: Royal Antwerp 2G (49) - Tots Keerbergen 1G (58
 ) - Link: https://www.badmintonvlaanderen.be/sport/teammatch.aspx?id=32F5E
 D26-0D4B-47CE-BBB3-EBB3613B3D45&match=859
DTSTART;TZID=Europe/Brussels:20230503T180000
DTEND;TZID=Europe/Brussels:20230503T180000
END:VEVENT
END:VCALENDAR