BEGIN:VCALENDAR
VERSION:2.0
PRODID:spatie/icalendar-generator
NAME:royal_antwerp_2g_49_reminders
X-WR-CALNAME:royal_antwerp_2g_49_reminders
BEGIN:VTIMEZONE
TZID:Europe/Brussels
BEGIN:DAYLIGHT
DTSTART:20220327T010000
TZOFFSETFROM:+0100
TZOFFSETTO:+0200
END:DAYLIGHT
BEGIN:STANDARD
DTSTART:20221030T030000
TZOFFSETFROM:+0200
TZOFFSETTO:+0100
END:STANDARD
BEGIN:DAYLIGHT
DTSTART:20230326T010000
TZOFFSETFROM:+0100
TZOFFSETTO:+0200
END:DAYLIGHT
BEGIN:STANDARD
DTSTART:20231029T030000
TZOFFSETFROM:+0200
TZOFFSETTO:+0100
END:STANDARD
END:VTIMEZONE
BEGIN:VTIMEZONE
TZID:UTC
BEGIN:STANDARD
DTSTART:20250724T055110
TZOFFSETFROM:+0000
TZOFFSETTO:+0000
END:STANDARD
END:VTIMEZONE
BEGIN:VEVENT
UID:32F5ED26-0D4B-47CE-BBB3-EBB3613B3D45-18-837_homereminder@62.badmintonne
 rs.net
DTSTAMP:20260420T055110Z
SUMMARY:Thuismatch ingevuld? (Royal Antwerp 2G (49) - Opslag 1G (58))
DESCRIPTION:Je hebt 36 uur na aanvang om een thuismatch op Badmintonvlaande
 ren in te vullen. Match info: Royal Antwerp 2G (49) - Opslag 1G (58) - Lin
 k: https://www.badmintonvlaanderen.be/sport/teammatch.aspx?id=32F5ED26-0D4
 B-47CE-BBB3-EBB3613B3D45&match=837
DTSTART;TZID=Europe/Brussels:20221115T060000
DTEND;TZID=Europe/Brussels:20221115T060000
END:VEVENT
BEGIN:VEVENT
UID:32F5ED26-0D4B-47CE-BBB3-EBB3613B3D45-18-823_homereminder@62.badmintonne
 rs.net
DTSTAMP:20260420T055110Z
SUMMARY:Thuismatch ingevuld? (Royal Antwerp 2G (49) - Brasschaat 2G (50))
DESCRIPTION:Je hebt 36 uur na aanvang om een thuismatch op Badmintonvlaande
 ren in te vullen. Match info: Royal Antwerp 2G (49) - Brasschaat 2G (50) -
  Link: https://www.badmintonvlaanderen.be/sport/teammatch.aspx?id=32F5ED26
 -0D4B-47CE-BBB3-EBB3613B3D45&match=823
DTSTART;TZID=Europe/Brussels:20221122T060000
DTEND;TZID=Europe/Brussels:20221122T060000
END:VEVENT
BEGIN:VEVENT
UID:32F5ED26-0D4B-47CE-BBB3-EBB3613B3D45-18-1148_homereminder@62.badmintonn
 ers.net
DTSTAMP:20260420T055110Z
SUMMARY:Thuismatch ingevuld? (Royal Antwerp 2G (49) - Hebad 4G (63))
DESCRIPTION:Je hebt 36 uur na aanvang om een thuismatch op Badmintonvlaande
 ren in te vullen. Match info: Royal Antwerp 2G (49) - Hebad 4G (63) - Link
 : https://www.badmintonvlaanderen.be/sport/teammatch.aspx?id=32F5ED26-0D4B
 -47CE-BBB3-EBB3613B3D45&match=1148
DTSTART;TZID=Europe/Brussels:20230214T060000
DTEND;TZID=Europe/Brussels:20230214T060000
END:VEVENT
BEGIN:VEVENT
UID:32F5ED26-0D4B-47CE-BBB3-EBB3613B3D45-18-1155_homereminder@62.badmintonn
 ers.net
DTSTAMP:20260420T055110Z
SUMMARY:Thuismatch ingevuld? (Royal Antwerp 2G (49) - Dilbeek 1G (65))
DESCRIPTION:Je hebt 36 uur na aanvang om een thuismatch op Badmintonvlaande
 ren in te vullen. Match info: Royal Antwerp 2G (49) - Dilbeek 1G (65) - Li
 nk: https://www.badmintonvlaanderen.be/sport/teammatch.aspx?id=32F5ED26-0D
 4B-47CE-BBB3-EBB3613B3D45&match=1155
DTSTART;TZID=Europe/Brussels:20230228T060000
DTEND;TZID=Europe/Brussels:20230228T060000
END:VEVENT
BEGIN:VEVENT
UID:32F5ED26-0D4B-47CE-BBB3-EBB3613B3D45-18-844_homereminder@62.badmintonne
 rs.net
DTSTAMP:20260420T055110Z
SUMMARY:Thuismatch ingevuld? (Royal Antwerp 2G (49) - Klein Boom 1G (52))
DESCRIPTION:Je hebt 36 uur na aanvang om een thuismatch op Badmintonvlaande
 ren in te vullen. Match info: Royal Antwerp 2G (49) - Klein Boom 1G (52) -
  Link: https://www.badmintonvlaanderen.be/sport/teammatch.aspx?id=32F5ED26
 -0D4B-47CE-BBB3-EBB3613B3D45&match=844
DTSTART;TZID=Europe/Brussels:20230328T060000
DTEND;TZID=Europe/Brussels:20230328T060000
END:VEVENT
BEGIN:VEVENT
UID:32F5ED26-0D4B-47CE-BBB3-EBB3613B3D45-18-830_homereminder@62.badmintonne
 rs.net
DTSTAMP:20260420T055110Z
SUMMARY:Thuismatch ingevuld? (Royal Antwerp 2G (49) - De Nekker 1G (53))
DESCRIPTION:Je hebt 36 uur na aanvang om een thuismatch op Badmintonvlaande
 ren in te vullen. Match info: Royal Antwerp 2G (49) - De Nekker 1G (53) - 
 Link: https://www.badmintonvlaanderen.be/sport/teammatch.aspx?id=32F5ED26-
 0D4B-47CE-BBB3-EBB3613B3D45&match=830
DTSTART;TZID=Europe/Brussels:20230425T060000
DTEND;TZID=Europe/Brussels:20230425T060000
END:VEVENT
BEGIN:VEVENT
UID:32F5ED26-0D4B-47CE-BBB3-EBB3613B3D45-18-859_homereminder@62.badmintonne
 rs.net
DTSTAMP:20260420T055110Z
SUMMARY:Thuismatch ingevuld? (Royal Antwerp 2G (49) - Tots Keerbergen 1G (5
 8))
DESCRIPTION:Je hebt 36 uur na aanvang om een thuismatch op Badmintonvlaande
 ren in te vullen. Match info: Royal Antwerp 2G (49) - Tots Keerbergen 1G (
 58) - Link: https://www.badmintonvlaanderen.be/sport/teammatch.aspx?id=32F
 5ED26-0D4B-47CE-BBB3-EBB3613B3D45&match=859
DTSTART;TZID=Europe/Brussels:20230502T060000
DTEND;TZID=Europe/Brussels:20230502T060000
END:VEVENT
BEGIN:VEVENT
UID:32F5ED26-0D4B-47CE-BBB3-EBB3613B3D45-18-1141_awayreminder@62.badmintonn
 ers.net
DTSTAMP:20260420T055110Z
SUMMARY:Uitmatch bevestigd? (Dilbeek 1G (65) - Royal Antwerp 2G (49))
DESCRIPTION:Je hebt 72 uur na aanvang om een uitmatch op Badmintonvlaandere
 n in te vullen. Match info: Dilbeek 1G (65) - Royal Antwerp 2G (49) - Link
 : https://www.badmintonvlaanderen.be/sport/teammatch.aspx?id=32F5ED26-0D4B
 -47CE-BBB3-EBB3613B3D45&match=1141
DTSTART;TZID=Europe/Brussels:20221012T200000
DTEND;TZID=Europe/Brussels:20221012T200000
END:VEVENT
BEGIN:VEVENT
UID:32F5ED26-0D4B-47CE-BBB3-EBB3613B3D45-18-849_awayreminder@62.badmintonne
 rs.net
DTSTAMP:20260420T055110Z
SUMMARY:Uitmatch bevestigd? (De Nekker 1G (53) - Royal Antwerp 2G (49))
DESCRIPTION:Je hebt 72 uur na aanvang om een uitmatch op Badmintonvlaandere
 n in te vullen. Match info: De Nekker 1G (53) - Royal Antwerp 2G (49) - Li
 nk: https://www.badmintonvlaanderen.be/sport/teammatch.aspx?id=32F5ED26-0D
 4B-47CE-BBB3-EBB3613B3D45&match=849
DTSTART;TZID=Europe/Brussels:20221022T203000
DTEND;TZID=Europe/Brussels:20221022T203000
END:VEVENT
BEGIN:VEVENT
UID:32F5ED26-0D4B-47CE-BBB3-EBB3613B3D45-18-1140_awayreminder@62.badmintonn
 ers.net
DTSTAMP:20260420T055110Z
SUMMARY:Uitmatch bevestigd? (Hebad 4G (63) - Royal Antwerp 2G (49))
DESCRIPTION:Je hebt 72 uur na aanvang om een uitmatch op Badmintonvlaandere
 n in te vullen. Match info: Hebad 4G (63) - Royal Antwerp 2G (49) - Link: 
 https://www.badmintonvlaanderen.be/sport/teammatch.aspx?id=32F5ED26-0D4B-4
 7CE-BBB3-EBB3613B3D45&match=1140
DTSTART;TZID=Europe/Brussels:20221207T140000
DTEND;TZID=Europe/Brussels:20221207T140000
END:VEVENT
BEGIN:VEVENT
UID:32F5ED26-0D4B-47CE-BBB3-EBB3613B3D45-18-851_awayreminder@62.badmintonne
 rs.net
DTSTAMP:20260420T055110Z
SUMMARY:Uitmatch bevestigd? (Klein Boom 1G (52) - Royal Antwerp 2G (49))
DESCRIPTION:Je hebt 72 uur na aanvang om een uitmatch op Badmintonvlaandere
 n in te vullen. Match info: Klein Boom 1G (52) - Royal Antwerp 2G (49) - L
 ink: https://www.badmintonvlaanderen.be/sport/teammatch.aspx?id=32F5ED26-0
 D4B-47CE-BBB3-EBB3613B3D45&match=851
DTSTART;TZID=Europe/Brussels:20221221T190000
DTEND;TZID=Europe/Brussels:20221221T190000
END:VEVENT
BEGIN:VEVENT
UID:32F5ED26-0D4B-47CE-BBB3-EBB3613B3D45-18-850_awayreminder@62.badmintonne
 rs.net
DTSTAMP:20260420T055110Z
SUMMARY:Uitmatch bevestigd? (Opslag 1G (58) - Royal Antwerp 2G (49))
DESCRIPTION:Je hebt 72 uur na aanvang om een uitmatch op Badmintonvlaandere
 n in te vullen. Match info: Opslag 1G (58) - Royal Antwerp 2G (49) - Link:
  https://www.badmintonvlaanderen.be/sport/teammatch.aspx?id=32F5ED26-0D4B-
 47CE-BBB3-EBB3613B3D45&match=850
DTSTART;TZID=Europe/Brussels:20230118T163000
DTEND;TZID=Europe/Brussels:20230118T163000
END:VEVENT
BEGIN:VEVENT
UID:32F5ED26-0D4B-47CE-BBB3-EBB3613B3D45-18-848_awayreminder@62.badmintonne
 rs.net
DTSTAMP:20260420T055110Z
SUMMARY:Uitmatch bevestigd? (Brasschaat 2G (50) - Royal Antwerp 2G (49))
DESCRIPTION:Je hebt 72 uur na aanvang om een uitmatch op Badmintonvlaandere
 n in te vullen. Match info: Brasschaat 2G (50) - Royal Antwerp 2G (49) - L
 ink: https://www.badmintonvlaanderen.be/sport/teammatch.aspx?id=32F5ED26-0
 D4B-47CE-BBB3-EBB3613B3D45&match=848
DTSTART;TZID=Europe/Brussels:20230201T190000
DTEND;TZID=Europe/Brussels:20230201T190000
END:VEVENT
BEGIN:VEVENT
UID:32F5ED26-0D4B-47CE-BBB3-EBB3613B3D45-18-852_awayreminder@62.badmintonne
 rs.net
DTSTAMP:20260420T055110Z
SUMMARY:Uitmatch bevestigd? (Tots Keerbergen 1G (58) - Royal Antwerp 2G (49
 ))
DESCRIPTION:Je hebt 72 uur na aanvang om een uitmatch op Badmintonvlaandere
 n in te vullen. Match info: Tots Keerbergen 1G (58) - Royal Antwerp 2G (49
 ) - Link: https://www.badmintonvlaanderen.be/sport/teammatch.aspx?id=32F5E
 D26-0D4B-47CE-BBB3-EBB3613B3D45&match=852
DTSTART;TZID=Europe/Brussels:20230315T190000
DTEND;TZID=Europe/Brussels:20230315T190000
END:VEVENT
END:VCALENDAR