BEGIN:VCALENDAR
VERSION:2.0
PRODID:spatie/icalendar-generator
NAME:klein_boom_1g_52_reminders
X-WR-CALNAME:klein_boom_1g_52_reminders
BEGIN:VTIMEZONE
TZID:Europe/Brussels
BEGIN:DAYLIGHT
DTSTART:20220327T010000
TZOFFSETFROM:+0100
TZOFFSETTO:+0200
END:DAYLIGHT
BEGIN:STANDARD
DTSTART:20221030T030000
TZOFFSETFROM:+0200
TZOFFSETTO:+0100
END:STANDARD
BEGIN:DAYLIGHT
DTSTART:20230326T010000
TZOFFSETFROM:+0100
TZOFFSETTO:+0200
END:DAYLIGHT
END:VTIMEZONE
BEGIN:VTIMEZONE
TZID:UTC
BEGIN:STANDARD
DTSTART:20250724T055116
TZOFFSETFROM:+0000
TZOFFSETTO:+0000
END:STANDARD
END:VTIMEZONE
BEGIN:VEVENT
UID:32F5ED26-0D4B-47CE-BBB3-EBB3613B3D45-18-829_homereminder@69.badmintonne
 rs.net
DTSTAMP:20260420T055116Z
SUMMARY:Thuismatch ingevuld? (Klein Boom 1G (52) - De Nekker 1G (53))
DESCRIPTION:Je hebt 36 uur na aanvang om een thuismatch op Badmintonvlaande
 ren in te vullen. Match info: Klein Boom 1G (52) - De Nekker 1G (53) - Lin
 k: https://www.badmintonvlaanderen.be/sport/teammatch.aspx?id=32F5ED26-0D4
 B-47CE-BBB3-EBB3613B3D45&match=829
DTSTART;TZID=Europe/Brussels:20220914T080000
DTEND;TZID=Europe/Brussels:20220914T080000
END:VEVENT
BEGIN:VEVENT
UID:32F5ED26-0D4B-47CE-BBB3-EBB3613B3D45-18-822_homereminder@69.badmintonne
 rs.net
DTSTAMP:20260420T055116Z
SUMMARY:Thuismatch ingevuld? (Klein Boom 1G (52) - Brasschaat 2G (50))
DESCRIPTION:Je hebt 36 uur na aanvang om een thuismatch op Badmintonvlaande
 ren in te vullen. Match info: Klein Boom 1G (52) - Brasschaat 2G (50) - Li
 nk: https://www.badmintonvlaanderen.be/sport/teammatch.aspx?id=32F5ED26-0D
 4B-47CE-BBB3-EBB3613B3D45&match=822
DTSTART;TZID=Europe/Brussels:20220928T080000
DTEND;TZID=Europe/Brussels:20220928T080000
END:VEVENT
BEGIN:VEVENT
UID:32F5ED26-0D4B-47CE-BBB3-EBB3613B3D45-18-1147_homereminder@69.badmintonn
 ers.net
DTSTAMP:20260420T055116Z
SUMMARY:Thuismatch ingevuld? (Klein Boom 1G (52) - Hebad 4G (63))
DESCRIPTION:Je hebt 36 uur na aanvang om een thuismatch op Badmintonvlaande
 ren in te vullen. Match info: Klein Boom 1G (52) - Hebad 4G (63) - Link: h
 ttps://www.badmintonvlaanderen.be/sport/teammatch.aspx?id=32F5ED26-0D4B-47
 CE-BBB3-EBB3613B3D45&match=1147
DTSTART;TZID=Europe/Brussels:20221122T070000
DTEND;TZID=Europe/Brussels:20221122T070000
END:VEVENT
BEGIN:VEVENT
UID:32F5ED26-0D4B-47CE-BBB3-EBB3613B3D45-18-1154_homereminder@69.badmintonn
 ers.net
DTSTAMP:20260420T055116Z
SUMMARY:Thuismatch ingevuld? (Klein Boom 1G (52) - Dilbeek 1G (65))
DESCRIPTION:Je hebt 36 uur na aanvang om een thuismatch op Badmintonvlaande
 ren in te vullen. Match info: Klein Boom 1G (52) - Dilbeek 1G (65) - Link:
  https://www.badmintonvlaanderen.be/sport/teammatch.aspx?id=32F5ED26-0D4B-
 47CE-BBB3-EBB3613B3D45&match=1154
DTSTART;TZID=Europe/Brussels:20221129T070000
DTEND;TZID=Europe/Brussels:20221129T070000
END:VEVENT
BEGIN:VEVENT
UID:32F5ED26-0D4B-47CE-BBB3-EBB3613B3D45-18-851_homereminder@69.badmintonne
 rs.net
DTSTAMP:20260420T055116Z
SUMMARY:Thuismatch ingevuld? (Klein Boom 1G (52) - Royal Antwerp 2G (49))
DESCRIPTION:Je hebt 36 uur na aanvang om een thuismatch op Badmintonvlaande
 ren in te vullen. Match info: Klein Boom 1G (52) - Royal Antwerp 2G (49) -
  Link: https://www.badmintonvlaanderen.be/sport/teammatch.aspx?id=32F5ED26
 -0D4B-47CE-BBB3-EBB3613B3D45&match=851
DTSTART;TZID=Europe/Brussels:20221220T070000
DTEND;TZID=Europe/Brussels:20221220T070000
END:VEVENT
BEGIN:VEVENT
UID:32F5ED26-0D4B-47CE-BBB3-EBB3613B3D45-18-858_homereminder@69.badmintonne
 rs.net
DTSTAMP:20260420T055116Z
SUMMARY:Thuismatch ingevuld? (Klein Boom 1G (52) - Tots Keerbergen 1G (58))
DESCRIPTION:Je hebt 36 uur na aanvang om een thuismatch op Badmintonvlaande
 ren in te vullen. Match info: Klein Boom 1G (52) - Tots Keerbergen 1G (58)
  - Link: https://www.badmintonvlaanderen.be/sport/teammatch.aspx?id=32F5ED
 26-0D4B-47CE-BBB3-EBB3613B3D45&match=858
DTSTART;TZID=Europe/Brussels:20230228T070000
DTEND;TZID=Europe/Brussels:20230228T070000
END:VEVENT
BEGIN:VEVENT
UID:32F5ED26-0D4B-47CE-BBB3-EBB3613B3D45-18-836_homereminder@69.badmintonne
 rs.net
DTSTAMP:20260420T055116Z
SUMMARY:Thuismatch ingevuld? (Klein Boom 1G (52) - Opslag 1G (58))
DESCRIPTION:Je hebt 36 uur na aanvang om een thuismatch op Badmintonvlaande
 ren in te vullen. Match info: Klein Boom 1G (52) - Opslag 1G (58) - Link: 
 https://www.badmintonvlaanderen.be/sport/teammatch.aspx?id=32F5ED26-0D4B-4
 7CE-BBB3-EBB3613B3D45&match=836
DTSTART;TZID=Europe/Brussels:20230425T070000
DTEND;TZID=Europe/Brussels:20230425T070000
END:VEVENT
BEGIN:VEVENT
UID:32F5ED26-0D4B-47CE-BBB3-EBB3613B3D45-18-845_awayreminder@69.badmintonne
 rs.net
DTSTAMP:20260420T055116Z
SUMMARY:Uitmatch bevestigd? (Tots Keerbergen 1G (58) - Klein Boom 1G (52))
DESCRIPTION:Je hebt 72 uur na aanvang om een uitmatch op Badmintonvlaandere
 n in te vullen. Match info: Tots Keerbergen 1G (58) - Klein Boom 1G (52) -
  Link: https://www.badmintonvlaanderen.be/sport/teammatch.aspx?id=32F5ED26
 -0D4B-47CE-BBB3-EBB3613B3D45&match=845
DTSTART;TZID=Europe/Brussels:20221026T190000
DTEND;TZID=Europe/Brussels:20221026T190000
END:VEVENT
BEGIN:VEVENT
UID:32F5ED26-0D4B-47CE-BBB3-EBB3613B3D45-18-843_awayreminder@69.badmintonne
 rs.net
DTSTAMP:20260420T055116Z
SUMMARY:Uitmatch bevestigd? (Opslag 1G (58) - Klein Boom 1G (52))
DESCRIPTION:Je hebt 72 uur na aanvang om een uitmatch op Badmintonvlaandere
 n in te vullen. Match info: Opslag 1G (58) - Klein Boom 1G (52) - Link: ht
 tps://www.badmintonvlaanderen.be/sport/teammatch.aspx?id=32F5ED26-0D4B-47C
 E-BBB3-EBB3613B3D45&match=843
DTSTART;TZID=Europe/Brussels:20221109T163000
DTEND;TZID=Europe/Brussels:20221109T163000
END:VEVENT
BEGIN:VEVENT
UID:32F5ED26-0D4B-47CE-BBB3-EBB3613B3D45-18-1139_awayreminder@69.badmintonn
 ers.net
DTSTAMP:20260420T055116Z
SUMMARY:Uitmatch bevestigd? (Dilbeek 1G (65) - Klein Boom 1G (52))
DESCRIPTION:Je hebt 72 uur na aanvang om een uitmatch op Badmintonvlaandere
 n in te vullen. Match info: Dilbeek 1G (65) - Klein Boom 1G (52) - Link: h
 ttps://www.badmintonvlaanderen.be/sport/teammatch.aspx?id=32F5ED26-0D4B-47
 CE-BBB3-EBB3613B3D45&match=1139
DTSTART;TZID=Europe/Brussels:20230118T200000
DTEND;TZID=Europe/Brussels:20230118T200000
END:VEVENT
BEGIN:VEVENT
UID:32F5ED26-0D4B-47CE-BBB3-EBB3613B3D45-18-842_awayreminder@69.badmintonne
 rs.net
DTSTAMP:20260420T055116Z
SUMMARY:Uitmatch bevestigd? (De Nekker 1G (53) - Klein Boom 1G (52))
DESCRIPTION:Je hebt 72 uur na aanvang om een uitmatch op Badmintonvlaandere
 n in te vullen. Match info: De Nekker 1G (53) - Klein Boom 1G (52) - Link:
  https://www.badmintonvlaanderen.be/sport/teammatch.aspx?id=32F5ED26-0D4B-
 47CE-BBB3-EBB3613B3D45&match=842
DTSTART;TZID=Europe/Brussels:20230128T203000
DTEND;TZID=Europe/Brussels:20230128T203000
END:VEVENT
BEGIN:VEVENT
UID:32F5ED26-0D4B-47CE-BBB3-EBB3613B3D45-18-841_awayreminder@69.badmintonne
 rs.net
DTSTAMP:20260420T055116Z
SUMMARY:Uitmatch bevestigd? (Brasschaat 2G (50) - Klein Boom 1G (52))
DESCRIPTION:Je hebt 72 uur na aanvang om een uitmatch op Badmintonvlaandere
 n in te vullen. Match info: Brasschaat 2G (50) - Klein Boom 1G (52) - Link
 : https://www.badmintonvlaanderen.be/sport/teammatch.aspx?id=32F5ED26-0D4B
 -47CE-BBB3-EBB3613B3D45&match=841
DTSTART;TZID=Europe/Brussels:20230228T100000
DTEND;TZID=Europe/Brussels:20230228T100000
END:VEVENT
BEGIN:VEVENT
UID:32F5ED26-0D4B-47CE-BBB3-EBB3613B3D45-18-1138_awayreminder@69.badmintonn
 ers.net
DTSTAMP:20260420T055116Z
SUMMARY:Uitmatch bevestigd? (Hebad 4G (63) - Klein Boom 1G (52))
DESCRIPTION:Je hebt 72 uur na aanvang om een uitmatch op Badmintonvlaandere
 n in te vullen. Match info: Hebad 4G (63) - Klein Boom 1G (52) - Link: htt
 ps://www.badmintonvlaanderen.be/sport/teammatch.aspx?id=32F5ED26-0D4B-47CE
 -BBB3-EBB3613B3D45&match=1138
DTSTART;TZID=Europe/Brussels:20230315T140000
DTEND;TZID=Europe/Brussels:20230315T140000
END:VEVENT
BEGIN:VEVENT
UID:32F5ED26-0D4B-47CE-BBB3-EBB3613B3D45-18-844_awayreminder@69.badmintonne
 rs.net
DTSTAMP:20260420T055116Z
SUMMARY:Uitmatch bevestigd? (Royal Antwerp 2G (49) - Klein Boom 1G (52))
DESCRIPTION:Je hebt 72 uur na aanvang om een uitmatch op Badmintonvlaandere
 n in te vullen. Match info: Royal Antwerp 2G (49) - Klein Boom 1G (52) - L
 ink: https://www.badmintonvlaanderen.be/sport/teammatch.aspx?id=32F5ED26-0
 D4B-47CE-BBB3-EBB3613B3D45&match=844
DTSTART;TZID=Europe/Brussels:20230329T180000
DTEND;TZID=Europe/Brussels:20230329T180000
END:VEVENT
END:VCALENDAR