BEGIN:VCALENDAR
VERSION:2.0
PRODID:spatie/icalendar-generator
NAME:dilbeek_1g_65_reminders
X-WR-CALNAME:dilbeek_1g_65_reminders
BEGIN:VTIMEZONE
TZID:Europe/Brussels
BEGIN:DAYLIGHT
DTSTART:20220327T010000
TZOFFSETFROM:+0100
TZOFFSETTO:+0200
END:DAYLIGHT
BEGIN:STANDARD
DTSTART:20221030T030000
TZOFFSETFROM:+0200
TZOFFSETTO:+0100
END:STANDARD
BEGIN:DAYLIGHT
DTSTART:20230326T010000
TZOFFSETFROM:+0100
TZOFFSETTO:+0200
END:DAYLIGHT
END:VTIMEZONE
BEGIN:VTIMEZONE
TZID:UTC
BEGIN:STANDARD
DTSTART:20250724T055120
TZOFFSETFROM:+0000
TZOFFSETTO:+0000
END:STANDARD
END:VTIMEZONE
BEGIN:VEVENT
UID:32F5ED26-0D4B-47CE-BBB3-EBB3613B3D45-18-1150_homereminder@73.badmintonn
 ers.net
DTSTAMP:20260420T055120Z
SUMMARY:Thuismatch ingevuld? (Dilbeek 1G (65) - Hebad 4G (63))
DESCRIPTION:Je hebt 36 uur na aanvang om een thuismatch op Badmintonvlaande
 ren in te vullen. Match info: Dilbeek 1G (65) - Hebad 4G (63) - Link: http
 s://www.badmintonvlaanderen.be/sport/teammatch.aspx?id=32F5ED26-0D4B-47CE-
 BBB3-EBB3613B3D45&match=1150
DTSTART;TZID=Europe/Brussels:20220913T080000
DTEND;TZID=Europe/Brussels:20220913T080000
END:VEVENT
BEGIN:VEVENT
UID:32F5ED26-0D4B-47CE-BBB3-EBB3613B3D45-18-1141_homereminder@73.badmintonn
 ers.net
DTSTAMP:20260420T055120Z
SUMMARY:Thuismatch ingevuld? (Dilbeek 1G (65) - Royal Antwerp 2G (49))
DESCRIPTION:Je hebt 36 uur na aanvang om een thuismatch op Badmintonvlaande
 ren in te vullen. Match info: Dilbeek 1G (65) - Royal Antwerp 2G (49) - Li
 nk: https://www.badmintonvlaanderen.be/sport/teammatch.aspx?id=32F5ED26-0D
 4B-47CE-BBB3-EBB3613B3D45&match=1141
DTSTART;TZID=Europe/Brussels:20221011T080000
DTEND;TZID=Europe/Brussels:20221011T080000
END:VEVENT
BEGIN:VEVENT
UID:32F5ED26-0D4B-47CE-BBB3-EBB3613B3D45-18-1143_homereminder@73.badmintonn
 ers.net
DTSTAMP:20260420T055120Z
SUMMARY:Thuismatch ingevuld? (Dilbeek 1G (65) - Tots Keerbergen 1G (58))
DESCRIPTION:Je hebt 36 uur na aanvang om een thuismatch op Badmintonvlaande
 ren in te vullen. Match info: Dilbeek 1G (65) - Tots Keerbergen 1G (58) - 
 Link: https://www.badmintonvlaanderen.be/sport/teammatch.aspx?id=32F5ED26-
 0D4B-47CE-BBB3-EBB3613B3D45&match=1143
DTSTART;TZID=Europe/Brussels:20221122T080000
DTEND;TZID=Europe/Brussels:20221122T080000
END:VEVENT
BEGIN:VEVENT
UID:32F5ED26-0D4B-47CE-BBB3-EBB3613B3D45-18-1139_homereminder@73.badmintonn
 ers.net
DTSTAMP:20260420T055120Z
SUMMARY:Thuismatch ingevuld? (Dilbeek 1G (65) - Klein Boom 1G (52))
DESCRIPTION:Je hebt 36 uur na aanvang om een thuismatch op Badmintonvlaande
 ren in te vullen. Match info: Dilbeek 1G (65) - Klein Boom 1G (52) - Link:
  https://www.badmintonvlaanderen.be/sport/teammatch.aspx?id=32F5ED26-0D4B-
 47CE-BBB3-EBB3613B3D45&match=1139
DTSTART;TZID=Europe/Brussels:20230117T080000
DTEND;TZID=Europe/Brussels:20230117T080000
END:VEVENT
BEGIN:VEVENT
UID:32F5ED26-0D4B-47CE-BBB3-EBB3613B3D45-18-1135_homereminder@73.badmintonn
 ers.net
DTSTAMP:20260420T055120Z
SUMMARY:Thuismatch ingevuld? (Dilbeek 1G (65) - De Nekker 1G (53))
DESCRIPTION:Je hebt 36 uur na aanvang om een thuismatch op Badmintonvlaande
 ren in te vullen. Match info: Dilbeek 1G (65) - De Nekker 1G (53) - Link: 
 https://www.badmintonvlaanderen.be/sport/teammatch.aspx?id=32F5ED26-0D4B-4
 7CE-BBB3-EBB3613B3D45&match=1135
DTSTART;TZID=Europe/Brussels:20230124T080000
DTEND;TZID=Europe/Brussels:20230124T080000
END:VEVENT
BEGIN:VEVENT
UID:32F5ED26-0D4B-47CE-BBB3-EBB3613B3D45-18-1137_homereminder@73.badmintonn
 ers.net
DTSTAMP:20260420T055120Z
SUMMARY:Thuismatch ingevuld? (Dilbeek 1G (65) - Opslag 1G (58))
DESCRIPTION:Je hebt 36 uur na aanvang om een thuismatch op Badmintonvlaande
 ren in te vullen. Match info: Dilbeek 1G (65) - Opslag 1G (58) - Link: htt
 ps://www.badmintonvlaanderen.be/sport/teammatch.aspx?id=32F5ED26-0D4B-47CE
 -BBB3-EBB3613B3D45&match=1137
DTSTART;TZID=Europe/Brussels:20230131T080000
DTEND;TZID=Europe/Brussels:20230131T080000
END:VEVENT
BEGIN:VEVENT
UID:32F5ED26-0D4B-47CE-BBB3-EBB3613B3D45-18-1133_homereminder@73.badmintonn
 ers.net
DTSTAMP:20260420T055120Z
SUMMARY:Thuismatch ingevuld? (Dilbeek 1G (65) - Brasschaat 2G (50))
DESCRIPTION:Je hebt 36 uur na aanvang om een thuismatch op Badmintonvlaande
 ren in te vullen. Match info: Dilbeek 1G (65) - Brasschaat 2G (50) - Link:
  https://www.badmintonvlaanderen.be/sport/teammatch.aspx?id=32F5ED26-0D4B-
 47CE-BBB3-EBB3613B3D45&match=1133
DTSTART;TZID=Europe/Brussels:20230328T080000
DTEND;TZID=Europe/Brussels:20230328T080000
END:VEVENT
BEGIN:VEVENT
UID:32F5ED26-0D4B-47CE-BBB3-EBB3613B3D45-18-1154_awayreminder@73.badmintonn
 ers.net
DTSTAMP:20260420T055120Z
SUMMARY:Uitmatch bevestigd? (Klein Boom 1G (52) - Dilbeek 1G (65))
DESCRIPTION:Je hebt 72 uur na aanvang om een uitmatch op Badmintonvlaandere
 n in te vullen. Match info: Klein Boom 1G (52) - Dilbeek 1G (65) - Link: h
 ttps://www.badmintonvlaanderen.be/sport/teammatch.aspx?id=32F5ED26-0D4B-47
 CE-BBB3-EBB3613B3D45&match=1154
DTSTART;TZID=Europe/Brussels:20221130T190000
DTEND;TZID=Europe/Brussels:20221130T190000
END:VEVENT
BEGIN:VEVENT
UID:32F5ED26-0D4B-47CE-BBB3-EBB3613B3D45-18-1152_awayreminder@73.badmintonn
 ers.net
DTSTAMP:20260420T055120Z
SUMMARY:Uitmatch bevestigd? (De Nekker 1G (53) - Dilbeek 1G (65))
DESCRIPTION:Je hebt 72 uur na aanvang om een uitmatch op Badmintonvlaandere
 n in te vullen. Match info: De Nekker 1G (53) - Dilbeek 1G (65) - Link: ht
 tps://www.badmintonvlaanderen.be/sport/teammatch.aspx?id=32F5ED26-0D4B-47C
 E-BBB3-EBB3613B3D45&match=1152
DTSTART;TZID=Europe/Brussels:20221203T203000
DTEND;TZID=Europe/Brussels:20221203T203000
END:VEVENT
BEGIN:VEVENT
UID:32F5ED26-0D4B-47CE-BBB3-EBB3613B3D45-18-1151_awayreminder@73.badmintonn
 ers.net
DTSTAMP:20260420T055120Z
SUMMARY:Uitmatch bevestigd? (Brasschaat 2G (50) - Dilbeek 1G (65))
DESCRIPTION:Je hebt 72 uur na aanvang om een uitmatch op Badmintonvlaandere
 n in te vullen. Match info: Brasschaat 2G (50) - Dilbeek 1G (65) - Link: h
 ttps://www.badmintonvlaanderen.be/sport/teammatch.aspx?id=32F5ED26-0D4B-47
 CE-BBB3-EBB3613B3D45&match=1151
DTSTART;TZID=Europe/Brussels:20221207T190000
DTEND;TZID=Europe/Brussels:20221207T190000
END:VEVENT
BEGIN:VEVENT
UID:32F5ED26-0D4B-47CE-BBB3-EBB3613B3D45-18-1153_awayreminder@73.badmintonn
 ers.net
DTSTAMP:20260420T055120Z
SUMMARY:Uitmatch bevestigd? (Opslag 1G (58) - Dilbeek 1G (65))
DESCRIPTION:Je hebt 72 uur na aanvang om een uitmatch op Badmintonvlaandere
 n in te vullen. Match info: Opslag 1G (58) - Dilbeek 1G (65) - Link: https
 ://www.badmintonvlaanderen.be/sport/teammatch.aspx?id=32F5ED26-0D4B-47CE-B
 BB3-EBB3613B3D45&match=1153
DTSTART;TZID=Europe/Brussels:20221221T163000
DTEND;TZID=Europe/Brussels:20221221T163000
END:VEVENT
BEGIN:VEVENT
UID:32F5ED26-0D4B-47CE-BBB3-EBB3613B3D45-18-1156_awayreminder@73.badmintonn
 ers.net
DTSTAMP:20260420T055120Z
SUMMARY:Uitmatch bevestigd? (Tots Keerbergen 1G (58) - Dilbeek 1G (65))
DESCRIPTION:Je hebt 72 uur na aanvang om een uitmatch op Badmintonvlaandere
 n in te vullen. Match info: Tots Keerbergen 1G (58) - Dilbeek 1G (65) - Li
 nk: https://www.badmintonvlaanderen.be/sport/teammatch.aspx?id=32F5ED26-0D
 4B-47CE-BBB3-EBB3613B3D45&match=1156
DTSTART;TZID=Europe/Brussels:20230215T190000
DTEND;TZID=Europe/Brussels:20230215T190000
END:VEVENT
BEGIN:VEVENT
UID:32F5ED26-0D4B-47CE-BBB3-EBB3613B3D45-18-1155_awayreminder@73.badmintonn
 ers.net
DTSTAMP:20260420T055120Z
SUMMARY:Uitmatch bevestigd? (Royal Antwerp 2G (49) - Dilbeek 1G (65))
DESCRIPTION:Je hebt 72 uur na aanvang om een uitmatch op Badmintonvlaandere
 n in te vullen. Match info: Royal Antwerp 2G (49) - Dilbeek 1G (65) - Link
 : https://www.badmintonvlaanderen.be/sport/teammatch.aspx?id=32F5ED26-0D4B
 -47CE-BBB3-EBB3613B3D45&match=1155
DTSTART;TZID=Europe/Brussels:20230301T180000
DTEND;TZID=Europe/Brussels:20230301T180000
END:VEVENT
BEGIN:VEVENT
UID:32F5ED26-0D4B-47CE-BBB3-EBB3613B3D45-18-1157_awayreminder@73.badmintonn
 ers.net
DTSTAMP:20260420T055120Z
SUMMARY:Uitmatch bevestigd? (Hebad 4G (63) - Dilbeek 1G (65))
DESCRIPTION:Je hebt 72 uur na aanvang om een uitmatch op Badmintonvlaandere
 n in te vullen. Match info: Hebad 4G (63) - Dilbeek 1G (65) - Link: https:
 //www.badmintonvlaanderen.be/sport/teammatch.aspx?id=32F5ED26-0D4B-47CE-BB
 B3-EBB3613B3D45&match=1157
DTSTART;TZID=Europe/Brussels:20230426T140000
DTEND;TZID=Europe/Brussels:20230426T140000
END:VEVENT
END:VCALENDAR