BEGIN:VCALENDAR
VERSION:2.0
PRODID:spatie/icalendar-generator
NAME:de_nekker_1g_53_reminders
X-WR-CALNAME:de_nekker_1g_53_reminders
BEGIN:VTIMEZONE
TZID:Europe/Brussels
BEGIN:DAYLIGHT
DTSTART:20220327T010000
TZOFFSETFROM:+0100
TZOFFSETTO:+0200
END:DAYLIGHT
BEGIN:STANDARD
DTSTART:20221030T030000
TZOFFSETFROM:+0200
TZOFFSETTO:+0100
END:STANDARD
BEGIN:DAYLIGHT
DTSTART:20230326T010000
TZOFFSETFROM:+0100
TZOFFSETTO:+0200
END:DAYLIGHT
END:VTIMEZONE
BEGIN:VTIMEZONE
TZID:UTC
BEGIN:STANDARD
DTSTART:20250724T055122
TZOFFSETFROM:+0000
TZOFFSETTO:+0000
END:STANDARD
END:VTIMEZONE
BEGIN:VEVENT
UID:32F5ED26-0D4B-47CE-BBB3-EBB3613B3D45-18-849_homereminder@76.badmintonne
 rs.net
DTSTAMP:20260420T055122Z
SUMMARY:Thuismatch ingevuld? (De Nekker 1G (53) - Royal Antwerp 2G (49))
DESCRIPTION:Je hebt 36 uur na aanvang om een thuismatch op Badmintonvlaande
 ren in te vullen. Match info: De Nekker 1G (53) - Royal Antwerp 2G (49) - 
 Link: https://www.badmintonvlaanderen.be/sport/teammatch.aspx?id=32F5ED26-
 0D4B-47CE-BBB3-EBB3613B3D45&match=849
DTSTART;TZID=Europe/Brussels:20221021T083000
DTEND;TZID=Europe/Brussels:20221021T083000
END:VEVENT
BEGIN:VEVENT
UID:32F5ED26-0D4B-47CE-BBB3-EBB3613B3D45-18-1152_homereminder@76.badmintonn
 ers.net
DTSTAMP:20260420T055122Z
SUMMARY:Thuismatch ingevuld? (De Nekker 1G (53) - Dilbeek 1G (65))
DESCRIPTION:Je hebt 36 uur na aanvang om een thuismatch op Badmintonvlaande
 ren in te vullen. Match info: De Nekker 1G (53) - Dilbeek 1G (65) - Link: 
 https://www.badmintonvlaanderen.be/sport/teammatch.aspx?id=32F5ED26-0D4B-4
 7CE-BBB3-EBB3613B3D45&match=1152
DTSTART;TZID=Europe/Brussels:20221202T083000
DTEND;TZID=Europe/Brussels:20221202T083000
END:VEVENT
BEGIN:VEVENT
UID:32F5ED26-0D4B-47CE-BBB3-EBB3613B3D45-18-856_homereminder@76.badmintonne
 rs.net
DTSTAMP:20260420T055122Z
SUMMARY:Thuismatch ingevuld? (De Nekker 1G (53) - Tots Keerbergen 1G (58))
DESCRIPTION:Je hebt 36 uur na aanvang om een thuismatch op Badmintonvlaande
 ren in te vullen. Match info: De Nekker 1G (53) - Tots Keerbergen 1G (58) 
 - Link: https://www.badmintonvlaanderen.be/sport/teammatch.aspx?id=32F5ED2
 6-0D4B-47CE-BBB3-EBB3613B3D45&match=856
DTSTART;TZID=Europe/Brussels:20221216T083000
DTEND;TZID=Europe/Brussels:20221216T083000
END:VEVENT
BEGIN:VEVENT
UID:32F5ED26-0D4B-47CE-BBB3-EBB3613B3D45-18-820_homereminder@76.badmintonne
 rs.net
DTSTAMP:20260420T055122Z
SUMMARY:Thuismatch ingevuld? (De Nekker 1G (53) - Brasschaat 2G (50))
DESCRIPTION:Je hebt 36 uur na aanvang om een thuismatch op Badmintonvlaande
 ren in te vullen. Match info: De Nekker 1G (53) - Brasschaat 2G (50) - Lin
 k: https://www.badmintonvlaanderen.be/sport/teammatch.aspx?id=32F5ED26-0D4
 B-47CE-BBB3-EBB3613B3D45&match=820
DTSTART;TZID=Europe/Brussels:20221223T083000
DTEND;TZID=Europe/Brussels:20221223T083000
END:VEVENT
BEGIN:VEVENT
UID:32F5ED26-0D4B-47CE-BBB3-EBB3613B3D45-18-842_homereminder@76.badmintonne
 rs.net
DTSTAMP:20260420T055122Z
SUMMARY:Thuismatch ingevuld? (De Nekker 1G (53) - Klein Boom 1G (52))
DESCRIPTION:Je hebt 36 uur na aanvang om een thuismatch op Badmintonvlaande
 ren in te vullen. Match info: De Nekker 1G (53) - Klein Boom 1G (52) - Lin
 k: https://www.badmintonvlaanderen.be/sport/teammatch.aspx?id=32F5ED26-0D4
 B-47CE-BBB3-EBB3613B3D45&match=842
DTSTART;TZID=Europe/Brussels:20230127T083000
DTEND;TZID=Europe/Brussels:20230127T083000
END:VEVENT
BEGIN:VEVENT
UID:32F5ED26-0D4B-47CE-BBB3-EBB3613B3D45-18-835_homereminder@76.badmintonne
 rs.net
DTSTAMP:20260420T055122Z
SUMMARY:Thuismatch ingevuld? (De Nekker 1G (53) - Opslag 1G (58))
DESCRIPTION:Je hebt 36 uur na aanvang om een thuismatch op Badmintonvlaande
 ren in te vullen. Match info: De Nekker 1G (53) - Opslag 1G (58) - Link: h
 ttps://www.badmintonvlaanderen.be/sport/teammatch.aspx?id=32F5ED26-0D4B-47
 CE-BBB3-EBB3613B3D45&match=835
DTSTART;TZID=Europe/Brussels:20230210T083000
DTEND;TZID=Europe/Brussels:20230210T083000
END:VEVENT
BEGIN:VEVENT
UID:32F5ED26-0D4B-47CE-BBB3-EBB3613B3D45-18-1145_homereminder@76.badmintonn
 ers.net
DTSTAMP:20260420T055122Z
SUMMARY:Thuismatch ingevuld? (De Nekker 1G (53) - Hebad 4G (63))
DESCRIPTION:Je hebt 36 uur na aanvang om een thuismatch op Badmintonvlaande
 ren in te vullen. Match info: De Nekker 1G (53) - Hebad 4G (63) - Link: ht
 tps://www.badmintonvlaanderen.be/sport/teammatch.aspx?id=32F5ED26-0D4B-47C
 E-BBB3-EBB3613B3D45&match=1145
DTSTART;TZID=Europe/Brussels:20230421T083000
DTEND;TZID=Europe/Brussels:20230421T083000
END:VEVENT
BEGIN:VEVENT
UID:32F5ED26-0D4B-47CE-BBB3-EBB3613B3D45-18-829_awayreminder@76.badmintonne
 rs.net
DTSTAMP:20260420T055122Z
SUMMARY:Uitmatch bevestigd? (Klein Boom 1G (52) - De Nekker 1G (53))
DESCRIPTION:Je hebt 72 uur na aanvang om een uitmatch op Badmintonvlaandere
 n in te vullen. Match info: Klein Boom 1G (52) - De Nekker 1G (53) - Link:
  https://www.badmintonvlaanderen.be/sport/teammatch.aspx?id=32F5ED26-0D4B-
 47CE-BBB3-EBB3613B3D45&match=829
DTSTART;TZID=Europe/Brussels:20220915T200000
DTEND;TZID=Europe/Brussels:20220915T200000
END:VEVENT
BEGIN:VEVENT
UID:32F5ED26-0D4B-47CE-BBB3-EBB3613B3D45-18-1134_awayreminder@76.badmintonn
 ers.net
DTSTAMP:20260420T055122Z
SUMMARY:Uitmatch bevestigd? (Hebad 4G (63) - De Nekker 1G (53))
DESCRIPTION:Je hebt 72 uur na aanvang om een uitmatch op Badmintonvlaandere
 n in te vullen. Match info: Hebad 4G (63) - De Nekker 1G (53) - Link: http
 s://www.badmintonvlaanderen.be/sport/teammatch.aspx?id=32F5ED26-0D4B-47CE-
 BBB3-EBB3613B3D45&match=1134
DTSTART;TZID=Europe/Brussels:20220928T140000
DTEND;TZID=Europe/Brussels:20220928T140000
END:VEVENT
BEGIN:VEVENT
UID:32F5ED26-0D4B-47CE-BBB3-EBB3613B3D45-18-828_awayreminder@76.badmintonne
 rs.net
DTSTAMP:20260420T055122Z
SUMMARY:Uitmatch bevestigd? (Opslag 1G (58) - De Nekker 1G (53))
DESCRIPTION:Je hebt 72 uur na aanvang om een uitmatch op Badmintonvlaandere
 n in te vullen. Match info: Opslag 1G (58) - De Nekker 1G (53) - Link: htt
 ps://www.badmintonvlaanderen.be/sport/teammatch.aspx?id=32F5ED26-0D4B-47CE
 -BBB3-EBB3613B3D45&match=828
DTSTART;TZID=Europe/Brussels:20221123T163000
DTEND;TZID=Europe/Brussels:20221123T163000
END:VEVENT
BEGIN:VEVENT
UID:32F5ED26-0D4B-47CE-BBB3-EBB3613B3D45-18-831_awayreminder@76.badmintonne
 rs.net
DTSTAMP:20260420T055122Z
SUMMARY:Uitmatch bevestigd? (Tots Keerbergen 1G (58) - De Nekker 1G (53))
DESCRIPTION:Je hebt 72 uur na aanvang om een uitmatch op Badmintonvlaandere
 n in te vullen. Match info: Tots Keerbergen 1G (58) - De Nekker 1G (53) - 
 Link: https://www.badmintonvlaanderen.be/sport/teammatch.aspx?id=32F5ED26-
 0D4B-47CE-BBB3-EBB3613B3D45&match=831
DTSTART;TZID=Europe/Brussels:20230118T190000
DTEND;TZID=Europe/Brussels:20230118T190000
END:VEVENT
BEGIN:VEVENT
UID:32F5ED26-0D4B-47CE-BBB3-EBB3613B3D45-18-1135_awayreminder@76.badmintonn
 ers.net
DTSTAMP:20260420T055122Z
SUMMARY:Uitmatch bevestigd? (Dilbeek 1G (65) - De Nekker 1G (53))
DESCRIPTION:Je hebt 72 uur na aanvang om een uitmatch op Badmintonvlaandere
 n in te vullen. Match info: Dilbeek 1G (65) - De Nekker 1G (53) - Link: ht
 tps://www.badmintonvlaanderen.be/sport/teammatch.aspx?id=32F5ED26-0D4B-47C
 E-BBB3-EBB3613B3D45&match=1135
DTSTART;TZID=Europe/Brussels:20230125T200000
DTEND;TZID=Europe/Brussels:20230125T200000
END:VEVENT
BEGIN:VEVENT
UID:32F5ED26-0D4B-47CE-BBB3-EBB3613B3D45-18-827_awayreminder@76.badmintonne
 rs.net
DTSTAMP:20260420T055122Z
SUMMARY:Uitmatch bevestigd? (Brasschaat 2G (50) - De Nekker 1G (53))
DESCRIPTION:Je hebt 72 uur na aanvang om een uitmatch op Badmintonvlaandere
 n in te vullen. Match info: Brasschaat 2G (50) - De Nekker 1G (53) - Link:
  https://www.badmintonvlaanderen.be/sport/teammatch.aspx?id=32F5ED26-0D4B-
 47CE-BBB3-EBB3613B3D45&match=827
DTSTART;TZID=Europe/Brussels:20230419T190000
DTEND;TZID=Europe/Brussels:20230419T190000
END:VEVENT
BEGIN:VEVENT
UID:32F5ED26-0D4B-47CE-BBB3-EBB3613B3D45-18-830_awayreminder@76.badmintonne
 rs.net
DTSTAMP:20260420T055122Z
SUMMARY:Uitmatch bevestigd? (Royal Antwerp 2G (49) - De Nekker 1G (53))
DESCRIPTION:Je hebt 72 uur na aanvang om een uitmatch op Badmintonvlaandere
 n in te vullen. Match info: Royal Antwerp 2G (49) - De Nekker 1G (53) - Li
 nk: https://www.badmintonvlaanderen.be/sport/teammatch.aspx?id=32F5ED26-0D
 4B-47CE-BBB3-EBB3613B3D45&match=830
DTSTART;TZID=Europe/Brussels:20230426T180000
DTEND;TZID=Europe/Brussels:20230426T180000
END:VEVENT
END:VCALENDAR