BEGIN:VCALENDAR
VERSION:2.0
PRODID:spatie/icalendar-generator
NAME:brasschaat_2g_50_reminders
X-WR-CALNAME:brasschaat_2g_50_reminders
BEGIN:VTIMEZONE
TZID:Europe/Brussels
BEGIN:DAYLIGHT
DTSTART:20220327T010000
TZOFFSETFROM:+0100
TZOFFSETTO:+0200
END:DAYLIGHT
BEGIN:STANDARD
DTSTART:20221030T030000
TZOFFSETFROM:+0200
TZOFFSETTO:+0100
END:STANDARD
BEGIN:DAYLIGHT
DTSTART:20230326T010000
TZOFFSETFROM:+0100
TZOFFSETTO:+0200
END:DAYLIGHT
END:VTIMEZONE
BEGIN:VTIMEZONE
TZID:UTC
BEGIN:STANDARD
DTSTART:20250724T055112
TZOFFSETFROM:+0000
TZOFFSETTO:+0000
END:STANDARD
END:VTIMEZONE
BEGIN:VEVENT
UID:32F5ED26-0D4B-47CE-BBB3-EBB3613B3D45-18-855_homereminder@78.badmintonne
 rs.net
DTSTAMP:20260420T055112Z
SUMMARY:Thuismatch ingevuld? (Brasschaat 2G (50) - Tots Keerbergen 1G (58))
DESCRIPTION:Je hebt 36 uur na aanvang om een thuismatch op Badmintonvlaande
 ren in te vullen. Match info: Brasschaat 2G (50) - Tots Keerbergen 1G (58)
  - Link: https://www.badmintonvlaanderen.be/sport/teammatch.aspx?id=32F5ED
 26-0D4B-47CE-BBB3-EBB3613B3D45&match=855
DTSTART;TZID=Europe/Brussels:20221115T070000
DTEND;TZID=Europe/Brussels:20221115T070000
END:VEVENT
BEGIN:VEVENT
UID:32F5ED26-0D4B-47CE-BBB3-EBB3613B3D45-18-1151_homereminder@78.badmintonn
 ers.net
DTSTAMP:20260420T055112Z
SUMMARY:Thuismatch ingevuld? (Brasschaat 2G (50) - Dilbeek 1G (65))
DESCRIPTION:Je hebt 36 uur na aanvang om een thuismatch op Badmintonvlaande
 ren in te vullen. Match info: Brasschaat 2G (50) - Dilbeek 1G (65) - Link:
  https://www.badmintonvlaanderen.be/sport/teammatch.aspx?id=32F5ED26-0D4B-
 47CE-BBB3-EBB3613B3D45&match=1151
DTSTART;TZID=Europe/Brussels:20221206T070000
DTEND;TZID=Europe/Brussels:20221206T070000
END:VEVENT
BEGIN:VEVENT
UID:32F5ED26-0D4B-47CE-BBB3-EBB3613B3D45-18-1144_homereminder@78.badmintonn
 ers.net
DTSTAMP:20260420T055112Z
SUMMARY:Thuismatch ingevuld? (Brasschaat 2G (50) - Hebad 4G (63))
DESCRIPTION:Je hebt 36 uur na aanvang om een thuismatch op Badmintonvlaande
 ren in te vullen. Match info: Brasschaat 2G (50) - Hebad 4G (63) - Link: h
 ttps://www.badmintonvlaanderen.be/sport/teammatch.aspx?id=32F5ED26-0D4B-47
 CE-BBB3-EBB3613B3D45&match=1144
DTSTART;TZID=Europe/Brussels:20230117T070000
DTEND;TZID=Europe/Brussels:20230117T070000
END:VEVENT
BEGIN:VEVENT
UID:32F5ED26-0D4B-47CE-BBB3-EBB3613B3D45-18-848_homereminder@78.badmintonne
 rs.net
DTSTAMP:20260420T055112Z
SUMMARY:Thuismatch ingevuld? (Brasschaat 2G (50) - Royal Antwerp 2G (49))
DESCRIPTION:Je hebt 36 uur na aanvang om een thuismatch op Badmintonvlaande
 ren in te vullen. Match info: Brasschaat 2G (50) - Royal Antwerp 2G (49) -
  Link: https://www.badmintonvlaanderen.be/sport/teammatch.aspx?id=32F5ED26
 -0D4B-47CE-BBB3-EBB3613B3D45&match=848
DTSTART;TZID=Europe/Brussels:20230131T070000
DTEND;TZID=Europe/Brussels:20230131T070000
END:VEVENT
BEGIN:VEVENT
UID:32F5ED26-0D4B-47CE-BBB3-EBB3613B3D45-18-841_homereminder@78.badmintonne
 rs.net
DTSTAMP:20260420T055112Z
SUMMARY:Thuismatch ingevuld? (Brasschaat 2G (50) - Klein Boom 1G (52))
DESCRIPTION:Je hebt 36 uur na aanvang om een thuismatch op Badmintonvlaande
 ren in te vullen. Match info: Brasschaat 2G (50) - Klein Boom 1G (52) - Li
 nk: https://www.badmintonvlaanderen.be/sport/teammatch.aspx?id=32F5ED26-0D
 4B-47CE-BBB3-EBB3613B3D45&match=841
DTSTART;TZID=Europe/Brussels:20230226T220000
DTEND;TZID=Europe/Brussels:20230226T220000
END:VEVENT
BEGIN:VEVENT
UID:32F5ED26-0D4B-47CE-BBB3-EBB3613B3D45-18-834_homereminder@78.badmintonne
 rs.net
DTSTAMP:20260420T055112Z
SUMMARY:Thuismatch ingevuld? (Brasschaat 2G (50) - Opslag 1G (58))
DESCRIPTION:Je hebt 36 uur na aanvang om een thuismatch op Badmintonvlaande
 ren in te vullen. Match info: Brasschaat 2G (50) - Opslag 1G (58) - Link: 
 https://www.badmintonvlaanderen.be/sport/teammatch.aspx?id=32F5ED26-0D4B-4
 7CE-BBB3-EBB3613B3D45&match=834
DTSTART;TZID=Europe/Brussels:20230314T070000
DTEND;TZID=Europe/Brussels:20230314T070000
END:VEVENT
BEGIN:VEVENT
UID:32F5ED26-0D4B-47CE-BBB3-EBB3613B3D45-18-827_homereminder@78.badmintonne
 rs.net
DTSTAMP:20260420T055112Z
SUMMARY:Thuismatch ingevuld? (Brasschaat 2G (50) - De Nekker 1G (53))
DESCRIPTION:Je hebt 36 uur na aanvang om een thuismatch op Badmintonvlaande
 ren in te vullen. Match info: Brasschaat 2G (50) - De Nekker 1G (53) - Lin
 k: https://www.badmintonvlaanderen.be/sport/teammatch.aspx?id=32F5ED26-0D4
 B-47CE-BBB3-EBB3613B3D45&match=827
DTSTART;TZID=Europe/Brussels:20230418T070000
DTEND;TZID=Europe/Brussels:20230418T070000
END:VEVENT
BEGIN:VEVENT
UID:32F5ED26-0D4B-47CE-BBB3-EBB3613B3D45-18-822_awayreminder@78.badmintonne
 rs.net
DTSTAMP:20260420T055112Z
SUMMARY:Uitmatch bevestigd? (Klein Boom 1G (52) - Brasschaat 2G (50))
DESCRIPTION:Je hebt 72 uur na aanvang om een uitmatch op Badmintonvlaandere
 n in te vullen. Match info: Klein Boom 1G (52) - Brasschaat 2G (50) - Link
 : https://www.badmintonvlaanderen.be/sport/teammatch.aspx?id=32F5ED26-0D4B
 -47CE-BBB3-EBB3613B3D45&match=822
DTSTART;TZID=Europe/Brussels:20220929T200000
DTEND;TZID=Europe/Brussels:20220929T200000
END:VEVENT
BEGIN:VEVENT
UID:32F5ED26-0D4B-47CE-BBB3-EBB3613B3D45-18-823_awayreminder@78.badmintonne
 rs.net
DTSTAMP:20260420T055112Z
SUMMARY:Uitmatch bevestigd? (Royal Antwerp 2G (49) - Brasschaat 2G (50))
DESCRIPTION:Je hebt 72 uur na aanvang om een uitmatch op Badmintonvlaandere
 n in te vullen. Match info: Royal Antwerp 2G (49) - Brasschaat 2G (50) - L
 ink: https://www.badmintonvlaanderen.be/sport/teammatch.aspx?id=32F5ED26-0
 D4B-47CE-BBB3-EBB3613B3D45&match=823
DTSTART;TZID=Europe/Brussels:20221123T180000
DTEND;TZID=Europe/Brussels:20221123T180000
END:VEVENT
BEGIN:VEVENT
UID:32F5ED26-0D4B-47CE-BBB3-EBB3613B3D45-18-821_awayreminder@78.badmintonne
 rs.net
DTSTAMP:20260420T055112Z
SUMMARY:Uitmatch bevestigd? (Opslag 1G (58) - Brasschaat 2G (50))
DESCRIPTION:Je hebt 72 uur na aanvang om een uitmatch op Badmintonvlaandere
 n in te vullen. Match info: Opslag 1G (58) - Brasschaat 2G (50) - Link: ht
 tps://www.badmintonvlaanderen.be/sport/teammatch.aspx?id=32F5ED26-0D4B-47C
 E-BBB3-EBB3613B3D45&match=821
DTSTART;TZID=Europe/Brussels:20221130T163000
DTEND;TZID=Europe/Brussels:20221130T163000
END:VEVENT
BEGIN:VEVENT
UID:32F5ED26-0D4B-47CE-BBB3-EBB3613B3D45-18-1132_awayreminder@78.badmintonn
 ers.net
DTSTAMP:20260420T055112Z
SUMMARY:Uitmatch bevestigd? (Hebad 4G (63) - Brasschaat 2G (50))
DESCRIPTION:Je hebt 72 uur na aanvang om een uitmatch op Badmintonvlaandere
 n in te vullen. Match info: Hebad 4G (63) - Brasschaat 2G (50) - Link: htt
 ps://www.badmintonvlaanderen.be/sport/teammatch.aspx?id=32F5ED26-0D4B-47CE
 -BBB3-EBB3613B3D45&match=1132
DTSTART;TZID=Europe/Brussels:20221221T140000
DTEND;TZID=Europe/Brussels:20221221T140000
END:VEVENT
BEGIN:VEVENT
UID:32F5ED26-0D4B-47CE-BBB3-EBB3613B3D45-18-820_awayreminder@78.badmintonne
 rs.net
DTSTAMP:20260420T055112Z
SUMMARY:Uitmatch bevestigd? (De Nekker 1G (53) - Brasschaat 2G (50))
DESCRIPTION:Je hebt 72 uur na aanvang om een uitmatch op Badmintonvlaandere
 n in te vullen. Match info: De Nekker 1G (53) - Brasschaat 2G (50) - Link:
  https://www.badmintonvlaanderen.be/sport/teammatch.aspx?id=32F5ED26-0D4B-
 47CE-BBB3-EBB3613B3D45&match=820
DTSTART;TZID=Europe/Brussels:20221224T203000
DTEND;TZID=Europe/Brussels:20221224T203000
END:VEVENT
BEGIN:VEVENT
UID:32F5ED26-0D4B-47CE-BBB3-EBB3613B3D45-18-824_awayreminder@78.badmintonne
 rs.net
DTSTAMP:20260420T055112Z
SUMMARY:Uitmatch bevestigd? (Tots Keerbergen 1G (58) - Brasschaat 2G (50))
DESCRIPTION:Je hebt 72 uur na aanvang om een uitmatch op Badmintonvlaandere
 n in te vullen. Match info: Tots Keerbergen 1G (58) - Brasschaat 2G (50) -
  Link: https://www.badmintonvlaanderen.be/sport/teammatch.aspx?id=32F5ED26
 -0D4B-47CE-BBB3-EBB3613B3D45&match=824
DTSTART;TZID=Europe/Brussels:20230208T190000
DTEND;TZID=Europe/Brussels:20230208T190000
END:VEVENT
BEGIN:VEVENT
UID:32F5ED26-0D4B-47CE-BBB3-EBB3613B3D45-18-1133_awayreminder@78.badmintonn
 ers.net
DTSTAMP:20260420T055112Z
SUMMARY:Uitmatch bevestigd? (Dilbeek 1G (65) - Brasschaat 2G (50))
DESCRIPTION:Je hebt 72 uur na aanvang om een uitmatch op Badmintonvlaandere
 n in te vullen. Match info: Dilbeek 1G (65) - Brasschaat 2G (50) - Link: h
 ttps://www.badmintonvlaanderen.be/sport/teammatch.aspx?id=32F5ED26-0D4B-47
 CE-BBB3-EBB3613B3D45&match=1133
DTSTART;TZID=Europe/Brussels:20230329T200000
DTEND;TZID=Europe/Brussels:20230329T200000
END:VEVENT
END:VCALENDAR