BEGIN:VCALENDAR
VERSION:2.0
PRODID:spatie/icalendar-generator
NAME:klein_boom_2d_55_reminders
X-WR-CALNAME:klein_boom_2d_55_reminders
BEGIN:VTIMEZONE
TZID:Europe/Brussels
BEGIN:DAYLIGHT
DTSTART:20210328T010000
TZOFFSETFROM:+0100
TZOFFSETTO:+0200
END:DAYLIGHT
BEGIN:STANDARD
DTSTART:20211031T030000
TZOFFSETFROM:+0200
TZOFFSETTO:+0100
END:STANDARD
BEGIN:DAYLIGHT
DTSTART:20220327T010000
TZOFFSETFROM:+0100
TZOFFSETTO:+0200
END:DAYLIGHT
END:VTIMEZONE
BEGIN:VTIMEZONE
TZID:UTC
BEGIN:STANDARD
DTSTART:20250724T055141
TZOFFSETFROM:+0000
TZOFFSETTO:+0000
END:STANDARD
END:VTIMEZONE
BEGIN:VEVENT
UID:343A6D01-7373-405B-9427-CB56B07F8CCD-1-1573_homereminder@137.badmintonn
 ers.net
DTSTAMP:20260420T055141Z
SUMMARY:Thuismatch ingevuld? (Klein Boom 2D (55) - Noorderwijkse 1D (52))
DESCRIPTION:Je hebt 36 uur na aanvang om een thuismatch op Badmintonvlaande
 ren in te vullen. Match info: Klein Boom 2D (55) - Noorderwijkse 1D (52) -
  Link: https://www.badmintonvlaanderen.be/sport/teammatch.aspx?id=343A6D01
 -7373-405B-9427-CB56B07F8CCD&match=1573
DTSTART;TZID=Europe/Brussels:20211026T070000
DTEND;TZID=Europe/Brussels:20211026T070000
END:VEVENT
BEGIN:VEVENT
UID:343A6D01-7373-405B-9427-CB56B07F8CCD-1-1571_homereminder@137.badmintonn
 ers.net
DTSTAMP:20260420T055141Z
SUMMARY:Thuismatch ingevuld? (Klein Boom 2D (55) - Bacss 1D (65))
DESCRIPTION:Je hebt 36 uur na aanvang om een thuismatch op Badmintonvlaande
 ren in te vullen. Match info: Klein Boom 2D (55) - Bacss 1D (65) - Link: h
 ttps://www.badmintonvlaanderen.be/sport/teammatch.aspx?id=343A6D01-7373-40
 5B-9427-CB56B07F8CCD&match=1571
DTSTART;TZID=Europe/Brussels:20211109T070000
DTEND;TZID=Europe/Brussels:20211109T070000
END:VEVENT
BEGIN:VEVENT
UID:343A6D01-7373-405B-9427-CB56B07F8CCD-1-1569_homereminder@137.badmintonn
 ers.net
DTSTAMP:20260420T055141Z
SUMMARY:Thuismatch ingevuld? (Klein Boom 2D (55) - Poona 1D (56))
DESCRIPTION:Je hebt 36 uur na aanvang om een thuismatch op Badmintonvlaande
 ren in te vullen. Match info: Klein Boom 2D (55) - Poona 1D (56) - Link: h
 ttps://www.badmintonvlaanderen.be/sport/teammatch.aspx?id=343A6D01-7373-40
 5B-9427-CB56B07F8CCD&match=1569
DTSTART;TZID=Europe/Brussels:20211221T070000
DTEND;TZID=Europe/Brussels:20211221T070000
END:VEVENT
BEGIN:VEVENT
UID:343A6D01-7373-405B-9427-CB56B07F8CCD-1-1574_homereminder@137.badmintonn
 ers.net
DTSTAMP:20260420T055141Z
SUMMARY:Thuismatch ingevuld? (Klein Boom 2D (55) - Beerke 2D (65))
DESCRIPTION:Je hebt 36 uur na aanvang om een thuismatch op Badmintonvlaande
 ren in te vullen. Match info: Klein Boom 2D (55) - Beerke 2D (65) - Link: 
 https://www.badmintonvlaanderen.be/sport/teammatch.aspx?id=343A6D01-7373-4
 05B-9427-CB56B07F8CCD&match=1574
DTSTART;TZID=Europe/Brussels:20220301T070000
DTEND;TZID=Europe/Brussels:20220301T070000
END:VEVENT
BEGIN:VEVENT
UID:343A6D01-7373-405B-9427-CB56B07F8CCD-1-1572_homereminder@137.badmintonn
 ers.net
DTSTAMP:20260420T055141Z
SUMMARY:Thuismatch ingevuld? (Klein Boom 2D (55) - Huirtuits Dropke 1D (55)
 )
DESCRIPTION:Je hebt 36 uur na aanvang om een thuismatch op Badmintonvlaande
 ren in te vullen. Match info: Klein Boom 2D (55) - Huirtuits Dropke 1D (55
 ) - Link: https://www.badmintonvlaanderen.be/sport/teammatch.aspx?id=343A6
 D01-7373-405B-9427-CB56B07F8CCD&match=1572
DTSTART;TZID=Europe/Brussels:20220315T070000
DTEND;TZID=Europe/Brussels:20220315T070000
END:VEVENT
BEGIN:VEVENT
UID:343A6D01-7373-405B-9427-CB56B07F8CCD-1-1570_homereminder@137.badmintonn
 ers.net
DTSTAMP:20260420T055141Z
SUMMARY:Thuismatch ingevuld? (Klein Boom 2D (55) - Waverse 1D (54))
DESCRIPTION:Je hebt 36 uur na aanvang om een thuismatch op Badmintonvlaande
 ren in te vullen. Match info: Klein Boom 2D (55) - Waverse 1D (54) - Link:
  https://www.badmintonvlaanderen.be/sport/teammatch.aspx?id=343A6D01-7373-
 405B-9427-CB56B07F8CCD&match=1570
DTSTART;TZID=Europe/Brussels:20220405T070000
DTEND;TZID=Europe/Brussels:20220405T070000
END:VEVENT
BEGIN:VEVENT
UID:343A6D01-7373-405B-9427-CB56B07F8CCD-1-1578_awayreminder@137.badmintonn
 ers.net
DTSTAMP:20260420T055141Z
SUMMARY:Uitmatch bevestigd? (Huirtuits Dropke 1D (55) - Klein Boom 2D (55))
DESCRIPTION:Je hebt 72 uur na aanvang om een uitmatch op Badmintonvlaandere
 n in te vullen. Match info: Huirtuits Dropke 1D (55) - Klein Boom 2D (55) 
 - Link: https://www.badmintonvlaanderen.be/sport/teammatch.aspx?id=343A6D0
 1-7373-405B-9427-CB56B07F8CCD&match=1578
DTSTART;TZID=Europe/Brussels:20210910T200000
DTEND;TZID=Europe/Brussels:20210910T200000
END:VEVENT
BEGIN:VEVENT
UID:343A6D01-7373-405B-9427-CB56B07F8CCD-1-1576_awayreminder@137.badmintonn
 ers.net
DTSTAMP:20260420T055141Z
SUMMARY:Uitmatch bevestigd? (Waverse 1D (54) - Klein Boom 2D (55))
DESCRIPTION:Je hebt 72 uur na aanvang om een uitmatch op Badmintonvlaandere
 n in te vullen. Match info: Waverse 1D (54) - Klein Boom 2D (55) - Link: h
 ttps://www.badmintonvlaanderen.be/sport/teammatch.aspx?id=343A6D01-7373-40
 5B-9427-CB56B07F8CCD&match=1576
DTSTART;TZID=Europe/Brussels:20210929T140000
DTEND;TZID=Europe/Brussels:20210929T140000
END:VEVENT
BEGIN:VEVENT
UID:343A6D01-7373-405B-9427-CB56B07F8CCD-1-1580_awayreminder@137.badmintonn
 ers.net
DTSTAMP:20260420T055141Z
SUMMARY:Uitmatch bevestigd? (Beerke 2D (65) - Klein Boom 2D (55))
DESCRIPTION:Je hebt 72 uur na aanvang om een uitmatch op Badmintonvlaandere
 n in te vullen. Match info: Beerke 2D (65) - Klein Boom 2D (55) - Link: ht
 tps://www.badmintonvlaanderen.be/sport/teammatch.aspx?id=343A6D01-7373-405
 B-9427-CB56B07F8CCD&match=1580
DTSTART;TZID=Europe/Brussels:20211124T100000
DTEND;TZID=Europe/Brussels:20211124T100000
END:VEVENT
BEGIN:VEVENT
UID:343A6D01-7373-405B-9427-CB56B07F8CCD-1-1577_awayreminder@137.badmintonn
 ers.net
DTSTAMP:20260420T055141Z
SUMMARY:Uitmatch bevestigd? (Bacss 1D (65) - Klein Boom 2D (55))
DESCRIPTION:Je hebt 72 uur na aanvang om een uitmatch op Badmintonvlaandere
 n in te vullen. Match info: Bacss 1D (65) - Klein Boom 2D (55) - Link: htt
 ps://www.badmintonvlaanderen.be/sport/teammatch.aspx?id=343A6D01-7373-405B
 -9427-CB56B07F8CCD&match=1577
DTSTART;TZID=Europe/Brussels:20220117T200500
DTEND;TZID=Europe/Brussels:20220117T200500
END:VEVENT
BEGIN:VEVENT
UID:343A6D01-7373-405B-9427-CB56B07F8CCD-1-1579_awayreminder@137.badmintonn
 ers.net
DTSTAMP:20260420T055141Z
SUMMARY:Uitmatch bevestigd? (Noorderwijkse 1D (52) - Klein Boom 2D (55))
DESCRIPTION:Je hebt 72 uur na aanvang om een uitmatch op Badmintonvlaandere
 n in te vullen. Match info: Noorderwijkse 1D (52) - Klein Boom 2D (55) - L
 ink: https://www.badmintonvlaanderen.be/sport/teammatch.aspx?id=343A6D01-7
 373-405B-9427-CB56B07F8CCD&match=1579
DTSTART;TZID=Europe/Brussels:20220215T193000
DTEND;TZID=Europe/Brussels:20220215T193000
END:VEVENT
BEGIN:VEVENT
UID:343A6D01-7373-405B-9427-CB56B07F8CCD-1-1575_awayreminder@137.badmintonn
 ers.net
DTSTAMP:20260420T055141Z
SUMMARY:Uitmatch bevestigd? (Poona 1D (56) - Klein Boom 2D (55))
DESCRIPTION:Je hebt 72 uur na aanvang om een uitmatch op Badmintonvlaandere
 n in te vullen. Match info: Poona 1D (56) - Klein Boom 2D (55) - Link: htt
 ps://www.badmintonvlaanderen.be/sport/teammatch.aspx?id=343A6D01-7373-405B
 -9427-CB56B07F8CCD&match=1575
DTSTART;TZID=Europe/Brussels:20220407T200000
DTEND;TZID=Europe/Brussels:20220407T200000
END:VEVENT
END:VCALENDAR