BEGIN:VCALENDAR
VERSION:2.0
PRODID:spatie/icalendar-generator
NAME:beerke_2d_65_reminders
X-WR-CALNAME:beerke_2d_65_reminders
BEGIN:VTIMEZONE
TZID:Europe/Brussels
BEGIN:DAYLIGHT
DTSTART:20210328T010000
TZOFFSETFROM:+0100
TZOFFSETTO:+0200
END:DAYLIGHT
BEGIN:STANDARD
DTSTART:20211031T030000
TZOFFSETFROM:+0200
TZOFFSETTO:+0100
END:STANDARD
BEGIN:DAYLIGHT
DTSTART:20220327T010000
TZOFFSETFROM:+0100
TZOFFSETTO:+0200
END:DAYLIGHT
BEGIN:STANDARD
DTSTART:20221030T030000
TZOFFSETFROM:+0200
TZOFFSETTO:+0100
END:STANDARD
END:VTIMEZONE
BEGIN:VTIMEZONE
TZID:UTC
BEGIN:STANDARD
DTSTART:20250724T055149
TZOFFSETFROM:+0000
TZOFFSETTO:+0000
END:STANDARD
END:VTIMEZONE
BEGIN:VEVENT
UID:343A6D01-7373-405B-9427-CB56B07F8CCD-1-26_homereminder@148.badmintonner
 s.net
DTSTAMP:20260420T055149Z
SUMMARY:Thuismatch ingevuld? (Beerke 2D (65) - Huirtuits Dropke 1D (55))
DESCRIPTION:Je hebt 36 uur na aanvang om een thuismatch op Badmintonvlaande
 ren in te vullen. Match info: Beerke 2D (65) - Huirtuits Dropke 1D (55) - 
 Link: https://www.badmintonvlaanderen.be/sport/teammatch.aspx?id=343A6D01-
 7373-405B-9427-CB56B07F8CCD&match=26
DTSTART;TZID=Europe/Brussels:20211011T220000
DTEND;TZID=Europe/Brussels:20211011T220000
END:VEVENT
BEGIN:VEVENT
UID:343A6D01-7373-405B-9427-CB56B07F8CCD-1-1580_homereminder@148.badmintonn
 ers.net
DTSTAMP:20260420T055149Z
SUMMARY:Thuismatch ingevuld? (Beerke 2D (65) - Klein Boom 2D (55))
DESCRIPTION:Je hebt 36 uur na aanvang om een thuismatch op Badmintonvlaande
 ren in te vullen. Match info: Beerke 2D (65) - Klein Boom 2D (55) - Link: 
 https://www.badmintonvlaanderen.be/sport/teammatch.aspx?id=343A6D01-7373-4
 05B-9427-CB56B07F8CCD&match=1580
DTSTART;TZID=Europe/Brussels:20211122T220000
DTEND;TZID=Europe/Brussels:20211122T220000
END:VEVENT
BEGIN:VEVENT
UID:343A6D01-7373-405B-9427-CB56B07F8CCD-1-16_homereminder@148.badmintonner
 s.net
DTSTAMP:20260420T055149Z
SUMMARY:Thuismatch ingevuld? (Beerke 2D (65) - Waverse 1D (54))
DESCRIPTION:Je hebt 36 uur na aanvang om een thuismatch op Badmintonvlaande
 ren in te vullen. Match info: Beerke 2D (65) - Waverse 1D (54) - Link: htt
 ps://www.badmintonvlaanderen.be/sport/teammatch.aspx?id=343A6D01-7373-405B
 -9427-CB56B07F8CCD&match=16
DTSTART;TZID=Europe/Brussels:20211220T220000
DTEND;TZID=Europe/Brussels:20211220T220000
END:VEVENT
BEGIN:VEVENT
UID:343A6D01-7373-405B-9427-CB56B07F8CCD-1-21_homereminder@148.badmintonner
 s.net
DTSTAMP:20260420T055149Z
SUMMARY:Thuismatch ingevuld? (Beerke 2D (65) - Bacss 1D (65))
DESCRIPTION:Je hebt 36 uur na aanvang om een thuismatch op Badmintonvlaande
 ren in te vullen. Match info: Beerke 2D (65) - Bacss 1D (65) - Link: https
 ://www.badmintonvlaanderen.be/sport/teammatch.aspx?id=343A6D01-7373-405B-9
 427-CB56B07F8CCD&match=21
DTSTART;TZID=Europe/Brussels:20220131T220000
DTEND;TZID=Europe/Brussels:20220131T220000
END:VEVENT
BEGIN:VEVENT
UID:343A6D01-7373-405B-9427-CB56B07F8CCD-1-11_homereminder@148.badmintonner
 s.net
DTSTAMP:20260420T055149Z
SUMMARY:Thuismatch ingevuld? (Beerke 2D (65) - Poona 1D (56))
DESCRIPTION:Je hebt 36 uur na aanvang om een thuismatch op Badmintonvlaande
 ren in te vullen. Match info: Beerke 2D (65) - Poona 1D (56) - Link: https
 ://www.badmintonvlaanderen.be/sport/teammatch.aspx?id=343A6D01-7373-405B-9
 427-CB56B07F8CCD&match=11
DTSTART;TZID=Europe/Brussels:20220328T220000
DTEND;TZID=Europe/Brussels:20220328T220000
END:VEVENT
BEGIN:VEVENT
UID:343A6D01-7373-405B-9427-CB56B07F8CCD-1-31_homereminder@148.badmintonner
 s.net
DTSTAMP:20260420T055149Z
SUMMARY:Thuismatch ingevuld? (Beerke 2D (65) - Noorderwijkse 1D (52))
DESCRIPTION:Je hebt 36 uur na aanvang om een thuismatch op Badmintonvlaande
 ren in te vullen. Match info: Beerke 2D (65) - Noorderwijkse 1D (52) - Lin
 k: https://www.badmintonvlaanderen.be/sport/teammatch.aspx?id=343A6D01-737
 3-405B-9427-CB56B07F8CCD&match=31
DTSTART;TZID=Europe/Brussels:20220430T080000
DTEND;TZID=Europe/Brussels:20220430T080000
END:VEVENT
BEGIN:VEVENT
UID:343A6D01-7373-405B-9427-CB56B07F8CCD-1-36_awayreminder@148.badmintonner
 s.net
DTSTAMP:20260420T055149Z
SUMMARY:Uitmatch bevestigd? (Noorderwijkse 1D (52) - Beerke 2D (65))
DESCRIPTION:Je hebt 72 uur na aanvang om een uitmatch op Badmintonvlaandere
 n in te vullen. Match info: Noorderwijkse 1D (52) - Beerke 2D (65) - Link:
  https://www.badmintonvlaanderen.be/sport/teammatch.aspx?id=343A6D01-7373-
 405B-9427-CB56B07F8CCD&match=36
DTSTART;TZID=Europe/Brussels:20211019T193000
DTEND;TZID=Europe/Brussels:20211019T193000
END:VEVENT
BEGIN:VEVENT
UID:343A6D01-7373-405B-9427-CB56B07F8CCD-1-34_awayreminder@148.badmintonner
 s.net
DTSTAMP:20260420T055149Z
SUMMARY:Uitmatch bevestigd? (Bacss 1D (65) - Beerke 2D (65))
DESCRIPTION:Je hebt 72 uur na aanvang om een uitmatch op Badmintonvlaandere
 n in te vullen. Match info: Bacss 1D (65) - Beerke 2D (65) - Link: https:/
 /www.badmintonvlaanderen.be/sport/teammatch.aspx?id=343A6D01-7373-405B-942
 7-CB56B07F8CCD&match=34
DTSTART;TZID=Europe/Brussels:20211220T201500
DTEND;TZID=Europe/Brussels:20211220T201500
END:VEVENT
BEGIN:VEVENT
UID:343A6D01-7373-405B-9427-CB56B07F8CCD-1-35_awayreminder@148.badmintonner
 s.net
DTSTAMP:20260420T055149Z
SUMMARY:Uitmatch bevestigd? (Huirtuits Dropke 1D (55) - Beerke 2D (65))
DESCRIPTION:Je hebt 72 uur na aanvang om een uitmatch op Badmintonvlaandere
 n in te vullen. Match info: Huirtuits Dropke 1D (55) - Beerke 2D (65) - Li
 nk: https://www.badmintonvlaanderen.be/sport/teammatch.aspx?id=343A6D01-73
 73-405B-9427-CB56B07F8CCD&match=35
DTSTART;TZID=Europe/Brussels:20220114T200000
DTEND;TZID=Europe/Brussels:20220114T200000
END:VEVENT
BEGIN:VEVENT
UID:343A6D01-7373-405B-9427-CB56B07F8CCD-1-32_awayreminder@148.badmintonner
 s.net
DTSTAMP:20260420T055149Z
SUMMARY:Uitmatch bevestigd? (Poona 1D (56) - Beerke 2D (65))
DESCRIPTION:Je hebt 72 uur na aanvang om een uitmatch op Badmintonvlaandere
 n in te vullen. Match info: Poona 1D (56) - Beerke 2D (65) - Link: https:/
 /www.badmintonvlaanderen.be/sport/teammatch.aspx?id=343A6D01-7373-405B-942
 7-CB56B07F8CCD&match=32
DTSTART;TZID=Europe/Brussels:20220203T200000
DTEND;TZID=Europe/Brussels:20220203T200000
END:VEVENT
BEGIN:VEVENT
UID:343A6D01-7373-405B-9427-CB56B07F8CCD-1-1574_awayreminder@148.badmintonn
 ers.net
DTSTAMP:20260420T055149Z
SUMMARY:Uitmatch bevestigd? (Klein Boom 2D (55) - Beerke 2D (65))
DESCRIPTION:Je hebt 72 uur na aanvang om een uitmatch op Badmintonvlaandere
 n in te vullen. Match info: Klein Boom 2D (55) - Beerke 2D (65) - Link: ht
 tps://www.badmintonvlaanderen.be/sport/teammatch.aspx?id=343A6D01-7373-405
 B-9427-CB56B07F8CCD&match=1574
DTSTART;TZID=Europe/Brussels:20220302T190000
DTEND;TZID=Europe/Brussels:20220302T190000
END:VEVENT
BEGIN:VEVENT
UID:343A6D01-7373-405B-9427-CB56B07F8CCD-1-33_awayreminder@148.badmintonner
 s.net
DTSTAMP:20260420T055149Z
SUMMARY:Uitmatch bevestigd? (Waverse 1D (54) - Beerke 2D (65))
DESCRIPTION:Je hebt 72 uur na aanvang om een uitmatch op Badmintonvlaandere
 n in te vullen. Match info: Waverse 1D (54) - Beerke 2D (65) - Link: https
 ://www.badmintonvlaanderen.be/sport/teammatch.aspx?id=343A6D01-7373-405B-9
 427-CB56B07F8CCD&match=33
DTSTART;TZID=Europe/Brussels:20220413T140000
DTEND;TZID=Europe/Brussels:20220413T140000
END:VEVENT
END:VCALENDAR