BEGIN:VCALENDAR
VERSION:2.0
PRODID:spatie/icalendar-generator
NAME:waverse_1d_54_reminders
X-WR-CALNAME:waverse_1d_54_reminders
BEGIN:VTIMEZONE
TZID:Europe/Brussels
BEGIN:DAYLIGHT
DTSTART:20210328T010000
TZOFFSETFROM:+0100
TZOFFSETTO:+0200
END:DAYLIGHT
BEGIN:STANDARD
DTSTART:20211031T030000
TZOFFSETFROM:+0200
TZOFFSETTO:+0100
END:STANDARD
BEGIN:DAYLIGHT
DTSTART:20220327T010000
TZOFFSETFROM:+0100
TZOFFSETTO:+0200
END:DAYLIGHT
END:VTIMEZONE
BEGIN:VTIMEZONE
TZID:UTC
BEGIN:STANDARD
DTSTART:20250724T072410
TZOFFSETFROM:+0000
TZOFFSETTO:+0000
END:STANDARD
END:VTIMEZONE
BEGIN:VEVENT
UID:343A6D01-7373-405B-9427-CB56B07F8CCD-1-1576_homereminder@164.badmintonn
 ers.net
DTSTAMP:20260420T072410Z
SUMMARY:Thuismatch ingevuld? (Waverse 1D (54) - Klein Boom 2D (55))
DESCRIPTION:Je hebt 36 uur na aanvang om een thuismatch op Badmintonvlaande
 ren in te vullen. Match info: Waverse 1D (54) - Klein Boom 2D (55) - Link:
  https://www.badmintonvlaanderen.be/sport/teammatch.aspx?id=343A6D01-7373-
 405B-9427-CB56B07F8CCD&match=1576
DTSTART;TZID=Europe/Brussels:20210928T020000
DTEND;TZID=Europe/Brussels:20210928T020000
END:VEVENT
BEGIN:VEVENT
UID:343A6D01-7373-405B-9427-CB56B07F8CCD-1-18_homereminder@164.badmintonner
 s.net
DTSTAMP:20260420T072410Z
SUMMARY:Thuismatch ingevuld? (Waverse 1D (54) - Bacss 1D (65))
DESCRIPTION:Je hebt 36 uur na aanvang om een thuismatch op Badmintonvlaande
 ren in te vullen. Match info: Waverse 1D (54) - Bacss 1D (65) - Link: http
 s://www.badmintonvlaanderen.be/sport/teammatch.aspx?id=343A6D01-7373-405B-
 9427-CB56B07F8CCD&match=18
DTSTART;TZID=Europe/Brussels:20211123T020000
DTEND;TZID=Europe/Brussels:20211123T020000
END:VEVENT
BEGIN:VEVENT
UID:343A6D01-7373-405B-9427-CB56B07F8CCD-1-28_homereminder@164.badmintonner
 s.net
DTSTAMP:20260420T072410Z
SUMMARY:Thuismatch ingevuld? (Waverse 1D (54) - Noorderwijkse 1D (52))
DESCRIPTION:Je hebt 36 uur na aanvang om een thuismatch op Badmintonvlaande
 ren in te vullen. Match info: Waverse 1D (54) - Noorderwijkse 1D (52) - Li
 nk: https://www.badmintonvlaanderen.be/sport/teammatch.aspx?id=343A6D01-73
 73-405B-9427-CB56B07F8CCD&match=28
DTSTART;TZID=Europe/Brussels:20211207T020000
DTEND;TZID=Europe/Brussels:20211207T020000
END:VEVENT
BEGIN:VEVENT
UID:343A6D01-7373-405B-9427-CB56B07F8CCD-1-7_homereminder@164.badmintonners
 .net
DTSTAMP:20260420T072410Z
SUMMARY:Thuismatch ingevuld? (Waverse 1D (54) - Poona 1D (56))
DESCRIPTION:Je hebt 36 uur na aanvang om een thuismatch op Badmintonvlaande
 ren in te vullen. Match info: Waverse 1D (54) - Poona 1D (56) - Link: http
 s://www.badmintonvlaanderen.be/sport/teammatch.aspx?id=343A6D01-7373-405B-
 9427-CB56B07F8CCD&match=7
DTSTART;TZID=Europe/Brussels:20220222T020000
DTEND;TZID=Europe/Brussels:20220222T020000
END:VEVENT
BEGIN:VEVENT
UID:343A6D01-7373-405B-9427-CB56B07F8CCD-1-23_homereminder@164.badmintonner
 s.net
DTSTAMP:20260420T072410Z
SUMMARY:Thuismatch ingevuld? (Waverse 1D (54) - Huirtuits Dropke 1D (55))
DESCRIPTION:Je hebt 36 uur na aanvang om een thuismatch op Badmintonvlaande
 ren in te vullen. Match info: Waverse 1D (54) - Huirtuits Dropke 1D (55) -
  Link: https://www.badmintonvlaanderen.be/sport/teammatch.aspx?id=343A6D01
 -7373-405B-9427-CB56B07F8CCD&match=23
DTSTART;TZID=Europe/Brussels:20220301T020000
DTEND;TZID=Europe/Brussels:20220301T020000
END:VEVENT
BEGIN:VEVENT
UID:343A6D01-7373-405B-9427-CB56B07F8CCD-1-33_homereminder@164.badmintonner
 s.net
DTSTAMP:20260420T072410Z
SUMMARY:Thuismatch ingevuld? (Waverse 1D (54) - Beerke 2D (65))
DESCRIPTION:Je hebt 36 uur na aanvang om een thuismatch op Badmintonvlaande
 ren in te vullen. Match info: Waverse 1D (54) - Beerke 2D (65) - Link: htt
 ps://www.badmintonvlaanderen.be/sport/teammatch.aspx?id=343A6D01-7373-405B
 -9427-CB56B07F8CCD&match=33
DTSTART;TZID=Europe/Brussels:20220412T020000
DTEND;TZID=Europe/Brussels:20220412T020000
END:VEVENT
BEGIN:VEVENT
UID:343A6D01-7373-405B-9427-CB56B07F8CCD-1-12_awayreminder@164.badmintonner
 s.net
DTSTAMP:20260420T072410Z
SUMMARY:Uitmatch bevestigd? (Poona 1D (56) - Waverse 1D (54))
DESCRIPTION:Je hebt 72 uur na aanvang om een uitmatch op Badmintonvlaandere
 n in te vullen. Match info: Poona 1D (56) - Waverse 1D (54) - Link: https:
 //www.badmintonvlaanderen.be/sport/teammatch.aspx?id=343A6D01-7373-405B-94
 27-CB56B07F8CCD&match=12
DTSTART;TZID=Europe/Brussels:20211007T200000
DTEND;TZID=Europe/Brussels:20211007T200000
END:VEVENT
BEGIN:VEVENT
UID:343A6D01-7373-405B-9427-CB56B07F8CCD-1-14_awayreminder@164.badmintonner
 s.net
DTSTAMP:20260420T072410Z
SUMMARY:Uitmatch bevestigd? (Huirtuits Dropke 1D (55) - Waverse 1D (54))
DESCRIPTION:Je hebt 72 uur na aanvang om een uitmatch op Badmintonvlaandere
 n in te vullen. Match info: Huirtuits Dropke 1D (55) - Waverse 1D (54) - L
 ink: https://www.badmintonvlaanderen.be/sport/teammatch.aspx?id=343A6D01-7
 373-405B-9427-CB56B07F8CCD&match=14
DTSTART;TZID=Europe/Brussels:20211105T200000
DTEND;TZID=Europe/Brussels:20211105T200000
END:VEVENT
BEGIN:VEVENT
UID:343A6D01-7373-405B-9427-CB56B07F8CCD-1-16_awayreminder@164.badmintonner
 s.net
DTSTAMP:20260420T072410Z
SUMMARY:Uitmatch bevestigd? (Beerke 2D (65) - Waverse 1D (54))
DESCRIPTION:Je hebt 72 uur na aanvang om een uitmatch op Badmintonvlaandere
 n in te vullen. Match info: Beerke 2D (65) - Waverse 1D (54) - Link: https
 ://www.badmintonvlaanderen.be/sport/teammatch.aspx?id=343A6D01-7373-405B-9
 427-CB56B07F8CCD&match=16
DTSTART;TZID=Europe/Brussels:20211222T100000
DTEND;TZID=Europe/Brussels:20211222T100000
END:VEVENT
BEGIN:VEVENT
UID:343A6D01-7373-405B-9427-CB56B07F8CCD-1-15_awayreminder@164.badmintonner
 s.net
DTSTAMP:20260420T072410Z
SUMMARY:Uitmatch bevestigd? (Noorderwijkse 1D (52) - Waverse 1D (54))
DESCRIPTION:Je hebt 72 uur na aanvang om een uitmatch op Badmintonvlaandere
 n in te vullen. Match info: Noorderwijkse 1D (52) - Waverse 1D (54) - Link
 : https://www.badmintonvlaanderen.be/sport/teammatch.aspx?id=343A6D01-7373
 -405B-9427-CB56B07F8CCD&match=15
DTSTART;TZID=Europe/Brussels:20220322T200000
DTEND;TZID=Europe/Brussels:20220322T200000
END:VEVENT
BEGIN:VEVENT
UID:343A6D01-7373-405B-9427-CB56B07F8CCD-1-13_awayreminder@164.badmintonner
 s.net
DTSTAMP:20260420T072410Z
SUMMARY:Uitmatch bevestigd? (Bacss 1D (65) - Waverse 1D (54))
DESCRIPTION:Je hebt 72 uur na aanvang om een uitmatch op Badmintonvlaandere
 n in te vullen. Match info: Bacss 1D (65) - Waverse 1D (54) - Link: https:
 //www.badmintonvlaanderen.be/sport/teammatch.aspx?id=343A6D01-7373-405B-94
 27-CB56B07F8CCD&match=13
DTSTART;TZID=Europe/Brussels:20220328T211500
DTEND;TZID=Europe/Brussels:20220328T211500
END:VEVENT
BEGIN:VEVENT
UID:343A6D01-7373-405B-9427-CB56B07F8CCD-1-1570_awayreminder@164.badmintonn
 ers.net
DTSTAMP:20260420T072410Z
SUMMARY:Uitmatch bevestigd? (Klein Boom 2D (55) - Waverse 1D (54))
DESCRIPTION:Je hebt 72 uur na aanvang om een uitmatch op Badmintonvlaandere
 n in te vullen. Match info: Klein Boom 2D (55) - Waverse 1D (54) - Link: h
 ttps://www.badmintonvlaanderen.be/sport/teammatch.aspx?id=343A6D01-7373-40
 5B-9427-CB56B07F8CCD&match=1570
DTSTART;TZID=Europe/Brussels:20220406T190000
DTEND;TZID=Europe/Brussels:20220406T190000
END:VEVENT
END:VCALENDAR