BEGIN:VCALENDAR
VERSION:2.0
PRODID:spatie/icalendar-generator
NAME:noorderwijkse_1d_52_reminders
X-WR-CALNAME:noorderwijkse_1d_52_reminders
BEGIN:VTIMEZONE
TZID:Europe/Brussels
BEGIN:DAYLIGHT
DTSTART:20210328T010000
TZOFFSETFROM:+0100
TZOFFSETTO:+0200
END:DAYLIGHT
BEGIN:STANDARD
DTSTART:20211031T030000
TZOFFSETFROM:+0200
TZOFFSETTO:+0100
END:STANDARD
BEGIN:DAYLIGHT
DTSTART:20220327T010000
TZOFFSETFROM:+0100
TZOFFSETTO:+0200
END:DAYLIGHT
BEGIN:STANDARD
DTSTART:20221030T030000
TZOFFSETFROM:+0200
TZOFFSETTO:+0100
END:STANDARD
END:VTIMEZONE
BEGIN:VTIMEZONE
TZID:UTC
BEGIN:STANDARD
DTSTART:20250724T055141
TZOFFSETFROM:+0000
TZOFFSETTO:+0000
END:STANDARD
END:VTIMEZONE
BEGIN:VEVENT
UID:343A6D01-7373-405B-9427-CB56B07F8CCD-1-36_homereminder@180.badmintonner
 s.net
DTSTAMP:20260420T055141Z
SUMMARY:Thuismatch ingevuld? (Noorderwijkse 1D (52) - Beerke 2D (65))
DESCRIPTION:Je hebt 36 uur na aanvang om een thuismatch op Badmintonvlaande
 ren in te vullen. Match info: Noorderwijkse 1D (52) - Beerke 2D (65) - Lin
 k: https://www.badmintonvlaanderen.be/sport/teammatch.aspx?id=343A6D01-737
 3-405B-9427-CB56B07F8CCD&match=36
DTSTART;TZID=Europe/Brussels:20211018T073000
DTEND;TZID=Europe/Brussels:20211018T073000
END:VEVENT
BEGIN:VEVENT
UID:343A6D01-7373-405B-9427-CB56B07F8CCD-1-10_homereminder@180.badmintonner
 s.net
DTSTAMP:20260420T055141Z
SUMMARY:Thuismatch ingevuld? (Noorderwijkse 1D (52) - Poona 1D (56))
DESCRIPTION:Je hebt 36 uur na aanvang om een thuismatch op Badmintonvlaande
 ren in te vullen. Match info: Noorderwijkse 1D (52) - Poona 1D (56) - Link
 : https://www.badmintonvlaanderen.be/sport/teammatch.aspx?id=343A6D01-7373
 -405B-9427-CB56B07F8CCD&match=10
DTSTART;TZID=Europe/Brussels:20211122T073000
DTEND;TZID=Europe/Brussels:20211122T073000
END:VEVENT
BEGIN:VEVENT
UID:343A6D01-7373-405B-9427-CB56B07F8CCD-1-20_homereminder@180.badmintonner
 s.net
DTSTAMP:20260420T055141Z
SUMMARY:Thuismatch ingevuld? (Noorderwijkse 1D (52) - Bacss 1D (65))
DESCRIPTION:Je hebt 36 uur na aanvang om een thuismatch op Badmintonvlaande
 ren in te vullen. Match info: Noorderwijkse 1D (52) - Bacss 1D (65) - Link
 : https://www.badmintonvlaanderen.be/sport/teammatch.aspx?id=343A6D01-7373
 -405B-9427-CB56B07F8CCD&match=20
DTSTART;TZID=Europe/Brussels:20211220T073000
DTEND;TZID=Europe/Brussels:20211220T073000
END:VEVENT
BEGIN:VEVENT
UID:343A6D01-7373-405B-9427-CB56B07F8CCD-1-25_homereminder@180.badmintonner
 s.net
DTSTAMP:20260420T055141Z
SUMMARY:Thuismatch ingevuld? (Noorderwijkse 1D (52) - Huirtuits Dropke 1D (
 55))
DESCRIPTION:Je hebt 36 uur na aanvang om een thuismatch op Badmintonvlaande
 ren in te vullen. Match info: Noorderwijkse 1D (52) - Huirtuits Dropke 1D 
 (55) - Link: https://www.badmintonvlaanderen.be/sport/teammatch.aspx?id=34
 3A6D01-7373-405B-9427-CB56B07F8CCD&match=25
DTSTART;TZID=Europe/Brussels:20220131T073000
DTEND;TZID=Europe/Brussels:20220131T073000
END:VEVENT
BEGIN:VEVENT
UID:343A6D01-7373-405B-9427-CB56B07F8CCD-1-1579_homereminder@180.badmintonn
 ers.net
DTSTAMP:20260420T055141Z
SUMMARY:Thuismatch ingevuld? (Noorderwijkse 1D (52) - Klein Boom 2D (55))
DESCRIPTION:Je hebt 36 uur na aanvang om een thuismatch op Badmintonvlaande
 ren in te vullen. Match info: Noorderwijkse 1D (52) - Klein Boom 2D (55) -
  Link: https://www.badmintonvlaanderen.be/sport/teammatch.aspx?id=343A6D01
 -7373-405B-9427-CB56B07F8CCD&match=1579
DTSTART;TZID=Europe/Brussels:20220214T073000
DTEND;TZID=Europe/Brussels:20220214T073000
END:VEVENT
BEGIN:VEVENT
UID:343A6D01-7373-405B-9427-CB56B07F8CCD-1-15_homereminder@180.badmintonner
 s.net
DTSTAMP:20260420T055141Z
SUMMARY:Thuismatch ingevuld? (Noorderwijkse 1D (52) - Waverse 1D (54))
DESCRIPTION:Je hebt 36 uur na aanvang om een thuismatch op Badmintonvlaande
 ren in te vullen. Match info: Noorderwijkse 1D (52) - Waverse 1D (54) - Li
 nk: https://www.badmintonvlaanderen.be/sport/teammatch.aspx?id=343A6D01-73
 73-405B-9427-CB56B07F8CCD&match=15
DTSTART;TZID=Europe/Brussels:20220321T080000
DTEND;TZID=Europe/Brussels:20220321T080000
END:VEVENT
BEGIN:VEVENT
UID:343A6D01-7373-405B-9427-CB56B07F8CCD-1-30_awayreminder@180.badmintonner
 s.net
DTSTAMP:20260420T055141Z
SUMMARY:Uitmatch bevestigd? (Huirtuits Dropke 1D (55) - Noorderwijkse 1D (5
 2))
DESCRIPTION:Je hebt 72 uur na aanvang om een uitmatch op Badmintonvlaandere
 n in te vullen. Match info: Huirtuits Dropke 1D (55) - Noorderwijkse 1D (5
 2) - Link: https://www.badmintonvlaanderen.be/sport/teammatch.aspx?id=343A
 6D01-7373-405B-9427-CB56B07F8CCD&match=30
DTSTART;TZID=Europe/Brussels:20210924T200000
DTEND;TZID=Europe/Brussels:20210924T200000
END:VEVENT
BEGIN:VEVENT
UID:343A6D01-7373-405B-9427-CB56B07F8CCD-1-1573_awayreminder@180.badmintonn
 ers.net
DTSTAMP:20260420T055141Z
SUMMARY:Uitmatch bevestigd? (Klein Boom 2D (55) - Noorderwijkse 1D (52))
DESCRIPTION:Je hebt 72 uur na aanvang om een uitmatch op Badmintonvlaandere
 n in te vullen. Match info: Klein Boom 2D (55) - Noorderwijkse 1D (52) - L
 ink: https://www.badmintonvlaanderen.be/sport/teammatch.aspx?id=343A6D01-7
 373-405B-9427-CB56B07F8CCD&match=1573
DTSTART;TZID=Europe/Brussels:20211027T190000
DTEND;TZID=Europe/Brussels:20211027T190000
END:VEVENT
BEGIN:VEVENT
UID:343A6D01-7373-405B-9427-CB56B07F8CCD-1-28_awayreminder@180.badmintonner
 s.net
DTSTAMP:20260420T055141Z
SUMMARY:Uitmatch bevestigd? (Waverse 1D (54) - Noorderwijkse 1D (52))
DESCRIPTION:Je hebt 72 uur na aanvang om een uitmatch op Badmintonvlaandere
 n in te vullen. Match info: Waverse 1D (54) - Noorderwijkse 1D (52) - Link
 : https://www.badmintonvlaanderen.be/sport/teammatch.aspx?id=343A6D01-7373
 -405B-9427-CB56B07F8CCD&match=28
DTSTART;TZID=Europe/Brussels:20211208T140000
DTEND;TZID=Europe/Brussels:20211208T140000
END:VEVENT
BEGIN:VEVENT
UID:343A6D01-7373-405B-9427-CB56B07F8CCD-1-29_awayreminder@180.badmintonner
 s.net
DTSTAMP:20260420T055141Z
SUMMARY:Uitmatch bevestigd? (Bacss 1D (65) - Noorderwijkse 1D (52))
DESCRIPTION:Je hebt 72 uur na aanvang om een uitmatch op Badmintonvlaandere
 n in te vullen. Match info: Bacss 1D (65) - Noorderwijkse 1D (52) - Link: 
 https://www.badmintonvlaanderen.be/sport/teammatch.aspx?id=343A6D01-7373-4
 05B-9427-CB56B07F8CCD&match=29
DTSTART;TZID=Europe/Brussels:20220131T201500
DTEND;TZID=Europe/Brussels:20220131T201500
END:VEVENT
BEGIN:VEVENT
UID:343A6D01-7373-405B-9427-CB56B07F8CCD-1-27_awayreminder@180.badmintonner
 s.net
DTSTAMP:20260420T055141Z
SUMMARY:Uitmatch bevestigd? (Poona 1D (56) - Noorderwijkse 1D (52))
DESCRIPTION:Je hebt 72 uur na aanvang om een uitmatch op Badmintonvlaandere
 n in te vullen. Match info: Poona 1D (56) - Noorderwijkse 1D (52) - Link: 
 https://www.badmintonvlaanderen.be/sport/teammatch.aspx?id=343A6D01-7373-4
 05B-9427-CB56B07F8CCD&match=27
DTSTART;TZID=Europe/Brussels:20220224T200000
DTEND;TZID=Europe/Brussels:20220224T200000
END:VEVENT
BEGIN:VEVENT
UID:343A6D01-7373-405B-9427-CB56B07F8CCD-1-31_awayreminder@180.badmintonner
 s.net
DTSTAMP:20260420T055141Z
SUMMARY:Uitmatch bevestigd? (Beerke 2D (65) - Noorderwijkse 1D (52))
DESCRIPTION:Je hebt 72 uur na aanvang om een uitmatch op Badmintonvlaandere
 n in te vullen. Match info: Beerke 2D (65) - Noorderwijkse 1D (52) - Link:
  https://www.badmintonvlaanderen.be/sport/teammatch.aspx?id=343A6D01-7373-
 405B-9427-CB56B07F8CCD&match=31
DTSTART;TZID=Europe/Brussels:20220501T200000
DTEND;TZID=Europe/Brussels:20220501T200000
END:VEVENT
END:VCALENDAR