BEGIN:VCALENDAR
VERSION:2.0
PRODID:spatie/icalendar-generator
NAME:huirtuits_dropke_1d_55_reminders
X-WR-CALNAME:huirtuits_dropke_1d_55_reminders
BEGIN:VTIMEZONE
TZID:Europe/Brussels
BEGIN:DAYLIGHT
DTSTART:20210328T010000
TZOFFSETFROM:+0100
TZOFFSETTO:+0200
END:DAYLIGHT
BEGIN:STANDARD
DTSTART:20211031T030000
TZOFFSETFROM:+0200
TZOFFSETTO:+0100
END:STANDARD
BEGIN:DAYLIGHT
DTSTART:20220327T010000
TZOFFSETFROM:+0100
TZOFFSETTO:+0200
END:DAYLIGHT
END:VTIMEZONE
BEGIN:VTIMEZONE
TZID:UTC
BEGIN:STANDARD
DTSTART:20250724T072411
TZOFFSETFROM:+0000
TZOFFSETTO:+0000
END:STANDARD
END:VTIMEZONE
BEGIN:VEVENT
UID:343A6D01-7373-405B-9427-CB56B07F8CCD-1-1578_homereminder@190.badmintonn
 ers.net
DTSTAMP:20260420T072411Z
SUMMARY:Thuismatch ingevuld? (Huirtuits Dropke 1D (55) - Klein Boom 2D (55)
 )
DESCRIPTION:Je hebt 36 uur na aanvang om een thuismatch op Badmintonvlaande
 ren in te vullen. Match info: Huirtuits Dropke 1D (55) - Klein Boom 2D (55
 ) - Link: https://www.badmintonvlaanderen.be/sport/teammatch.aspx?id=343A6
 D01-7373-405B-9427-CB56B07F8CCD&match=1578
DTSTART;TZID=Europe/Brussels:20210909T080000
DTEND;TZID=Europe/Brussels:20210909T080000
END:VEVENT
BEGIN:VEVENT
UID:343A6D01-7373-405B-9427-CB56B07F8CCD-1-30_homereminder@190.badmintonner
 s.net
DTSTAMP:20260420T072411Z
SUMMARY:Thuismatch ingevuld? (Huirtuits Dropke 1D (55) - Noorderwijkse 1D (
 52))
DESCRIPTION:Je hebt 36 uur na aanvang om een thuismatch op Badmintonvlaande
 ren in te vullen. Match info: Huirtuits Dropke 1D (55) - Noorderwijkse 1D 
 (52) - Link: https://www.badmintonvlaanderen.be/sport/teammatch.aspx?id=34
 3A6D01-7373-405B-9427-CB56B07F8CCD&match=30
DTSTART;TZID=Europe/Brussels:20210923T080000
DTEND;TZID=Europe/Brussels:20210923T080000
END:VEVENT
BEGIN:VEVENT
UID:343A6D01-7373-405B-9427-CB56B07F8CCD-1-14_homereminder@190.badmintonner
 s.net
DTSTAMP:20260420T072411Z
SUMMARY:Thuismatch ingevuld? (Huirtuits Dropke 1D (55) - Waverse 1D (54))
DESCRIPTION:Je hebt 36 uur na aanvang om een thuismatch op Badmintonvlaande
 ren in te vullen. Match info: Huirtuits Dropke 1D (55) - Waverse 1D (54) -
  Link: https://www.badmintonvlaanderen.be/sport/teammatch.aspx?id=343A6D01
 -7373-405B-9427-CB56B07F8CCD&match=14
DTSTART;TZID=Europe/Brussels:20211104T080000
DTEND;TZID=Europe/Brussels:20211104T080000
END:VEVENT
BEGIN:VEVENT
UID:343A6D01-7373-405B-9427-CB56B07F8CCD-1-35_homereminder@190.badmintonner
 s.net
DTSTAMP:20260420T072411Z
SUMMARY:Thuismatch ingevuld? (Huirtuits Dropke 1D (55) - Beerke 2D (65))
DESCRIPTION:Je hebt 36 uur na aanvang om een thuismatch op Badmintonvlaande
 ren in te vullen. Match info: Huirtuits Dropke 1D (55) - Beerke 2D (65) - 
 Link: https://www.badmintonvlaanderen.be/sport/teammatch.aspx?id=343A6D01-
 7373-405B-9427-CB56B07F8CCD&match=35
DTSTART;TZID=Europe/Brussels:20220113T080000
DTEND;TZID=Europe/Brussels:20220113T080000
END:VEVENT
BEGIN:VEVENT
UID:343A6D01-7373-405B-9427-CB56B07F8CCD-1-9_homereminder@190.badmintonners
 .net
DTSTAMP:20260420T072411Z
SUMMARY:Thuismatch ingevuld? (Huirtuits Dropke 1D (55) - Poona 1D (56))
DESCRIPTION:Je hebt 36 uur na aanvang om een thuismatch op Badmintonvlaande
 ren in te vullen. Match info: Huirtuits Dropke 1D (55) - Poona 1D (56) - L
 ink: https://www.badmintonvlaanderen.be/sport/teammatch.aspx?id=343A6D01-7
 373-405B-9427-CB56B07F8CCD&match=9
DTSTART;TZID=Europe/Brussels:20220210T080000
DTEND;TZID=Europe/Brussels:20220210T080000
END:VEVENT
BEGIN:VEVENT
UID:343A6D01-7373-405B-9427-CB56B07F8CCD-1-19_homereminder@190.badmintonner
 s.net
DTSTAMP:20260420T072411Z
SUMMARY:Thuismatch ingevuld? (Huirtuits Dropke 1D (55) - Bacss 1D (65))
DESCRIPTION:Je hebt 36 uur na aanvang om een thuismatch op Badmintonvlaande
 ren in te vullen. Match info: Huirtuits Dropke 1D (55) - Bacss 1D (65) - L
 ink: https://www.badmintonvlaanderen.be/sport/teammatch.aspx?id=343A6D01-7
 373-405B-9427-CB56B07F8CCD&match=19
DTSTART;TZID=Europe/Brussels:20220421T080000
DTEND;TZID=Europe/Brussels:20220421T080000
END:VEVENT
BEGIN:VEVENT
UID:343A6D01-7373-405B-9427-CB56B07F8CCD-1-26_awayreminder@190.badmintonner
 s.net
DTSTAMP:20260420T072411Z
SUMMARY:Uitmatch bevestigd? (Beerke 2D (65) - Huirtuits Dropke 1D (55))
DESCRIPTION:Je hebt 72 uur na aanvang om een uitmatch op Badmintonvlaandere
 n in te vullen. Match info: Beerke 2D (65) - Huirtuits Dropke 1D (55) - Li
 nk: https://www.badmintonvlaanderen.be/sport/teammatch.aspx?id=343A6D01-73
 73-405B-9427-CB56B07F8CCD&match=26
DTSTART;TZID=Europe/Brussels:20211013T100000
DTEND;TZID=Europe/Brussels:20211013T100000
END:VEVENT
BEGIN:VEVENT
UID:343A6D01-7373-405B-9427-CB56B07F8CCD-1-22_awayreminder@190.badmintonner
 s.net
DTSTAMP:20260420T072411Z
SUMMARY:Uitmatch bevestigd? (Poona 1D (56) - Huirtuits Dropke 1D (55))
DESCRIPTION:Je hebt 72 uur na aanvang om een uitmatch op Badmintonvlaandere
 n in te vullen. Match info: Poona 1D (56) - Huirtuits Dropke 1D (55) - Lin
 k: https://www.badmintonvlaanderen.be/sport/teammatch.aspx?id=343A6D01-737
 3-405B-9427-CB56B07F8CCD&match=22
DTSTART;TZID=Europe/Brussels:20211021T200000
DTEND;TZID=Europe/Brussels:20211021T200000
END:VEVENT
BEGIN:VEVENT
UID:343A6D01-7373-405B-9427-CB56B07F8CCD-1-25_awayreminder@190.badmintonner
 s.net
DTSTAMP:20260420T072411Z
SUMMARY:Uitmatch bevestigd? (Noorderwijkse 1D (52) - Huirtuits Dropke 1D (5
 5))
DESCRIPTION:Je hebt 72 uur na aanvang om een uitmatch op Badmintonvlaandere
 n in te vullen. Match info: Noorderwijkse 1D (52) - Huirtuits Dropke 1D (5
 5) - Link: https://www.badmintonvlaanderen.be/sport/teammatch.aspx?id=343A
 6D01-7373-405B-9427-CB56B07F8CCD&match=25
DTSTART;TZID=Europe/Brussels:20220201T193000
DTEND;TZID=Europe/Brussels:20220201T193000
END:VEVENT
BEGIN:VEVENT
UID:343A6D01-7373-405B-9427-CB56B07F8CCD-1-23_awayreminder@190.badmintonner
 s.net
DTSTAMP:20260420T072411Z
SUMMARY:Uitmatch bevestigd? (Waverse 1D (54) - Huirtuits Dropke 1D (55))
DESCRIPTION:Je hebt 72 uur na aanvang om een uitmatch op Badmintonvlaandere
 n in te vullen. Match info: Waverse 1D (54) - Huirtuits Dropke 1D (55) - L
 ink: https://www.badmintonvlaanderen.be/sport/teammatch.aspx?id=343A6D01-7
 373-405B-9427-CB56B07F8CCD&match=23
DTSTART;TZID=Europe/Brussels:20220302T140000
DTEND;TZID=Europe/Brussels:20220302T140000
END:VEVENT
BEGIN:VEVENT
UID:343A6D01-7373-405B-9427-CB56B07F8CCD-1-1572_awayreminder@190.badmintonn
 ers.net
DTSTAMP:20260420T072411Z
SUMMARY:Uitmatch bevestigd? (Klein Boom 2D (55) - Huirtuits Dropke 1D (55))
DESCRIPTION:Je hebt 72 uur na aanvang om een uitmatch op Badmintonvlaandere
 n in te vullen. Match info: Klein Boom 2D (55) - Huirtuits Dropke 1D (55) 
 - Link: https://www.badmintonvlaanderen.be/sport/teammatch.aspx?id=343A6D0
 1-7373-405B-9427-CB56B07F8CCD&match=1572
DTSTART;TZID=Europe/Brussels:20220316T190000
DTEND;TZID=Europe/Brussels:20220316T190000
END:VEVENT
BEGIN:VEVENT
UID:343A6D01-7373-405B-9427-CB56B07F8CCD-1-24_awayreminder@190.badmintonner
 s.net
DTSTAMP:20260420T072411Z
SUMMARY:Uitmatch bevestigd? (Bacss 1D (65) - Huirtuits Dropke 1D (55))
DESCRIPTION:Je hebt 72 uur na aanvang om een uitmatch op Badmintonvlaandere
 n in te vullen. Match info: Bacss 1D (65) - Huirtuits Dropke 1D (55) - Lin
 k: https://www.badmintonvlaanderen.be/sport/teammatch.aspx?id=343A6D01-737
 3-405B-9427-CB56B07F8CCD&match=24
DTSTART;TZID=Europe/Brussels:20220425T201500
DTEND;TZID=Europe/Brussels:20220425T201500
END:VEVENT
END:VCALENDAR