BEGIN:VCALENDAR
VERSION:2.0
PRODID:spatie/icalendar-generator
NAME:bacss_1d_65_reminders
X-WR-CALNAME:bacss_1d_65_reminders
BEGIN:VTIMEZONE
TZID:Europe/Brussels
BEGIN:DAYLIGHT
DTSTART:20210328T010000
TZOFFSETFROM:+0100
TZOFFSETTO:+0200
END:DAYLIGHT
BEGIN:STANDARD
DTSTART:20211031T030000
TZOFFSETFROM:+0200
TZOFFSETTO:+0100
END:STANDARD
BEGIN:DAYLIGHT
DTSTART:20220327T010000
TZOFFSETFROM:+0100
TZOFFSETTO:+0200
END:DAYLIGHT
END:VTIMEZONE
BEGIN:VTIMEZONE
TZID:UTC
BEGIN:STANDARD
DTSTART:20250724T055111
TZOFFSETFROM:+0000
TZOFFSETTO:+0000
END:STANDARD
END:VTIMEZONE
BEGIN:VEVENT
UID:343A6D01-7373-405B-9427-CB56B07F8CCD-1-8_homereminder@83.badmintonners.
 net
DTSTAMP:20260420T055111Z
SUMMARY:Thuismatch ingevuld? (Bacss 1D (65) - Poona 1D (56))
DESCRIPTION:Je hebt 36 uur na aanvang om een thuismatch op Badmintonvlaande
 ren in te vullen. Match info: Bacss 1D (65) - Poona 1D (56) - Link: https:
 //www.badmintonvlaanderen.be/sport/teammatch.aspx?id=343A6D01-7373-405B-94
 27-CB56B07F8CCD&match=8
DTSTART;TZID=Europe/Brussels:20211107T080500
DTEND;TZID=Europe/Brussels:20211107T080500
END:VEVENT
BEGIN:VEVENT
UID:343A6D01-7373-405B-9427-CB56B07F8CCD-1-34_homereminder@83.badmintonners
 .net
DTSTAMP:20260420T055111Z
SUMMARY:Thuismatch ingevuld? (Bacss 1D (65) - Beerke 2D (65))
DESCRIPTION:Je hebt 36 uur na aanvang om een thuismatch op Badmintonvlaande
 ren in te vullen. Match info: Bacss 1D (65) - Beerke 2D (65) - Link: https
 ://www.badmintonvlaanderen.be/sport/teammatch.aspx?id=343A6D01-7373-405B-9
 427-CB56B07F8CCD&match=34
DTSTART;TZID=Europe/Brussels:20211219T081500
DTEND;TZID=Europe/Brussels:20211219T081500
END:VEVENT
BEGIN:VEVENT
UID:343A6D01-7373-405B-9427-CB56B07F8CCD-1-1577_homereminder@83.badmintonne
 rs.net
DTSTAMP:20260420T055111Z
SUMMARY:Thuismatch ingevuld? (Bacss 1D (65) - Klein Boom 2D (55))
DESCRIPTION:Je hebt 36 uur na aanvang om een thuismatch op Badmintonvlaande
 ren in te vullen. Match info: Bacss 1D (65) - Klein Boom 2D (55) - Link: h
 ttps://www.badmintonvlaanderen.be/sport/teammatch.aspx?id=343A6D01-7373-40
 5B-9427-CB56B07F8CCD&match=1577
DTSTART;TZID=Europe/Brussels:20220116T080500
DTEND;TZID=Europe/Brussels:20220116T080500
END:VEVENT
BEGIN:VEVENT
UID:343A6D01-7373-405B-9427-CB56B07F8CCD-1-29_homereminder@83.badmintonners
 .net
DTSTAMP:20260420T055111Z
SUMMARY:Thuismatch ingevuld? (Bacss 1D (65) - Noorderwijkse 1D (52))
DESCRIPTION:Je hebt 36 uur na aanvang om een thuismatch op Badmintonvlaande
 ren in te vullen. Match info: Bacss 1D (65) - Noorderwijkse 1D (52) - Link
 : https://www.badmintonvlaanderen.be/sport/teammatch.aspx?id=343A6D01-7373
 -405B-9427-CB56B07F8CCD&match=29
DTSTART;TZID=Europe/Brussels:20220130T081500
DTEND;TZID=Europe/Brussels:20220130T081500
END:VEVENT
BEGIN:VEVENT
UID:343A6D01-7373-405B-9427-CB56B07F8CCD-1-13_homereminder@83.badmintonners
 .net
DTSTAMP:20260420T055111Z
SUMMARY:Thuismatch ingevuld? (Bacss 1D (65) - Waverse 1D (54))
DESCRIPTION:Je hebt 36 uur na aanvang om een thuismatch op Badmintonvlaande
 ren in te vullen. Match info: Bacss 1D (65) - Waverse 1D (54) - Link: http
 s://www.badmintonvlaanderen.be/sport/teammatch.aspx?id=343A6D01-7373-405B-
 9427-CB56B07F8CCD&match=13
DTSTART;TZID=Europe/Brussels:20220327T091500
DTEND;TZID=Europe/Brussels:20220327T091500
END:VEVENT
BEGIN:VEVENT
UID:343A6D01-7373-405B-9427-CB56B07F8CCD-1-24_homereminder@83.badmintonners
 .net
DTSTAMP:20260420T055111Z
SUMMARY:Thuismatch ingevuld? (Bacss 1D (65) - Huirtuits Dropke 1D (55))
DESCRIPTION:Je hebt 36 uur na aanvang om een thuismatch op Badmintonvlaande
 ren in te vullen. Match info: Bacss 1D (65) - Huirtuits Dropke 1D (55) - L
 ink: https://www.badmintonvlaanderen.be/sport/teammatch.aspx?id=343A6D01-7
 373-405B-9427-CB56B07F8CCD&match=24
DTSTART;TZID=Europe/Brussels:20220424T081500
DTEND;TZID=Europe/Brussels:20220424T081500
END:VEVENT
BEGIN:VEVENT
UID:343A6D01-7373-405B-9427-CB56B07F8CCD-1-1571_awayreminder@83.badmintonne
 rs.net
DTSTAMP:20260420T055111Z
SUMMARY:Uitmatch bevestigd? (Klein Boom 2D (55) - Bacss 1D (65))
DESCRIPTION:Je hebt 72 uur na aanvang om een uitmatch op Badmintonvlaandere
 n in te vullen. Match info: Klein Boom 2D (55) - Bacss 1D (65) - Link: htt
 ps://www.badmintonvlaanderen.be/sport/teammatch.aspx?id=343A6D01-7373-405B
 -9427-CB56B07F8CCD&match=1571
DTSTART;TZID=Europe/Brussels:20211110T190000
DTEND;TZID=Europe/Brussels:20211110T190000
END:VEVENT
BEGIN:VEVENT
UID:343A6D01-7373-405B-9427-CB56B07F8CCD-1-18_awayreminder@83.badmintonners
 .net
DTSTAMP:20260420T055111Z
SUMMARY:Uitmatch bevestigd? (Waverse 1D (54) - Bacss 1D (65))
DESCRIPTION:Je hebt 72 uur na aanvang om een uitmatch op Badmintonvlaandere
 n in te vullen. Match info: Waverse 1D (54) - Bacss 1D (65) - Link: https:
 //www.badmintonvlaanderen.be/sport/teammatch.aspx?id=343A6D01-7373-405B-94
 27-CB56B07F8CCD&match=18
DTSTART;TZID=Europe/Brussels:20211124T140000
DTEND;TZID=Europe/Brussels:20211124T140000
END:VEVENT
BEGIN:VEVENT
UID:343A6D01-7373-405B-9427-CB56B07F8CCD-1-20_awayreminder@83.badmintonners
 .net
DTSTAMP:20260420T055111Z
SUMMARY:Uitmatch bevestigd? (Noorderwijkse 1D (52) - Bacss 1D (65))
DESCRIPTION:Je hebt 72 uur na aanvang om een uitmatch op Badmintonvlaandere
 n in te vullen. Match info: Noorderwijkse 1D (52) - Bacss 1D (65) - Link: 
 https://www.badmintonvlaanderen.be/sport/teammatch.aspx?id=343A6D01-7373-4
 05B-9427-CB56B07F8CCD&match=20
DTSTART;TZID=Europe/Brussels:20211221T193000
DTEND;TZID=Europe/Brussels:20211221T193000
END:VEVENT
BEGIN:VEVENT
UID:343A6D01-7373-405B-9427-CB56B07F8CCD-1-21_awayreminder@83.badmintonners
 .net
DTSTAMP:20260420T055111Z
SUMMARY:Uitmatch bevestigd? (Beerke 2D (65) - Bacss 1D (65))
DESCRIPTION:Je hebt 72 uur na aanvang om een uitmatch op Badmintonvlaandere
 n in te vullen. Match info: Beerke 2D (65) - Bacss 1D (65) - Link: https:/
 /www.badmintonvlaanderen.be/sport/teammatch.aspx?id=343A6D01-7373-405B-942
 7-CB56B07F8CCD&match=21
DTSTART;TZID=Europe/Brussels:20220202T100000
DTEND;TZID=Europe/Brussels:20220202T100000
END:VEVENT
BEGIN:VEVENT
UID:343A6D01-7373-405B-9427-CB56B07F8CCD-1-17_awayreminder@83.badmintonners
 .net
DTSTAMP:20260420T055111Z
SUMMARY:Uitmatch bevestigd? (Poona 1D (56) - Bacss 1D (65))
DESCRIPTION:Je hebt 72 uur na aanvang om een uitmatch op Badmintonvlaandere
 n in te vullen. Match info: Poona 1D (56) - Bacss 1D (65) - Link: https://
 www.badmintonvlaanderen.be/sport/teammatch.aspx?id=343A6D01-7373-405B-9427
 -CB56B07F8CCD&match=17
DTSTART;TZID=Europe/Brussels:20220310T200000
DTEND;TZID=Europe/Brussels:20220310T200000
END:VEVENT
BEGIN:VEVENT
UID:343A6D01-7373-405B-9427-CB56B07F8CCD-1-19_awayreminder@83.badmintonners
 .net
DTSTAMP:20260420T055111Z
SUMMARY:Uitmatch bevestigd? (Huirtuits Dropke 1D (55) - Bacss 1D (65))
DESCRIPTION:Je hebt 72 uur na aanvang om een uitmatch op Badmintonvlaandere
 n in te vullen. Match info: Huirtuits Dropke 1D (55) - Bacss 1D (65) - Lin
 k: https://www.badmintonvlaanderen.be/sport/teammatch.aspx?id=343A6D01-737
 3-405B-9427-CB56B07F8CCD&match=19
DTSTART;TZID=Europe/Brussels:20220422T200000
DTEND;TZID=Europe/Brussels:20220422T200000
END:VEVENT
END:VCALENDAR