BEGIN:VCALENDAR
VERSION:2.0
PRODID:spatie/icalendar-generator
NAME:klein_boom_3g_86_reminders
X-WR-CALNAME:klein_boom_3g_86_reminders
BEGIN:VTIMEZONE
TZID:Europe/Brussels
BEGIN:DAYLIGHT
DTSTART:20210328T010000
TZOFFSETFROM:+0100
TZOFFSETTO:+0200
END:DAYLIGHT
BEGIN:STANDARD
DTSTART:20211031T030000
TZOFFSETFROM:+0200
TZOFFSETTO:+0100
END:STANDARD
BEGIN:DAYLIGHT
DTSTART:20220327T010000
TZOFFSETFROM:+0100
TZOFFSETTO:+0200
END:DAYLIGHT
END:VTIMEZONE
BEGIN:VTIMEZONE
TZID:UTC
BEGIN:STANDARD
DTSTART:20250724T055140
TZOFFSETFROM:+0000
TZOFFSETTO:+0000
END:STANDARD
END:VTIMEZONE
BEGIN:VEVENT
UID:343A6D01-7373-405B-9427-CB56B07F8CCD-10-468_homereminder@132.badmintonn
 ers.net
DTSTAMP:20260420T055140Z
SUMMARY:Thuismatch ingevuld? (Klein Boom 3G (86) - Zoersel 2G (98))
DESCRIPTION:Je hebt 36 uur na aanvang om een thuismatch op Badmintonvlaande
 ren in te vullen. Match info: Klein Boom 3G (86) - Zoersel 2G (98) - Link:
  https://www.badmintonvlaanderen.be/sport/teammatch.aspx?id=343A6D01-7373-
 405B-9427-CB56B07F8CCD&match=468
DTSTART;TZID=Europe/Brussels:20210914T070000
DTEND;TZID=Europe/Brussels:20210914T070000
END:VEVENT
BEGIN:VEVENT
UID:343A6D01-7373-405B-9427-CB56B07F8CCD-10-449_homereminder@132.badmintonn
 ers.net
DTSTAMP:20260420T055140Z
SUMMARY:Thuismatch ingevuld? (Klein Boom 3G (86) - Rijkerack 3G (91))
DESCRIPTION:Je hebt 36 uur na aanvang om een thuismatch op Badmintonvlaande
 ren in te vullen. Match info: Klein Boom 3G (86) - Rijkerack 3G (91) - Lin
 k: https://www.badmintonvlaanderen.be/sport/teammatch.aspx?id=343A6D01-737
 3-405B-9427-CB56B07F8CCD&match=449
DTSTART;TZID=Europe/Brussels:20211005T070000
DTEND;TZID=Europe/Brussels:20211005T070000
END:VEVENT
BEGIN:VEVENT
UID:343A6D01-7373-405B-9427-CB56B07F8CCD-10-437_homereminder@132.badmintonn
 ers.net
DTSTAMP:20260420T055140Z
SUMMARY:Thuismatch ingevuld? (Klein Boom 3G (86) - Noorderwijkse 2G (87))
DESCRIPTION:Je hebt 36 uur na aanvang om een thuismatch op Badmintonvlaande
 ren in te vullen. Match info: Klein Boom 3G (86) - Noorderwijkse 2G (87) -
  Link: https://www.badmintonvlaanderen.be/sport/teammatch.aspx?id=343A6D01
 -7373-405B-9427-CB56B07F8CCD&match=437
DTSTART;TZID=Europe/Brussels:20211116T070000
DTEND;TZID=Europe/Brussels:20211116T070000
END:VEVENT
BEGIN:VEVENT
UID:343A6D01-7373-405B-9427-CB56B07F8CCD-10-455_homereminder@132.badmintonn
 ers.net
DTSTAMP:20260420T055140Z
SUMMARY:Thuismatch ingevuld? (Klein Boom 3G (86) - Herentals 3G (91))
DESCRIPTION:Je hebt 36 uur na aanvang om een thuismatch op Badmintonvlaande
 ren in te vullen. Match info: Klein Boom 3G (86) - Herentals 3G (91) - Lin
 k: https://www.badmintonvlaanderen.be/sport/teammatch.aspx?id=343A6D01-737
 3-405B-9427-CB56B07F8CCD&match=455
DTSTART;TZID=Europe/Brussels:20220118T070000
DTEND;TZID=Europe/Brussels:20220118T070000
END:VEVENT
BEGIN:VEVENT
UID:343A6D01-7373-405B-9427-CB56B07F8CCD-10-431_homereminder@132.badmintonn
 ers.net
DTSTAMP:20260420T055140Z
SUMMARY:Thuismatch ingevuld? (Klein Boom 3G (86) - Olympia 1G (98))
DESCRIPTION:Je hebt 36 uur na aanvang om een thuismatch op Badmintonvlaande
 ren in te vullen. Match info: Klein Boom 3G (86) - Olympia 1G (98) - Link:
  https://www.badmintonvlaanderen.be/sport/teammatch.aspx?id=343A6D01-7373-
 405B-9427-CB56B07F8CCD&match=431
DTSTART;TZID=Europe/Brussels:20220208T070000
DTEND;TZID=Europe/Brussels:20220208T070000
END:VEVENT
BEGIN:VEVENT
UID:343A6D01-7373-405B-9427-CB56B07F8CCD-10-443_homereminder@132.badmintonn
 ers.net
DTSTAMP:20260420T055140Z
SUMMARY:Thuismatch ingevuld? (Klein Boom 3G (86) - Spinshuttle 3G (100))
DESCRIPTION:Je hebt 36 uur na aanvang om een thuismatch op Badmintonvlaande
 ren in te vullen. Match info: Klein Boom 3G (86) - Spinshuttle 3G (100) - 
 Link: https://www.badmintonvlaanderen.be/sport/teammatch.aspx?id=343A6D01-
 7373-405B-9427-CB56B07F8CCD&match=443
DTSTART;TZID=Europe/Brussels:20220308T070000
DTEND;TZID=Europe/Brussels:20220308T070000
END:VEVENT
BEGIN:VEVENT
UID:343A6D01-7373-405B-9427-CB56B07F8CCD-10-461_awayreminder@132.badmintonn
 ers.net
DTSTAMP:20260420T055140Z
SUMMARY:Uitmatch bevestigd? (Herentals 3G (91) - Klein Boom 3G (86))
DESCRIPTION:Je hebt 72 uur na aanvang om een uitmatch op Badmintonvlaandere
 n in te vullen. Match info: Herentals 3G (91) - Klein Boom 3G (86) - Link:
  https://www.badmintonvlaanderen.be/sport/teammatch.aspx?id=343A6D01-7373-
 405B-9427-CB56B07F8CCD&match=461
DTSTART;TZID=Europe/Brussels:20211017T210000
DTEND;TZID=Europe/Brussels:20211017T210000
END:VEVENT
BEGIN:VEVENT
UID:343A6D01-7373-405B-9427-CB56B07F8CCD-10-459_awayreminder@132.badmintonn
 ers.net
DTSTAMP:20260420T055140Z
SUMMARY:Uitmatch bevestigd? (Spinshuttle 3G (100) - Klein Boom 3G (86))
DESCRIPTION:Je hebt 72 uur na aanvang om een uitmatch op Badmintonvlaandere
 n in te vullen. Match info: Spinshuttle 3G (100) - Klein Boom 3G (86) - Li
 nk: https://www.badmintonvlaanderen.be/sport/teammatch.aspx?id=343A6D01-73
 73-405B-9427-CB56B07F8CCD&match=459
DTSTART;TZID=Europe/Brussels:20211126T200000
DTEND;TZID=Europe/Brussels:20211126T200000
END:VEVENT
BEGIN:VEVENT
UID:343A6D01-7373-405B-9427-CB56B07F8CCD-10-457_awayreminder@132.badmintonn
 ers.net
DTSTAMP:20260420T055140Z
SUMMARY:Uitmatch bevestigd? (Olympia 1G (98) - Klein Boom 3G (86))
DESCRIPTION:Je hebt 72 uur na aanvang om een uitmatch op Badmintonvlaandere
 n in te vullen. Match info: Olympia 1G (98) - Klein Boom 3G (86) - Link: h
 ttps://www.badmintonvlaanderen.be/sport/teammatch.aspx?id=343A6D01-7373-40
 5B-9427-CB56B07F8CCD&match=457
DTSTART;TZID=Europe/Brussels:20211214T093000
DTEND;TZID=Europe/Brussels:20211214T093000
END:VEVENT
BEGIN:VEVENT
UID:343A6D01-7373-405B-9427-CB56B07F8CCD-10-460_awayreminder@132.badmintonn
 ers.net
DTSTAMP:20260420T055140Z
SUMMARY:Uitmatch bevestigd? (Rijkerack 3G (91) - Klein Boom 3G (86))
DESCRIPTION:Je hebt 72 uur na aanvang om een uitmatch op Badmintonvlaandere
 n in te vullen. Match info: Rijkerack 3G (91) - Klein Boom 3G (86) - Link:
  https://www.badmintonvlaanderen.be/sport/teammatch.aspx?id=343A6D01-7373-
 405B-9427-CB56B07F8CCD&match=460
DTSTART;TZID=Europe/Brussels:20220126T190000
DTEND;TZID=Europe/Brussels:20220126T190000
END:VEVENT
BEGIN:VEVENT
UID:343A6D01-7373-405B-9427-CB56B07F8CCD-10-462_awayreminder@132.badmintonn
 ers.net
DTSTAMP:20260420T055140Z
SUMMARY:Uitmatch bevestigd? (Zoersel 2G (98) - Klein Boom 3G (86))
DESCRIPTION:Je hebt 72 uur na aanvang om een uitmatch op Badmintonvlaandere
 n in te vullen. Match info: Zoersel 2G (98) - Klein Boom 3G (86) - Link: h
 ttps://www.badmintonvlaanderen.be/sport/teammatch.aspx?id=343A6D01-7373-40
 5B-9427-CB56B07F8CCD&match=462
DTSTART;TZID=Europe/Brussels:20220323T120000
DTEND;TZID=Europe/Brussels:20220323T120000
END:VEVENT
BEGIN:VEVENT
UID:343A6D01-7373-405B-9427-CB56B07F8CCD-10-458_awayreminder@132.badmintonn
 ers.net
DTSTAMP:20260420T055140Z
SUMMARY:Uitmatch bevestigd? (Noorderwijkse 2G (87) - Klein Boom 3G (86))
DESCRIPTION:Je hebt 72 uur na aanvang om een uitmatch op Badmintonvlaandere
 n in te vullen. Match info: Noorderwijkse 2G (87) - Klein Boom 3G (86) - L
 ink: https://www.badmintonvlaanderen.be/sport/teammatch.aspx?id=343A6D01-7
 373-405B-9427-CB56B07F8CCD&match=458
DTSTART;TZID=Europe/Brussels:20220423T200000
DTEND;TZID=Europe/Brussels:20220423T200000
END:VEVENT
END:VCALENDAR