BEGIN:VCALENDAR
VERSION:2.0
PRODID:spatie/icalendar-generator
NAME:olympia_1g_98_reminders
X-WR-CALNAME:olympia_1g_98_reminders
BEGIN:VTIMEZONE
TZID:Europe/Brussels
BEGIN:DAYLIGHT
DTSTART:20210328T010000
TZOFFSETFROM:+0100
TZOFFSETTO:+0200
END:DAYLIGHT
BEGIN:STANDARD
DTSTART:20211031T030000
TZOFFSETFROM:+0200
TZOFFSETTO:+0100
END:STANDARD
BEGIN:DAYLIGHT
DTSTART:20220327T010000
TZOFFSETFROM:+0100
TZOFFSETTO:+0200
END:DAYLIGHT
END:VTIMEZONE
BEGIN:VTIMEZONE
TZID:UTC
BEGIN:STANDARD
DTSTART:20250724T055121
TZOFFSETFROM:+0000
TZOFFSETTO:+0000
END:STANDARD
END:VTIMEZONE
BEGIN:VEVENT
UID:343A6D01-7373-405B-9427-CB56B07F8CCD-10-433_homereminder@175.badmintonn
 ers.net
DTSTAMP:20260420T055121Z
SUMMARY:Thuismatch ingevuld? (Olympia 1G (98) - Noorderwijkse 2G (87))
DESCRIPTION:Je hebt 36 uur na aanvang om een thuismatch op Badmintonvlaande
 ren in te vullen. Match info: Olympia 1G (98) - Noorderwijkse 2G (87) - Li
 nk: https://www.badmintonvlaanderen.be/sport/teammatch.aspx?id=343A6D01-73
 73-405B-9427-CB56B07F8CCD&match=433
DTSTART;TZID=Europe/Brussels:20211010T213000
DTEND;TZID=Europe/Brussels:20211010T213000
END:VEVENT
BEGIN:VEVENT
UID:343A6D01-7373-405B-9427-CB56B07F8CCD-10-445_homereminder@175.badmintonn
 ers.net
DTSTAMP:20260420T055121Z
SUMMARY:Thuismatch ingevuld? (Olympia 1G (98) - Rijkerack 3G (91))
DESCRIPTION:Je hebt 36 uur na aanvang om een thuismatch op Badmintonvlaande
 ren in te vullen. Match info: Olympia 1G (98) - Rijkerack 3G (91) - Link: 
 https://www.badmintonvlaanderen.be/sport/teammatch.aspx?id=343A6D01-7373-4
 05B-9427-CB56B07F8CCD&match=445
DTSTART;TZID=Europe/Brussels:20211205T213000
DTEND;TZID=Europe/Brussels:20211205T213000
END:VEVENT
BEGIN:VEVENT
UID:343A6D01-7373-405B-9427-CB56B07F8CCD-10-457_homereminder@175.badmintonn
 ers.net
DTSTAMP:20260420T055121Z
SUMMARY:Thuismatch ingevuld? (Olympia 1G (98) - Klein Boom 3G (86))
DESCRIPTION:Je hebt 36 uur na aanvang om een thuismatch op Badmintonvlaande
 ren in te vullen. Match info: Olympia 1G (98) - Klein Boom 3G (86) - Link:
  https://www.badmintonvlaanderen.be/sport/teammatch.aspx?id=343A6D01-7373-
 405B-9427-CB56B07F8CCD&match=457
DTSTART;TZID=Europe/Brussels:20211212T213000
DTEND;TZID=Europe/Brussels:20211212T213000
END:VEVENT
BEGIN:VEVENT
UID:343A6D01-7373-405B-9427-CB56B07F8CCD-10-439_homereminder@175.badmintonn
 ers.net
DTSTAMP:20260420T055121Z
SUMMARY:Thuismatch ingevuld? (Olympia 1G (98) - Spinshuttle 3G (100))
DESCRIPTION:Je hebt 36 uur na aanvang om een thuismatch op Badmintonvlaande
 ren in te vullen. Match info: Olympia 1G (98) - Spinshuttle 3G (100) - Lin
 k: https://www.badmintonvlaanderen.be/sport/teammatch.aspx?id=343A6D01-737
 3-405B-9427-CB56B07F8CCD&match=439
DTSTART;TZID=Europe/Brussels:20220109T213000
DTEND;TZID=Europe/Brussels:20220109T213000
END:VEVENT
BEGIN:VEVENT
UID:343A6D01-7373-405B-9427-CB56B07F8CCD-10-463_homereminder@175.badmintonn
 ers.net
DTSTAMP:20260420T055121Z
SUMMARY:Thuismatch ingevuld? (Olympia 1G (98) - Zoersel 2G (98))
DESCRIPTION:Je hebt 36 uur na aanvang om een thuismatch op Badmintonvlaande
 ren in te vullen. Match info: Olympia 1G (98) - Zoersel 2G (98) - Link: ht
 tps://www.badmintonvlaanderen.be/sport/teammatch.aspx?id=343A6D01-7373-405
 B-9427-CB56B07F8CCD&match=463
DTSTART;TZID=Europe/Brussels:20220220T213000
DTEND;TZID=Europe/Brussels:20220220T213000
END:VEVENT
BEGIN:VEVENT
UID:343A6D01-7373-405B-9427-CB56B07F8CCD-10-451_homereminder@175.badmintonn
 ers.net
DTSTAMP:20260420T055121Z
SUMMARY:Thuismatch ingevuld? (Olympia 1G (98) - Herentals 3G (91))
DESCRIPTION:Je hebt 36 uur na aanvang om een thuismatch op Badmintonvlaande
 ren in te vullen. Match info: Olympia 1G (98) - Herentals 3G (91) - Link: 
 https://www.badmintonvlaanderen.be/sport/teammatch.aspx?id=343A6D01-7373-4
 05B-9427-CB56B07F8CCD&match=451
DTSTART;TZID=Europe/Brussels:20220320T213000
DTEND;TZID=Europe/Brussels:20220320T213000
END:VEVENT
BEGIN:VEVENT
UID:343A6D01-7373-405B-9427-CB56B07F8CCD-10-428_awayreminder@175.badmintonn
 ers.net
DTSTAMP:20260420T055121Z
SUMMARY:Uitmatch bevestigd? (Spinshuttle 3G (100) - Olympia 1G (98))
DESCRIPTION:Je hebt 72 uur na aanvang om een uitmatch op Badmintonvlaandere
 n in te vullen. Match info: Spinshuttle 3G (100) - Olympia 1G (98) - Link:
  https://www.badmintonvlaanderen.be/sport/teammatch.aspx?id=343A6D01-7373-
 405B-9427-CB56B07F8CCD&match=428
DTSTART;TZID=Europe/Brussels:20210910T200000
DTEND;TZID=Europe/Brussels:20210910T200000
END:VEVENT
BEGIN:VEVENT
UID:343A6D01-7373-405B-9427-CB56B07F8CCD-10-430_awayreminder@175.badmintonn
 ers.net
DTSTAMP:20260420T055121Z
SUMMARY:Uitmatch bevestigd? (Herentals 3G (91) - Olympia 1G (98))
DESCRIPTION:Je hebt 72 uur na aanvang om een uitmatch op Badmintonvlaandere
 n in te vullen. Match info: Herentals 3G (91) - Olympia 1G (98) - Link: ht
 tps://www.badmintonvlaanderen.be/sport/teammatch.aspx?id=343A6D01-7373-405
 B-9427-CB56B07F8CCD&match=430
DTSTART;TZID=Europe/Brussels:20210919T210000
DTEND;TZID=Europe/Brussels:20210919T210000
END:VEVENT
BEGIN:VEVENT
UID:343A6D01-7373-405B-9427-CB56B07F8CCD-10-432_awayreminder@175.badmintonn
 ers.net
DTSTAMP:20260420T055121Z
SUMMARY:Uitmatch bevestigd? (Zoersel 2G (98) - Olympia 1G (98))
DESCRIPTION:Je hebt 72 uur na aanvang om een uitmatch op Badmintonvlaandere
 n in te vullen. Match info: Zoersel 2G (98) - Olympia 1G (98) - Link: http
 s://www.badmintonvlaanderen.be/sport/teammatch.aspx?id=343A6D01-7373-405B-
 9427-CB56B07F8CCD&match=432
DTSTART;TZID=Europe/Brussels:20211117T120000
DTEND;TZID=Europe/Brussels:20211117T120000
END:VEVENT
BEGIN:VEVENT
UID:343A6D01-7373-405B-9427-CB56B07F8CCD-10-427_awayreminder@175.badmintonn
 ers.net
DTSTAMP:20260420T055121Z
SUMMARY:Uitmatch bevestigd? (Noorderwijkse 2G (87) - Olympia 1G (98))
DESCRIPTION:Je hebt 72 uur na aanvang om een uitmatch op Badmintonvlaandere
 n in te vullen. Match info: Noorderwijkse 2G (87) - Olympia 1G (98) - Link
 : https://www.badmintonvlaanderen.be/sport/teammatch.aspx?id=343A6D01-7373
 -405B-9427-CB56B07F8CCD&match=427
DTSTART;TZID=Europe/Brussels:20220122T200000
DTEND;TZID=Europe/Brussels:20220122T200000
END:VEVENT
BEGIN:VEVENT
UID:343A6D01-7373-405B-9427-CB56B07F8CCD-10-431_awayreminder@175.badmintonn
 ers.net
DTSTAMP:20260420T055121Z
SUMMARY:Uitmatch bevestigd? (Klein Boom 3G (86) - Olympia 1G (98))
DESCRIPTION:Je hebt 72 uur na aanvang om een uitmatch op Badmintonvlaandere
 n in te vullen. Match info: Klein Boom 3G (86) - Olympia 1G (98) - Link: h
 ttps://www.badmintonvlaanderen.be/sport/teammatch.aspx?id=343A6D01-7373-40
 5B-9427-CB56B07F8CCD&match=431
DTSTART;TZID=Europe/Brussels:20220209T190000
DTEND;TZID=Europe/Brussels:20220209T190000
END:VEVENT
BEGIN:VEVENT
UID:343A6D01-7373-405B-9427-CB56B07F8CCD-10-429_awayreminder@175.badmintonn
 ers.net
DTSTAMP:20260420T055121Z
SUMMARY:Uitmatch bevestigd? (Rijkerack 3G (91) - Olympia 1G (98))
DESCRIPTION:Je hebt 72 uur na aanvang om een uitmatch op Badmintonvlaandere
 n in te vullen. Match info: Rijkerack 3G (91) - Olympia 1G (98) - Link: ht
 tps://www.badmintonvlaanderen.be/sport/teammatch.aspx?id=343A6D01-7373-405
 B-9427-CB56B07F8CCD&match=429
DTSTART;TZID=Europe/Brussels:20220406T190000
DTEND;TZID=Europe/Brussels:20220406T190000
END:VEVENT
END:VCALENDAR