BEGIN:VCALENDAR
VERSION:2.0
PRODID:spatie/icalendar-generator
NAME:noorderwijkse_2g_87_reminders
X-WR-CALNAME:noorderwijkse_2g_87_reminders
BEGIN:VTIMEZONE
TZID:Europe/Brussels
BEGIN:DAYLIGHT
DTSTART:20210328T010000
TZOFFSETFROM:+0100
TZOFFSETTO:+0200
END:DAYLIGHT
BEGIN:STANDARD
DTSTART:20211031T030000
TZOFFSETFROM:+0200
TZOFFSETTO:+0100
END:STANDARD
BEGIN:DAYLIGHT
DTSTART:20220327T010000
TZOFFSETFROM:+0100
TZOFFSETTO:+0200
END:DAYLIGHT
END:VTIMEZONE
BEGIN:VTIMEZONE
TZID:UTC
BEGIN:STANDARD
DTSTART:20250724T073346
TZOFFSETFROM:+0000
TZOFFSETTO:+0000
END:STANDARD
END:VTIMEZONE
BEGIN:VEVENT
UID:343A6D01-7373-405B-9427-CB56B07F8CCD-10-440_homereminder@179.badmintonn
 ers.net
DTSTAMP:20260420T073346Z
SUMMARY:Thuismatch ingevuld? (Noorderwijkse 2G (87) - Spinshuttle 3G (100))
DESCRIPTION:Je hebt 36 uur na aanvang om een thuismatch op Badmintonvlaande
 ren in te vullen. Match info: Noorderwijkse 2G (87) - Spinshuttle 3G (100)
  - Link: https://www.badmintonvlaanderen.be/sport/teammatch.aspx?id=343A6D
 01-7373-405B-9427-CB56B07F8CCD&match=440
DTSTART;TZID=Europe/Brussels:20211022T080000
DTEND;TZID=Europe/Brussels:20211022T080000
END:VEVENT
BEGIN:VEVENT
UID:343A6D01-7373-405B-9427-CB56B07F8CCD-10-452_homereminder@179.badmintonn
 ers.net
DTSTAMP:20260420T073346Z
SUMMARY:Thuismatch ingevuld? (Noorderwijkse 2G (87) - Herentals 3G (91))
DESCRIPTION:Je hebt 36 uur na aanvang om een thuismatch op Badmintonvlaande
 ren in te vullen. Match info: Noorderwijkse 2G (87) - Herentals 3G (91) - 
 Link: https://www.badmintonvlaanderen.be/sport/teammatch.aspx?id=343A6D01-
 7373-405B-9427-CB56B07F8CCD&match=452
DTSTART;TZID=Europe/Brussels:20211112T080000
DTEND;TZID=Europe/Brussels:20211112T080000
END:VEVENT
BEGIN:VEVENT
UID:343A6D01-7373-405B-9427-CB56B07F8CCD-10-464_homereminder@179.badmintonn
 ers.net
DTSTAMP:20260420T073346Z
SUMMARY:Thuismatch ingevuld? (Noorderwijkse 2G (87) - Zoersel 2G (98))
DESCRIPTION:Je hebt 36 uur na aanvang om een thuismatch op Badmintonvlaande
 ren in te vullen. Match info: Noorderwijkse 2G (87) - Zoersel 2G (98) - Li
 nk: https://www.badmintonvlaanderen.be/sport/teammatch.aspx?id=343A6D01-73
 73-405B-9427-CB56B07F8CCD&match=464
DTSTART;TZID=Europe/Brussels:20211126T080000
DTEND;TZID=Europe/Brussels:20211126T080000
END:VEVENT
BEGIN:VEVENT
UID:343A6D01-7373-405B-9427-CB56B07F8CCD-10-427_homereminder@179.badmintonn
 ers.net
DTSTAMP:20260420T073346Z
SUMMARY:Thuismatch ingevuld? (Noorderwijkse 2G (87) - Olympia 1G (98))
DESCRIPTION:Je hebt 36 uur na aanvang om een thuismatch op Badmintonvlaande
 ren in te vullen. Match info: Noorderwijkse 2G (87) - Olympia 1G (98) - Li
 nk: https://www.badmintonvlaanderen.be/sport/teammatch.aspx?id=343A6D01-73
 73-405B-9427-CB56B07F8CCD&match=427
DTSTART;TZID=Europe/Brussels:20220121T080000
DTEND;TZID=Europe/Brussels:20220121T080000
END:VEVENT
BEGIN:VEVENT
UID:343A6D01-7373-405B-9427-CB56B07F8CCD-10-446_homereminder@179.badmintonn
 ers.net
DTSTAMP:20260420T073346Z
SUMMARY:Thuismatch ingevuld? (Noorderwijkse 2G (87) - Rijkerack 3G (91))
DESCRIPTION:Je hebt 36 uur na aanvang om een thuismatch op Badmintonvlaande
 ren in te vullen. Match info: Noorderwijkse 2G (87) - Rijkerack 3G (91) - 
 Link: https://www.badmintonvlaanderen.be/sport/teammatch.aspx?id=343A6D01-
 7373-405B-9427-CB56B07F8CCD&match=446
DTSTART;TZID=Europe/Brussels:20220311T080000
DTEND;TZID=Europe/Brussels:20220311T080000
END:VEVENT
BEGIN:VEVENT
UID:343A6D01-7373-405B-9427-CB56B07F8CCD-10-458_homereminder@179.badmintonn
 ers.net
DTSTAMP:20260420T073346Z
SUMMARY:Thuismatch ingevuld? (Noorderwijkse 2G (87) - Klein Boom 3G (86))
DESCRIPTION:Je hebt 36 uur na aanvang om een thuismatch op Badmintonvlaande
 ren in te vullen. Match info: Noorderwijkse 2G (87) - Klein Boom 3G (86) -
  Link: https://www.badmintonvlaanderen.be/sport/teammatch.aspx?id=343A6D01
 -7373-405B-9427-CB56B07F8CCD&match=458
DTSTART;TZID=Europe/Brussels:20220422T080000
DTEND;TZID=Europe/Brussels:20220422T080000
END:VEVENT
BEGIN:VEVENT
UID:343A6D01-7373-405B-9427-CB56B07F8CCD-10-433_awayreminder@179.badmintonn
 ers.net
DTSTAMP:20260420T073346Z
SUMMARY:Uitmatch bevestigd? (Olympia 1G (98) - Noorderwijkse 2G (87))
DESCRIPTION:Je hebt 72 uur na aanvang om een uitmatch op Badmintonvlaandere
 n in te vullen. Match info: Olympia 1G (98) - Noorderwijkse 2G (87) - Link
 : https://www.badmintonvlaanderen.be/sport/teammatch.aspx?id=343A6D01-7373
 -405B-9427-CB56B07F8CCD&match=433
DTSTART;TZID=Europe/Brussels:20211012T093000
DTEND;TZID=Europe/Brussels:20211012T093000
END:VEVENT
BEGIN:VEVENT
UID:343A6D01-7373-405B-9427-CB56B07F8CCD-10-437_awayreminder@179.badmintonn
 ers.net
DTSTAMP:20260420T073346Z
SUMMARY:Uitmatch bevestigd? (Klein Boom 3G (86) - Noorderwijkse 2G (87))
DESCRIPTION:Je hebt 72 uur na aanvang om een uitmatch op Badmintonvlaandere
 n in te vullen. Match info: Klein Boom 3G (86) - Noorderwijkse 2G (87) - L
 ink: https://www.badmintonvlaanderen.be/sport/teammatch.aspx?id=343A6D01-7
 373-405B-9427-CB56B07F8CCD&match=437
DTSTART;TZID=Europe/Brussels:20211117T190000
DTEND;TZID=Europe/Brussels:20211117T190000
END:VEVENT
BEGIN:VEVENT
UID:343A6D01-7373-405B-9427-CB56B07F8CCD-10-435_awayreminder@179.badmintonn
 ers.net
DTSTAMP:20260420T073346Z
SUMMARY:Uitmatch bevestigd? (Rijkerack 3G (91) - Noorderwijkse 2G (87))
DESCRIPTION:Je hebt 72 uur na aanvang om een uitmatch op Badmintonvlaandere
 n in te vullen. Match info: Rijkerack 3G (91) - Noorderwijkse 2G (87) - Li
 nk: https://www.badmintonvlaanderen.be/sport/teammatch.aspx?id=343A6D01-73
 73-405B-9427-CB56B07F8CCD&match=435
DTSTART;TZID=Europe/Brussels:20211201T190000
DTEND;TZID=Europe/Brussels:20211201T190000
END:VEVENT
BEGIN:VEVENT
UID:343A6D01-7373-405B-9427-CB56B07F8CCD-10-436_awayreminder@179.badmintonn
 ers.net
DTSTAMP:20260420T073346Z
SUMMARY:Uitmatch bevestigd? (Herentals 3G (91) - Noorderwijkse 2G (87))
DESCRIPTION:Je hebt 72 uur na aanvang om een uitmatch op Badmintonvlaandere
 n in te vullen. Match info: Herentals 3G (91) - Noorderwijkse 2G (87) - Li
 nk: https://www.badmintonvlaanderen.be/sport/teammatch.aspx?id=343A6D01-73
 73-405B-9427-CB56B07F8CCD&match=436
DTSTART;TZID=Europe/Brussels:20220206T210000
DTEND;TZID=Europe/Brussels:20220206T210000
END:VEVENT
BEGIN:VEVENT
UID:343A6D01-7373-405B-9427-CB56B07F8CCD-10-438_awayreminder@179.badmintonn
 ers.net
DTSTAMP:20260420T073346Z
SUMMARY:Uitmatch bevestigd? (Zoersel 2G (98) - Noorderwijkse 2G (87))
DESCRIPTION:Je hebt 72 uur na aanvang om een uitmatch op Badmintonvlaandere
 n in te vullen. Match info: Zoersel 2G (98) - Noorderwijkse 2G (87) - Link
 : https://www.badmintonvlaanderen.be/sport/teammatch.aspx?id=343A6D01-7373
 -405B-9427-CB56B07F8CCD&match=438
DTSTART;TZID=Europe/Brussels:20220309T120000
DTEND;TZID=Europe/Brussels:20220309T120000
END:VEVENT
BEGIN:VEVENT
UID:343A6D01-7373-405B-9427-CB56B07F8CCD-10-434_awayreminder@179.badmintonn
 ers.net
DTSTAMP:20260420T073346Z
SUMMARY:Uitmatch bevestigd? (Spinshuttle 3G (100) - Noorderwijkse 2G (87))
DESCRIPTION:Je hebt 72 uur na aanvang om een uitmatch op Badmintonvlaandere
 n in te vullen. Match info: Spinshuttle 3G (100) - Noorderwijkse 2G (87) -
  Link: https://www.badmintonvlaanderen.be/sport/teammatch.aspx?id=343A6D01
 -7373-405B-9427-CB56B07F8CCD&match=434
DTSTART;TZID=Europe/Brussels:20220401T200000
DTEND;TZID=Europe/Brussels:20220401T200000
END:VEVENT
END:VCALENDAR