BEGIN:VCALENDAR
VERSION:2.0
PRODID:spatie/icalendar-generator
NAME:spinshuttle_3g_100_reminders
X-WR-CALNAME:spinshuttle_3g_100_reminders
BEGIN:VTIMEZONE
TZID:Europe/Brussels
BEGIN:DAYLIGHT
DTSTART:20210328T010000
TZOFFSETFROM:+0100
TZOFFSETTO:+0200
END:DAYLIGHT
BEGIN:STANDARD
DTSTART:20211031T030000
TZOFFSETFROM:+0200
TZOFFSETTO:+0100
END:STANDARD
BEGIN:DAYLIGHT
DTSTART:20220327T010000
TZOFFSETFROM:+0100
TZOFFSETTO:+0200
END:DAYLIGHT
END:VTIMEZONE
BEGIN:VTIMEZONE
TZID:UTC
BEGIN:STANDARD
DTSTART:20250724T055142
TZOFFSETFROM:+0000
TZOFFSETTO:+0000
END:STANDARD
END:VTIMEZONE
BEGIN:VEVENT
UID:343A6D01-7373-405B-9427-CB56B07F8CCD-10-428_homereminder@208.badmintonn
 ers.net
DTSTAMP:20260420T055142Z
SUMMARY:Thuismatch ingevuld? (Spinshuttle 3G (100) - Olympia 1G (98))
DESCRIPTION:Je hebt 36 uur na aanvang om een thuismatch op Badmintonvlaande
 ren in te vullen. Match info: Spinshuttle 3G (100) - Olympia 1G (98) - Lin
 k: https://www.badmintonvlaanderen.be/sport/teammatch.aspx?id=343A6D01-737
 3-405B-9427-CB56B07F8CCD&match=428
DTSTART;TZID=Europe/Brussels:20210909T080000
DTEND;TZID=Europe/Brussels:20210909T080000
END:VEVENT
BEGIN:VEVENT
UID:343A6D01-7373-405B-9427-CB56B07F8CCD-10-447_homereminder@208.badmintonn
 ers.net
DTSTAMP:20260420T055142Z
SUMMARY:Thuismatch ingevuld? (Spinshuttle 3G (100) - Rijkerack 3G (91))
DESCRIPTION:Je hebt 36 uur na aanvang om een thuismatch op Badmintonvlaande
 ren in te vullen. Match info: Spinshuttle 3G (100) - Rijkerack 3G (91) - L
 ink: https://www.badmintonvlaanderen.be/sport/teammatch.aspx?id=343A6D01-7
 373-405B-9427-CB56B07F8CCD&match=447
DTSTART;TZID=Europe/Brussels:20211111T080000
DTEND;TZID=Europe/Brussels:20211111T080000
END:VEVENT
BEGIN:VEVENT
UID:343A6D01-7373-405B-9427-CB56B07F8CCD-10-459_homereminder@208.badmintonn
 ers.net
DTSTAMP:20260420T055142Z
SUMMARY:Thuismatch ingevuld? (Spinshuttle 3G (100) - Klein Boom 3G (86))
DESCRIPTION:Je hebt 36 uur na aanvang om een thuismatch op Badmintonvlaande
 ren in te vullen. Match info: Spinshuttle 3G (100) - Klein Boom 3G (86) - 
 Link: https://www.badmintonvlaanderen.be/sport/teammatch.aspx?id=343A6D01-
 7373-405B-9427-CB56B07F8CCD&match=459
DTSTART;TZID=Europe/Brussels:20211125T080000
DTEND;TZID=Europe/Brussels:20211125T080000
END:VEVENT
BEGIN:VEVENT
UID:343A6D01-7373-405B-9427-CB56B07F8CCD-10-465_homereminder@208.badmintonn
 ers.net
DTSTAMP:20260420T055142Z
SUMMARY:Thuismatch ingevuld? (Spinshuttle 3G (100) - Zoersel 2G (98))
DESCRIPTION:Je hebt 36 uur na aanvang om een thuismatch op Badmintonvlaande
 ren in te vullen. Match info: Spinshuttle 3G (100) - Zoersel 2G (98) - Lin
 k: https://www.badmintonvlaanderen.be/sport/teammatch.aspx?id=343A6D01-737
 3-405B-9427-CB56B07F8CCD&match=465
DTSTART;TZID=Europe/Brussels:20220120T080000
DTEND;TZID=Europe/Brussels:20220120T080000
END:VEVENT
BEGIN:VEVENT
UID:343A6D01-7373-405B-9427-CB56B07F8CCD-10-453_homereminder@208.badmintonn
 ers.net
DTSTAMP:20260420T055142Z
SUMMARY:Thuismatch ingevuld? (Spinshuttle 3G (100) - Herentals 3G (91))
DESCRIPTION:Je hebt 36 uur na aanvang om een thuismatch op Badmintonvlaande
 ren in te vullen. Match info: Spinshuttle 3G (100) - Herentals 3G (91) - L
 ink: https://www.badmintonvlaanderen.be/sport/teammatch.aspx?id=343A6D01-7
 373-405B-9427-CB56B07F8CCD&match=453
DTSTART;TZID=Europe/Brussels:20220217T080000
DTEND;TZID=Europe/Brussels:20220217T080000
END:VEVENT
BEGIN:VEVENT
UID:343A6D01-7373-405B-9427-CB56B07F8CCD-10-434_homereminder@208.badmintonn
 ers.net
DTSTAMP:20260420T055142Z
SUMMARY:Thuismatch ingevuld? (Spinshuttle 3G (100) - Noorderwijkse 2G (87))
DESCRIPTION:Je hebt 36 uur na aanvang om een thuismatch op Badmintonvlaande
 ren in te vullen. Match info: Spinshuttle 3G (100) - Noorderwijkse 2G (87)
  - Link: https://www.badmintonvlaanderen.be/sport/teammatch.aspx?id=343A6D
 01-7373-405B-9427-CB56B07F8CCD&match=434
DTSTART;TZID=Europe/Brussels:20220331T080000
DTEND;TZID=Europe/Brussels:20220331T080000
END:VEVENT
BEGIN:VEVENT
UID:343A6D01-7373-405B-9427-CB56B07F8CCD-10-442_awayreminder@208.badmintonn
 ers.net
DTSTAMP:20260420T055142Z
SUMMARY:Uitmatch bevestigd? (Herentals 3G (91) - Spinshuttle 3G (100))
DESCRIPTION:Je hebt 72 uur na aanvang om een uitmatch op Badmintonvlaandere
 n in te vullen. Match info: Herentals 3G (91) - Spinshuttle 3G (100) - Lin
 k: https://www.badmintonvlaanderen.be/sport/teammatch.aspx?id=343A6D01-737
 3-405B-9427-CB56B07F8CCD&match=442
DTSTART;TZID=Europe/Brussels:20211003T210000
DTEND;TZID=Europe/Brussels:20211003T210000
END:VEVENT
BEGIN:VEVENT
UID:343A6D01-7373-405B-9427-CB56B07F8CCD-10-440_awayreminder@208.badmintonn
 ers.net
DTSTAMP:20260420T055142Z
SUMMARY:Uitmatch bevestigd? (Noorderwijkse 2G (87) - Spinshuttle 3G (100))
DESCRIPTION:Je hebt 72 uur na aanvang om een uitmatch op Badmintonvlaandere
 n in te vullen. Match info: Noorderwijkse 2G (87) - Spinshuttle 3G (100) -
  Link: https://www.badmintonvlaanderen.be/sport/teammatch.aspx?id=343A6D01
 -7373-405B-9427-CB56B07F8CCD&match=440
DTSTART;TZID=Europe/Brussels:20211023T200000
DTEND;TZID=Europe/Brussels:20211023T200000
END:VEVENT
BEGIN:VEVENT
UID:343A6D01-7373-405B-9427-CB56B07F8CCD-10-444_awayreminder@208.badmintonn
 ers.net
DTSTAMP:20260420T055142Z
SUMMARY:Uitmatch bevestigd? (Zoersel 2G (98) - Spinshuttle 3G (100))
DESCRIPTION:Je hebt 72 uur na aanvang om een uitmatch op Badmintonvlaandere
 n in te vullen. Match info: Zoersel 2G (98) - Spinshuttle 3G (100) - Link:
  https://www.badmintonvlaanderen.be/sport/teammatch.aspx?id=343A6D01-7373-
 405B-9427-CB56B07F8CCD&match=444
DTSTART;TZID=Europe/Brussels:20211215T120000
DTEND;TZID=Europe/Brussels:20211215T120000
END:VEVENT
BEGIN:VEVENT
UID:343A6D01-7373-405B-9427-CB56B07F8CCD-10-439_awayreminder@208.badmintonn
 ers.net
DTSTAMP:20260420T055142Z
SUMMARY:Uitmatch bevestigd? (Olympia 1G (98) - Spinshuttle 3G (100))
DESCRIPTION:Je hebt 72 uur na aanvang om een uitmatch op Badmintonvlaandere
 n in te vullen. Match info: Olympia 1G (98) - Spinshuttle 3G (100) - Link:
  https://www.badmintonvlaanderen.be/sport/teammatch.aspx?id=343A6D01-7373-
 405B-9427-CB56B07F8CCD&match=439
DTSTART;TZID=Europe/Brussels:20220111T093000
DTEND;TZID=Europe/Brussels:20220111T093000
END:VEVENT
BEGIN:VEVENT
UID:343A6D01-7373-405B-9427-CB56B07F8CCD-10-443_awayreminder@208.badmintonn
 ers.net
DTSTAMP:20260420T055142Z
SUMMARY:Uitmatch bevestigd? (Klein Boom 3G (86) - Spinshuttle 3G (100))
DESCRIPTION:Je hebt 72 uur na aanvang om een uitmatch op Badmintonvlaandere
 n in te vullen. Match info: Klein Boom 3G (86) - Spinshuttle 3G (100) - Li
 nk: https://www.badmintonvlaanderen.be/sport/teammatch.aspx?id=343A6D01-73
 73-405B-9427-CB56B07F8CCD&match=443
DTSTART;TZID=Europe/Brussels:20220309T190000
DTEND;TZID=Europe/Brussels:20220309T190000
END:VEVENT
BEGIN:VEVENT
UID:343A6D01-7373-405B-9427-CB56B07F8CCD-10-441_awayreminder@208.badmintonn
 ers.net
DTSTAMP:20260420T055142Z
SUMMARY:Uitmatch bevestigd? (Rijkerack 3G (91) - Spinshuttle 3G (100))
DESCRIPTION:Je hebt 72 uur na aanvang om een uitmatch op Badmintonvlaandere
 n in te vullen. Match info: Rijkerack 3G (91) - Spinshuttle 3G (100) - Lin
 k: https://www.badmintonvlaanderen.be/sport/teammatch.aspx?id=343A6D01-737
 3-405B-9427-CB56B07F8CCD&match=441
DTSTART;TZID=Europe/Brussels:20220323T190000
DTEND;TZID=Europe/Brussels:20220323T190000
END:VEVENT
END:VCALENDAR