BEGIN:VCALENDAR
VERSION:2.0
PRODID:spatie/icalendar-generator
NAME:rijkerack_3g_91_reminders
X-WR-CALNAME:rijkerack_3g_91_reminders
BEGIN:VTIMEZONE
TZID:Europe/Brussels
BEGIN:DAYLIGHT
DTSTART:20210328T010000
TZOFFSETFROM:+0100
TZOFFSETTO:+0200
END:DAYLIGHT
BEGIN:STANDARD
DTSTART:20211031T030000
TZOFFSETFROM:+0200
TZOFFSETTO:+0100
END:STANDARD
BEGIN:DAYLIGHT
DTSTART:20220327T010000
TZOFFSETFROM:+0100
TZOFFSETTO:+0200
END:DAYLIGHT
END:VTIMEZONE
BEGIN:VTIMEZONE
TZID:UTC
BEGIN:STANDARD
DTSTART:20250724T070614
TZOFFSETFROM:+0000
TZOFFSETTO:+0000
END:STANDARD
END:VTIMEZONE
BEGIN:VEVENT
UID:343A6D01-7373-405B-9427-CB56B07F8CCD-10-466_homereminder@21.badmintonne
 rs.net
DTSTAMP:20260420T070614Z
SUMMARY:Thuismatch ingevuld? (Rijkerack 3G (91) - Zoersel 2G (98))
DESCRIPTION:Je hebt 36 uur na aanvang om een thuismatch op Badmintonvlaande
 ren in te vullen. Match info: Rijkerack 3G (91) - Zoersel 2G (98) - Link: 
 https://www.badmintonvlaanderen.be/sport/teammatch.aspx?id=343A6D01-7373-4
 05B-9427-CB56B07F8CCD&match=466
DTSTART;TZID=Europe/Brussels:20211019T070000
DTEND;TZID=Europe/Brussels:20211019T070000
END:VEVENT
BEGIN:VEVENT
UID:343A6D01-7373-405B-9427-CB56B07F8CCD-10-454_homereminder@21.badmintonne
 rs.net
DTSTAMP:20260420T070614Z
SUMMARY:Thuismatch ingevuld? (Rijkerack 3G (91) - Herentals 3G (91))
DESCRIPTION:Je hebt 36 uur na aanvang om een thuismatch op Badmintonvlaande
 ren in te vullen. Match info: Rijkerack 3G (91) - Herentals 3G (91) - Link
 : https://www.badmintonvlaanderen.be/sport/teammatch.aspx?id=343A6D01-7373
 -405B-9427-CB56B07F8CCD&match=454
DTSTART;TZID=Europe/Brussels:20211116T070000
DTEND;TZID=Europe/Brussels:20211116T070000
END:VEVENT
BEGIN:VEVENT
UID:343A6D01-7373-405B-9427-CB56B07F8CCD-10-435_homereminder@21.badmintonne
 rs.net
DTSTAMP:20260420T070614Z
SUMMARY:Thuismatch ingevuld? (Rijkerack 3G (91) - Noorderwijkse 2G (87))
DESCRIPTION:Je hebt 36 uur na aanvang om een thuismatch op Badmintonvlaande
 ren in te vullen. Match info: Rijkerack 3G (91) - Noorderwijkse 2G (87) - 
 Link: https://www.badmintonvlaanderen.be/sport/teammatch.aspx?id=343A6D01-
 7373-405B-9427-CB56B07F8CCD&match=435
DTSTART;TZID=Europe/Brussels:20211130T070000
DTEND;TZID=Europe/Brussels:20211130T070000
END:VEVENT
BEGIN:VEVENT
UID:343A6D01-7373-405B-9427-CB56B07F8CCD-10-460_homereminder@21.badmintonne
 rs.net
DTSTAMP:20260420T070614Z
SUMMARY:Thuismatch ingevuld? (Rijkerack 3G (91) - Klein Boom 3G (86))
DESCRIPTION:Je hebt 36 uur na aanvang om een thuismatch op Badmintonvlaande
 ren in te vullen. Match info: Rijkerack 3G (91) - Klein Boom 3G (86) - Lin
 k: https://www.badmintonvlaanderen.be/sport/teammatch.aspx?id=343A6D01-737
 3-405B-9427-CB56B07F8CCD&match=460
DTSTART;TZID=Europe/Brussels:20220125T070000
DTEND;TZID=Europe/Brussels:20220125T070000
END:VEVENT
BEGIN:VEVENT
UID:343A6D01-7373-405B-9427-CB56B07F8CCD-10-441_homereminder@21.badmintonne
 rs.net
DTSTAMP:20260420T070614Z
SUMMARY:Thuismatch ingevuld? (Rijkerack 3G (91) - Spinshuttle 3G (100))
DESCRIPTION:Je hebt 36 uur na aanvang om een thuismatch op Badmintonvlaande
 ren in te vullen. Match info: Rijkerack 3G (91) - Spinshuttle 3G (100) - L
 ink: https://www.badmintonvlaanderen.be/sport/teammatch.aspx?id=343A6D01-7
 373-405B-9427-CB56B07F8CCD&match=441
DTSTART;TZID=Europe/Brussels:20220322T070000
DTEND;TZID=Europe/Brussels:20220322T070000
END:VEVENT
BEGIN:VEVENT
UID:343A6D01-7373-405B-9427-CB56B07F8CCD-10-429_homereminder@21.badmintonne
 rs.net
DTSTAMP:20260420T070614Z
SUMMARY:Thuismatch ingevuld? (Rijkerack 3G (91) - Olympia 1G (98))
DESCRIPTION:Je hebt 36 uur na aanvang om een thuismatch op Badmintonvlaande
 ren in te vullen. Match info: Rijkerack 3G (91) - Olympia 1G (98) - Link: 
 https://www.badmintonvlaanderen.be/sport/teammatch.aspx?id=343A6D01-7373-4
 05B-9427-CB56B07F8CCD&match=429
DTSTART;TZID=Europe/Brussels:20220405T070000
DTEND;TZID=Europe/Brussels:20220405T070000
END:VEVENT
BEGIN:VEVENT
UID:343A6D01-7373-405B-9427-CB56B07F8CCD-10-449_awayreminder@21.badmintonne
 rs.net
DTSTAMP:20260420T070614Z
SUMMARY:Uitmatch bevestigd? (Klein Boom 3G (86) - Rijkerack 3G (91))
DESCRIPTION:Je hebt 72 uur na aanvang om een uitmatch op Badmintonvlaandere
 n in te vullen. Match info: Klein Boom 3G (86) - Rijkerack 3G (91) - Link:
  https://www.badmintonvlaanderen.be/sport/teammatch.aspx?id=343A6D01-7373-
 405B-9427-CB56B07F8CCD&match=449
DTSTART;TZID=Europe/Brussels:20211006T190000
DTEND;TZID=Europe/Brussels:20211006T190000
END:VEVENT
BEGIN:VEVENT
UID:343A6D01-7373-405B-9427-CB56B07F8CCD-10-447_awayreminder@21.badmintonne
 rs.net
DTSTAMP:20260420T070614Z
SUMMARY:Uitmatch bevestigd? (Spinshuttle 3G (100) - Rijkerack 3G (91))
DESCRIPTION:Je hebt 72 uur na aanvang om een uitmatch op Badmintonvlaandere
 n in te vullen. Match info: Spinshuttle 3G (100) - Rijkerack 3G (91) - Lin
 k: https://www.badmintonvlaanderen.be/sport/teammatch.aspx?id=343A6D01-737
 3-405B-9427-CB56B07F8CCD&match=447
DTSTART;TZID=Europe/Brussels:20211112T200000
DTEND;TZID=Europe/Brussels:20211112T200000
END:VEVENT
BEGIN:VEVENT
UID:343A6D01-7373-405B-9427-CB56B07F8CCD-10-445_awayreminder@21.badmintonne
 rs.net
DTSTAMP:20260420T070614Z
SUMMARY:Uitmatch bevestigd? (Olympia 1G (98) - Rijkerack 3G (91))
DESCRIPTION:Je hebt 72 uur na aanvang om een uitmatch op Badmintonvlaandere
 n in te vullen. Match info: Olympia 1G (98) - Rijkerack 3G (91) - Link: ht
 tps://www.badmintonvlaanderen.be/sport/teammatch.aspx?id=343A6D01-7373-405
 B-9427-CB56B07F8CCD&match=445
DTSTART;TZID=Europe/Brussels:20211207T093000
DTEND;TZID=Europe/Brussels:20211207T093000
END:VEVENT
BEGIN:VEVENT
UID:343A6D01-7373-405B-9427-CB56B07F8CCD-10-450_awayreminder@21.badmintonne
 rs.net
DTSTAMP:20260420T070614Z
SUMMARY:Uitmatch bevestigd? (Zoersel 2G (98) - Rijkerack 3G (91))
DESCRIPTION:Je hebt 72 uur na aanvang om een uitmatch op Badmintonvlaandere
 n in te vullen. Match info: Zoersel 2G (98) - Rijkerack 3G (91) - Link: ht
 tps://www.badmintonvlaanderen.be/sport/teammatch.aspx?id=343A6D01-7373-405
 B-9427-CB56B07F8CCD&match=450
DTSTART;TZID=Europe/Brussels:20220223T120000
DTEND;TZID=Europe/Brussels:20220223T120000
END:VEVENT
BEGIN:VEVENT
UID:343A6D01-7373-405B-9427-CB56B07F8CCD-10-448_awayreminder@21.badmintonne
 rs.net
DTSTAMP:20260420T070614Z
SUMMARY:Uitmatch bevestigd? (Herentals 3G (91) - Rijkerack 3G (91))
DESCRIPTION:Je hebt 72 uur na aanvang om een uitmatch op Badmintonvlaandere
 n in te vullen. Match info: Herentals 3G (91) - Rijkerack 3G (91) - Link: 
 https://www.badmintonvlaanderen.be/sport/teammatch.aspx?id=343A6D01-7373-4
 05B-9427-CB56B07F8CCD&match=448
DTSTART;TZID=Europe/Brussels:20220306T210000
DTEND;TZID=Europe/Brussels:20220306T210000
END:VEVENT
BEGIN:VEVENT
UID:343A6D01-7373-405B-9427-CB56B07F8CCD-10-446_awayreminder@21.badmintonne
 rs.net
DTSTAMP:20260420T070614Z
SUMMARY:Uitmatch bevestigd? (Noorderwijkse 2G (87) - Rijkerack 3G (91))
DESCRIPTION:Je hebt 72 uur na aanvang om een uitmatch op Badmintonvlaandere
 n in te vullen. Match info: Noorderwijkse 2G (87) - Rijkerack 3G (91) - Li
 nk: https://www.badmintonvlaanderen.be/sport/teammatch.aspx?id=343A6D01-73
 73-405B-9427-CB56B07F8CCD&match=446
DTSTART;TZID=Europe/Brussels:20220312T200000
DTEND;TZID=Europe/Brussels:20220312T200000
END:VEVENT
END:VCALENDAR