BEGIN:VCALENDAR
VERSION:2.0
PRODID:spatie/icalendar-generator
NAME:herentals_3g_91_reminders
X-WR-CALNAME:herentals_3g_91_reminders
BEGIN:VTIMEZONE
TZID:Europe/Brussels
BEGIN:DAYLIGHT
DTSTART:20210328T010000
TZOFFSETFROM:+0100
TZOFFSETTO:+0200
END:DAYLIGHT
BEGIN:STANDARD
DTSTART:20211031T030000
TZOFFSETFROM:+0200
TZOFFSETTO:+0100
END:STANDARD
BEGIN:DAYLIGHT
DTSTART:20220327T010000
TZOFFSETFROM:+0100
TZOFFSETTO:+0200
END:DAYLIGHT
END:VTIMEZONE
BEGIN:VTIMEZONE
TZID:UTC
BEGIN:STANDARD
DTSTART:20250724T055148
TZOFFSETFROM:+0000
TZOFFSETTO:+0000
END:STANDARD
END:VTIMEZONE
BEGIN:VEVENT
UID:343A6D01-7373-405B-9427-CB56B07F8CCD-10-430_homereminder@69.badmintonne
 rs.net
DTSTAMP:20260420T055148Z
SUMMARY:Thuismatch ingevuld? (Herentals 3G (91) - Olympia 1G (98))
DESCRIPTION:Je hebt 36 uur na aanvang om een thuismatch op Badmintonvlaande
 ren in te vullen. Match info: Herentals 3G (91) - Olympia 1G (98) - Link: 
 https://www.badmintonvlaanderen.be/sport/teammatch.aspx?id=343A6D01-7373-4
 05B-9427-CB56B07F8CCD&match=430
DTSTART;TZID=Europe/Brussels:20210918T090000
DTEND;TZID=Europe/Brussels:20210918T090000
END:VEVENT
BEGIN:VEVENT
UID:343A6D01-7373-405B-9427-CB56B07F8CCD-10-442_homereminder@69.badmintonne
 rs.net
DTSTAMP:20260420T055148Z
SUMMARY:Thuismatch ingevuld? (Herentals 3G (91) - Spinshuttle 3G (100))
DESCRIPTION:Je hebt 36 uur na aanvang om een thuismatch op Badmintonvlaande
 ren in te vullen. Match info: Herentals 3G (91) - Spinshuttle 3G (100) - L
 ink: https://www.badmintonvlaanderen.be/sport/teammatch.aspx?id=343A6D01-7
 373-405B-9427-CB56B07F8CCD&match=442
DTSTART;TZID=Europe/Brussels:20211002T090000
DTEND;TZID=Europe/Brussels:20211002T090000
END:VEVENT
BEGIN:VEVENT
UID:343A6D01-7373-405B-9427-CB56B07F8CCD-10-461_homereminder@69.badmintonne
 rs.net
DTSTAMP:20260420T055148Z
SUMMARY:Thuismatch ingevuld? (Herentals 3G (91) - Klein Boom 3G (86))
DESCRIPTION:Je hebt 36 uur na aanvang om een thuismatch op Badmintonvlaande
 ren in te vullen. Match info: Herentals 3G (91) - Klein Boom 3G (86) - Lin
 k: https://www.badmintonvlaanderen.be/sport/teammatch.aspx?id=343A6D01-737
 3-405B-9427-CB56B07F8CCD&match=461
DTSTART;TZID=Europe/Brussels:20211016T090000
DTEND;TZID=Europe/Brussels:20211016T090000
END:VEVENT
BEGIN:VEVENT
UID:343A6D01-7373-405B-9427-CB56B07F8CCD-10-436_homereminder@69.badmintonne
 rs.net
DTSTAMP:20260420T055148Z
SUMMARY:Thuismatch ingevuld? (Herentals 3G (91) - Noorderwijkse 2G (87))
DESCRIPTION:Je hebt 36 uur na aanvang om een thuismatch op Badmintonvlaande
 ren in te vullen. Match info: Herentals 3G (91) - Noorderwijkse 2G (87) - 
 Link: https://www.badmintonvlaanderen.be/sport/teammatch.aspx?id=343A6D01-
 7373-405B-9427-CB56B07F8CCD&match=436
DTSTART;TZID=Europe/Brussels:20220205T090000
DTEND;TZID=Europe/Brussels:20220205T090000
END:VEVENT
BEGIN:VEVENT
UID:343A6D01-7373-405B-9427-CB56B07F8CCD-10-448_homereminder@69.badmintonne
 rs.net
DTSTAMP:20260420T055148Z
SUMMARY:Thuismatch ingevuld? (Herentals 3G (91) - Rijkerack 3G (91))
DESCRIPTION:Je hebt 36 uur na aanvang om een thuismatch op Badmintonvlaande
 ren in te vullen. Match info: Herentals 3G (91) - Rijkerack 3G (91) - Link
 : https://www.badmintonvlaanderen.be/sport/teammatch.aspx?id=343A6D01-7373
 -405B-9427-CB56B07F8CCD&match=448
DTSTART;TZID=Europe/Brussels:20220305T090000
DTEND;TZID=Europe/Brussels:20220305T090000
END:VEVENT
BEGIN:VEVENT
UID:343A6D01-7373-405B-9427-CB56B07F8CCD-10-467_homereminder@69.badmintonne
 rs.net
DTSTAMP:20260420T055148Z
SUMMARY:Thuismatch ingevuld? (Herentals 3G (91) - Zoersel 2G (98))
DESCRIPTION:Je hebt 36 uur na aanvang om een thuismatch op Badmintonvlaande
 ren in te vullen. Match info: Herentals 3G (91) - Zoersel 2G (98) - Link: 
 https://www.badmintonvlaanderen.be/sport/teammatch.aspx?id=343A6D01-7373-4
 05B-9427-CB56B07F8CCD&match=467
DTSTART;TZID=Europe/Brussels:20220402T090000
DTEND;TZID=Europe/Brussels:20220402T090000
END:VEVENT
BEGIN:VEVENT
UID:343A6D01-7373-405B-9427-CB56B07F8CCD-10-456_awayreminder@69.badmintonne
 rs.net
DTSTAMP:20260420T055148Z
SUMMARY:Uitmatch bevestigd? (Zoersel 2G (98) - Herentals 3G (91))
DESCRIPTION:Je hebt 72 uur na aanvang om een uitmatch op Badmintonvlaandere
 n in te vullen. Match info: Zoersel 2G (98) - Herentals 3G (91) - Link: ht
 tps://www.badmintonvlaanderen.be/sport/teammatch.aspx?id=343A6D01-7373-405
 B-9427-CB56B07F8CCD&match=456
DTSTART;TZID=Europe/Brussels:20211103T120000
DTEND;TZID=Europe/Brussels:20211103T120000
END:VEVENT
BEGIN:VEVENT
UID:343A6D01-7373-405B-9427-CB56B07F8CCD-10-452_awayreminder@69.badmintonne
 rs.net
DTSTAMP:20260420T055148Z
SUMMARY:Uitmatch bevestigd? (Noorderwijkse 2G (87) - Herentals 3G (91))
DESCRIPTION:Je hebt 72 uur na aanvang om een uitmatch op Badmintonvlaandere
 n in te vullen. Match info: Noorderwijkse 2G (87) - Herentals 3G (91) - Li
 nk: https://www.badmintonvlaanderen.be/sport/teammatch.aspx?id=343A6D01-73
 73-405B-9427-CB56B07F8CCD&match=452
DTSTART;TZID=Europe/Brussels:20211113T200000
DTEND;TZID=Europe/Brussels:20211113T200000
END:VEVENT
BEGIN:VEVENT
UID:343A6D01-7373-405B-9427-CB56B07F8CCD-10-454_awayreminder@69.badmintonne
 rs.net
DTSTAMP:20260420T055148Z
SUMMARY:Uitmatch bevestigd? (Rijkerack 3G (91) - Herentals 3G (91))
DESCRIPTION:Je hebt 72 uur na aanvang om een uitmatch op Badmintonvlaandere
 n in te vullen. Match info: Rijkerack 3G (91) - Herentals 3G (91) - Link: 
 https://www.badmintonvlaanderen.be/sport/teammatch.aspx?id=343A6D01-7373-4
 05B-9427-CB56B07F8CCD&match=454
DTSTART;TZID=Europe/Brussels:20211117T190000
DTEND;TZID=Europe/Brussels:20211117T190000
END:VEVENT
BEGIN:VEVENT
UID:343A6D01-7373-405B-9427-CB56B07F8CCD-10-455_awayreminder@69.badmintonne
 rs.net
DTSTAMP:20260420T055148Z
SUMMARY:Uitmatch bevestigd? (Klein Boom 3G (86) - Herentals 3G (91))
DESCRIPTION:Je hebt 72 uur na aanvang om een uitmatch op Badmintonvlaandere
 n in te vullen. Match info: Klein Boom 3G (86) - Herentals 3G (91) - Link:
  https://www.badmintonvlaanderen.be/sport/teammatch.aspx?id=343A6D01-7373-
 405B-9427-CB56B07F8CCD&match=455
DTSTART;TZID=Europe/Brussels:20220119T190000
DTEND;TZID=Europe/Brussels:20220119T190000
END:VEVENT
BEGIN:VEVENT
UID:343A6D01-7373-405B-9427-CB56B07F8CCD-10-453_awayreminder@69.badmintonne
 rs.net
DTSTAMP:20260420T055148Z
SUMMARY:Uitmatch bevestigd? (Spinshuttle 3G (100) - Herentals 3G (91))
DESCRIPTION:Je hebt 72 uur na aanvang om een uitmatch op Badmintonvlaandere
 n in te vullen. Match info: Spinshuttle 3G (100) - Herentals 3G (91) - Lin
 k: https://www.badmintonvlaanderen.be/sport/teammatch.aspx?id=343A6D01-737
 3-405B-9427-CB56B07F8CCD&match=453
DTSTART;TZID=Europe/Brussels:20220218T200000
DTEND;TZID=Europe/Brussels:20220218T200000
END:VEVENT
BEGIN:VEVENT
UID:343A6D01-7373-405B-9427-CB56B07F8CCD-10-451_awayreminder@69.badmintonne
 rs.net
DTSTAMP:20260420T055148Z
SUMMARY:Uitmatch bevestigd? (Olympia 1G (98) - Herentals 3G (91))
DESCRIPTION:Je hebt 72 uur na aanvang om een uitmatch op Badmintonvlaandere
 n in te vullen. Match info: Olympia 1G (98) - Herentals 3G (91) - Link: ht
 tps://www.badmintonvlaanderen.be/sport/teammatch.aspx?id=343A6D01-7373-405
 B-9427-CB56B07F8CCD&match=451
DTSTART;TZID=Europe/Brussels:20220322T093000
DTEND;TZID=Europe/Brussels:20220322T093000
END:VEVENT
END:VCALENDAR