BEGIN:VCALENDAR
VERSION:2.0
PRODID:spatie/icalendar-generator
NAME:zoersel_2g_98_reminders
X-WR-CALNAME:zoersel_2g_98_reminders
BEGIN:VTIMEZONE
TZID:Europe/Brussels
BEGIN:DAYLIGHT
DTSTART:20210328T010000
TZOFFSETFROM:+0100
TZOFFSETTO:+0200
END:DAYLIGHT
BEGIN:STANDARD
DTSTART:20211031T030000
TZOFFSETFROM:+0200
TZOFFSETTO:+0100
END:STANDARD
BEGIN:DAYLIGHT
DTSTART:20220327T010000
TZOFFSETFROM:+0100
TZOFFSETTO:+0200
END:DAYLIGHT
END:VTIMEZONE
BEGIN:VTIMEZONE
TZID:UTC
BEGIN:STANDARD
DTSTART:20250724T055148
TZOFFSETFROM:+0000
TZOFFSETTO:+0000
END:STANDARD
END:VTIMEZONE
BEGIN:VEVENT
UID:343A6D01-7373-405B-9427-CB56B07F8CCD-10-456_homereminder@98.badmintonne
 rs.net
DTSTAMP:20260420T055148Z
SUMMARY:Thuismatch ingevuld? (Zoersel 2G (98) - Herentals 3G (91))
DESCRIPTION:Je hebt 36 uur na aanvang om een thuismatch op Badmintonvlaande
 ren in te vullen. Match info: Zoersel 2G (98) - Herentals 3G (91) - Link: 
 https://www.badmintonvlaanderen.be/sport/teammatch.aspx?id=343A6D01-7373-4
 05B-9427-CB56B07F8CCD&match=456
DTSTART;TZID=Europe/Brussels:20211102T000000
DTEND;TZID=Europe/Brussels:20211102T000000
END:VEVENT
BEGIN:VEVENT
UID:343A6D01-7373-405B-9427-CB56B07F8CCD-10-432_homereminder@98.badmintonne
 rs.net
DTSTAMP:20260420T055148Z
SUMMARY:Thuismatch ingevuld? (Zoersel 2G (98) - Olympia 1G (98))
DESCRIPTION:Je hebt 36 uur na aanvang om een thuismatch op Badmintonvlaande
 ren in te vullen. Match info: Zoersel 2G (98) - Olympia 1G (98) - Link: ht
 tps://www.badmintonvlaanderen.be/sport/teammatch.aspx?id=343A6D01-7373-405
 B-9427-CB56B07F8CCD&match=432
DTSTART;TZID=Europe/Brussels:20211116T000000
DTEND;TZID=Europe/Brussels:20211116T000000
END:VEVENT
BEGIN:VEVENT
UID:343A6D01-7373-405B-9427-CB56B07F8CCD-10-444_homereminder@98.badmintonne
 rs.net
DTSTAMP:20260420T055148Z
SUMMARY:Thuismatch ingevuld? (Zoersel 2G (98) - Spinshuttle 3G (100))
DESCRIPTION:Je hebt 36 uur na aanvang om een thuismatch op Badmintonvlaande
 ren in te vullen. Match info: Zoersel 2G (98) - Spinshuttle 3G (100) - Lin
 k: https://www.badmintonvlaanderen.be/sport/teammatch.aspx?id=343A6D01-737
 3-405B-9427-CB56B07F8CCD&match=444
DTSTART;TZID=Europe/Brussels:20211214T000000
DTEND;TZID=Europe/Brussels:20211214T000000
END:VEVENT
BEGIN:VEVENT
UID:343A6D01-7373-405B-9427-CB56B07F8CCD-10-450_homereminder@98.badmintonne
 rs.net
DTSTAMP:20260420T055148Z
SUMMARY:Thuismatch ingevuld? (Zoersel 2G (98) - Rijkerack 3G (91))
DESCRIPTION:Je hebt 36 uur na aanvang om een thuismatch op Badmintonvlaande
 ren in te vullen. Match info: Zoersel 2G (98) - Rijkerack 3G (91) - Link: 
 https://www.badmintonvlaanderen.be/sport/teammatch.aspx?id=343A6D01-7373-4
 05B-9427-CB56B07F8CCD&match=450
DTSTART;TZID=Europe/Brussels:20220222T000000
DTEND;TZID=Europe/Brussels:20220222T000000
END:VEVENT
BEGIN:VEVENT
UID:343A6D01-7373-405B-9427-CB56B07F8CCD-10-438_homereminder@98.badmintonne
 rs.net
DTSTAMP:20260420T055148Z
SUMMARY:Thuismatch ingevuld? (Zoersel 2G (98) - Noorderwijkse 2G (87))
DESCRIPTION:Je hebt 36 uur na aanvang om een thuismatch op Badmintonvlaande
 ren in te vullen. Match info: Zoersel 2G (98) - Noorderwijkse 2G (87) - Li
 nk: https://www.badmintonvlaanderen.be/sport/teammatch.aspx?id=343A6D01-73
 73-405B-9427-CB56B07F8CCD&match=438
DTSTART;TZID=Europe/Brussels:20220308T000000
DTEND;TZID=Europe/Brussels:20220308T000000
END:VEVENT
BEGIN:VEVENT
UID:343A6D01-7373-405B-9427-CB56B07F8CCD-10-462_homereminder@98.badmintonne
 rs.net
DTSTAMP:20260420T055148Z
SUMMARY:Thuismatch ingevuld? (Zoersel 2G (98) - Klein Boom 3G (86))
DESCRIPTION:Je hebt 36 uur na aanvang om een thuismatch op Badmintonvlaande
 ren in te vullen. Match info: Zoersel 2G (98) - Klein Boom 3G (86) - Link:
  https://www.badmintonvlaanderen.be/sport/teammatch.aspx?id=343A6D01-7373-
 405B-9427-CB56B07F8CCD&match=462
DTSTART;TZID=Europe/Brussels:20220322T000000
DTEND;TZID=Europe/Brussels:20220322T000000
END:VEVENT
BEGIN:VEVENT
UID:343A6D01-7373-405B-9427-CB56B07F8CCD-10-468_awayreminder@98.badmintonne
 rs.net
DTSTAMP:20260420T055148Z
SUMMARY:Uitmatch bevestigd? (Klein Boom 3G (86) - Zoersel 2G (98))
DESCRIPTION:Je hebt 72 uur na aanvang om een uitmatch op Badmintonvlaandere
 n in te vullen. Match info: Klein Boom 3G (86) - Zoersel 2G (98) - Link: h
 ttps://www.badmintonvlaanderen.be/sport/teammatch.aspx?id=343A6D01-7373-40
 5B-9427-CB56B07F8CCD&match=468
DTSTART;TZID=Europe/Brussels:20210915T190000
DTEND;TZID=Europe/Brussels:20210915T190000
END:VEVENT
BEGIN:VEVENT
UID:343A6D01-7373-405B-9427-CB56B07F8CCD-10-466_awayreminder@98.badmintonne
 rs.net
DTSTAMP:20260420T055148Z
SUMMARY:Uitmatch bevestigd? (Rijkerack 3G (91) - Zoersel 2G (98))
DESCRIPTION:Je hebt 72 uur na aanvang om een uitmatch op Badmintonvlaandere
 n in te vullen. Match info: Rijkerack 3G (91) - Zoersel 2G (98) - Link: ht
 tps://www.badmintonvlaanderen.be/sport/teammatch.aspx?id=343A6D01-7373-405
 B-9427-CB56B07F8CCD&match=466
DTSTART;TZID=Europe/Brussels:20211020T190000
DTEND;TZID=Europe/Brussels:20211020T190000
END:VEVENT
BEGIN:VEVENT
UID:343A6D01-7373-405B-9427-CB56B07F8CCD-10-464_awayreminder@98.badmintonne
 rs.net
DTSTAMP:20260420T055148Z
SUMMARY:Uitmatch bevestigd? (Noorderwijkse 2G (87) - Zoersel 2G (98))
DESCRIPTION:Je hebt 72 uur na aanvang om een uitmatch op Badmintonvlaandere
 n in te vullen. Match info: Noorderwijkse 2G (87) - Zoersel 2G (98) - Link
 : https://www.badmintonvlaanderen.be/sport/teammatch.aspx?id=343A6D01-7373
 -405B-9427-CB56B07F8CCD&match=464
DTSTART;TZID=Europe/Brussels:20211127T200000
DTEND;TZID=Europe/Brussels:20211127T200000
END:VEVENT
BEGIN:VEVENT
UID:343A6D01-7373-405B-9427-CB56B07F8CCD-10-465_awayreminder@98.badmintonne
 rs.net
DTSTAMP:20260420T055148Z
SUMMARY:Uitmatch bevestigd? (Spinshuttle 3G (100) - Zoersel 2G (98))
DESCRIPTION:Je hebt 72 uur na aanvang om een uitmatch op Badmintonvlaandere
 n in te vullen. Match info: Spinshuttle 3G (100) - Zoersel 2G (98) - Link:
  https://www.badmintonvlaanderen.be/sport/teammatch.aspx?id=343A6D01-7373-
 405B-9427-CB56B07F8CCD&match=465
DTSTART;TZID=Europe/Brussels:20220121T200000
DTEND;TZID=Europe/Brussels:20220121T200000
END:VEVENT
BEGIN:VEVENT
UID:343A6D01-7373-405B-9427-CB56B07F8CCD-10-463_awayreminder@98.badmintonne
 rs.net
DTSTAMP:20260420T055148Z
SUMMARY:Uitmatch bevestigd? (Olympia 1G (98) - Zoersel 2G (98))
DESCRIPTION:Je hebt 72 uur na aanvang om een uitmatch op Badmintonvlaandere
 n in te vullen. Match info: Olympia 1G (98) - Zoersel 2G (98) - Link: http
 s://www.badmintonvlaanderen.be/sport/teammatch.aspx?id=343A6D01-7373-405B-
 9427-CB56B07F8CCD&match=463
DTSTART;TZID=Europe/Brussels:20220222T093000
DTEND;TZID=Europe/Brussels:20220222T093000
END:VEVENT
BEGIN:VEVENT
UID:343A6D01-7373-405B-9427-CB56B07F8CCD-10-467_awayreminder@98.badmintonne
 rs.net
DTSTAMP:20260420T055148Z
SUMMARY:Uitmatch bevestigd? (Herentals 3G (91) - Zoersel 2G (98))
DESCRIPTION:Je hebt 72 uur na aanvang om een uitmatch op Badmintonvlaandere
 n in te vullen. Match info: Herentals 3G (91) - Zoersel 2G (98) - Link: ht
 tps://www.badmintonvlaanderen.be/sport/teammatch.aspx?id=343A6D01-7373-405
 B-9427-CB56B07F8CCD&match=467
DTSTART;TZID=Europe/Brussels:20220403T210000
DTEND;TZID=Europe/Brussels:20220403T210000
END:VEVENT
END:VCALENDAR