BEGIN:VCALENDAR
VERSION:2.0
PRODID:spatie/icalendar-generator
NAME:klein_boom_4g_88_reminders
X-WR-CALNAME:klein_boom_4g_88_reminders
BEGIN:VTIMEZONE
TZID:Europe/Brussels
BEGIN:DAYLIGHT
DTSTART:20210328T010000
TZOFFSETFROM:+0100
TZOFFSETTO:+0200
END:DAYLIGHT
BEGIN:STANDARD
DTSTART:20211031T030000
TZOFFSETFROM:+0200
TZOFFSETTO:+0100
END:STANDARD
BEGIN:DAYLIGHT
DTSTART:20220327T010000
TZOFFSETFROM:+0100
TZOFFSETTO:+0200
END:DAYLIGHT
BEGIN:STANDARD
DTSTART:20221030T030000
TZOFFSETFROM:+0200
TZOFFSETTO:+0100
END:STANDARD
END:VTIMEZONE
BEGIN:VTIMEZONE
TZID:UTC
BEGIN:STANDARD
DTSTART:20250724T055142
TZOFFSETFROM:+0000
TZOFFSETTO:+0000
END:STANDARD
END:VTIMEZONE
BEGIN:VEVENT
UID:343A6D01-7373-405B-9427-CB56B07F8CCD-11-503_homereminder@131.badmintonn
 ers.net
DTSTAMP:20260420T055142Z
SUMMARY:Thuismatch ingevuld? (Klein Boom 4G (88) - Huirtuits Dropke 3G (92)
 )
DESCRIPTION:Je hebt 36 uur na aanvang om een thuismatch op Badmintonvlaande
 ren in te vullen. Match info: Klein Boom 4G (88) - Huirtuits Dropke 3G (92
 ) - Link: https://www.badmintonvlaanderen.be/sport/teammatch.aspx?id=343A6
 D01-7373-405B-9427-CB56B07F8CCD&match=503
DTSTART;TZID=Europe/Brussels:20210929T080000
DTEND;TZID=Europe/Brussels:20210929T080000
END:VEVENT
BEGIN:VEVENT
UID:343A6D01-7373-405B-9427-CB56B07F8CCD-11-484_homereminder@131.badmintonn
 ers.net
DTSTAMP:20260420T055142Z
SUMMARY:Thuismatch ingevuld? (Klein Boom 4G (88) - Brasschaat 5G (85))
DESCRIPTION:Je hebt 36 uur na aanvang om een thuismatch op Badmintonvlaande
 ren in te vullen. Match info: Klein Boom 4G (88) - Brasschaat 5G (85) - Li
 nk: https://www.badmintonvlaanderen.be/sport/teammatch.aspx?id=343A6D01-73
 73-405B-9427-CB56B07F8CCD&match=484
DTSTART;TZID=Europe/Brussels:20211130T070000
DTEND;TZID=Europe/Brussels:20211130T070000
END:VEVENT
BEGIN:VEVENT
UID:343A6D01-7373-405B-9427-CB56B07F8CCD-11-515_homereminder@131.badmintonn
 ers.net
DTSTAMP:20260420T055142Z
SUMMARY:Thuismatch ingevuld? (Klein Boom 4G (88) - Spinshuttle 2G (96))
DESCRIPTION:Je hebt 36 uur na aanvang om een thuismatch op Badmintonvlaande
 ren in te vullen. Match info: Klein Boom 4G (88) - Spinshuttle 2G (96) - L
 ink: https://www.badmintonvlaanderen.be/sport/teammatch.aspx?id=343A6D01-7
 373-405B-9427-CB56B07F8CCD&match=515
DTSTART;TZID=Europe/Brussels:20211229T080000
DTEND;TZID=Europe/Brussels:20211229T080000
END:VEVENT
BEGIN:VEVENT
UID:343A6D01-7373-405B-9427-CB56B07F8CCD-11-478_homereminder@131.badmintonn
 ers.net
DTSTAMP:20260420T055142Z
SUMMARY:Thuismatch ingevuld? (Klein Boom 4G (88) - Opslag 2G (86))
DESCRIPTION:Je hebt 36 uur na aanvang om een thuismatch op Badmintonvlaande
 ren in te vullen. Match info: Klein Boom 4G (88) - Opslag 2G (86) - Link: 
 https://www.badmintonvlaanderen.be/sport/teammatch.aspx?id=343A6D01-7373-4
 05B-9427-CB56B07F8CCD&match=478
DTSTART;TZID=Europe/Brussels:20220208T070000
DTEND;TZID=Europe/Brussels:20220208T070000
END:VEVENT
BEGIN:VEVENT
UID:343A6D01-7373-405B-9427-CB56B07F8CCD-11-509_homereminder@131.badmintonn
 ers.net
DTSTAMP:20260420T055142Z
SUMMARY:Thuismatch ingevuld? (Klein Boom 4G (88) - Rita Serveert 2G (85))
DESCRIPTION:Je hebt 36 uur na aanvang om een thuismatch op Badmintonvlaande
 ren in te vullen. Match info: Klein Boom 4G (88) - Rita Serveert 2G (85) -
  Link: https://www.badmintonvlaanderen.be/sport/teammatch.aspx?id=343A6D01
 -7373-405B-9427-CB56B07F8CCD&match=509
DTSTART;TZID=Europe/Brussels:20220222T070000
DTEND;TZID=Europe/Brussels:20220222T070000
END:VEVENT
BEGIN:VEVENT
UID:343A6D01-7373-405B-9427-CB56B07F8CCD-11-490_homereminder@131.badmintonn
 ers.net
DTSTAMP:20260420T055142Z
SUMMARY:Thuismatch ingevuld? (Klein Boom 4G (88) - Poona 3G (85))
DESCRIPTION:Je hebt 36 uur na aanvang om een thuismatch op Badmintonvlaande
 ren in te vullen. Match info: Klein Boom 4G (88) - Poona 3G (85) - Link: h
 ttps://www.badmintonvlaanderen.be/sport/teammatch.aspx?id=343A6D01-7373-40
 5B-9427-CB56B07F8CCD&match=490
DTSTART;TZID=Europe/Brussels:20220504T080000
DTEND;TZID=Europe/Brussels:20220504T080000
END:VEVENT
BEGIN:VEVENT
UID:343A6D01-7373-405B-9427-CB56B07F8CCD-11-498_awayreminder@131.badmintonn
 ers.net
DTSTAMP:20260420T055142Z
SUMMARY:Uitmatch bevestigd? (Rita Serveert 2G (85) - Klein Boom 4G (88))
DESCRIPTION:Je hebt 72 uur na aanvang om een uitmatch op Badmintonvlaandere
 n in te vullen. Match info: Rita Serveert 2G (85) - Klein Boom 4G (88) - L
 ink: https://www.badmintonvlaanderen.be/sport/teammatch.aspx?id=343A6D01-7
 373-405B-9427-CB56B07F8CCD&match=498
DTSTART;TZID=Europe/Brussels:20211006T190000
DTEND;TZID=Europe/Brussels:20211006T190000
END:VEVENT
BEGIN:VEVENT
UID:343A6D01-7373-405B-9427-CB56B07F8CCD-11-494_awayreminder@131.badmintonn
 ers.net
DTSTAMP:20260420T055142Z
SUMMARY:Uitmatch bevestigd? (Opslag 2G (86) - Klein Boom 4G (88))
DESCRIPTION:Je hebt 72 uur na aanvang om een uitmatch op Badmintonvlaandere
 n in te vullen. Match info: Opslag 2G (86) - Klein Boom 4G (88) - Link: ht
 tps://www.badmintonvlaanderen.be/sport/teammatch.aspx?id=343A6D01-7373-405
 B-9427-CB56B07F8CCD&match=494
DTSTART;TZID=Europe/Brussels:20211020T163000
DTEND;TZID=Europe/Brussels:20211020T163000
END:VEVENT
BEGIN:VEVENT
UID:343A6D01-7373-405B-9427-CB56B07F8CCD-11-496_awayreminder@131.badmintonn
 ers.net
DTSTAMP:20260420T055142Z
SUMMARY:Uitmatch bevestigd? (Poona 3G (85) - Klein Boom 4G (88))
DESCRIPTION:Je hebt 72 uur na aanvang om een uitmatch op Badmintonvlaandere
 n in te vullen. Match info: Poona 3G (85) - Klein Boom 4G (88) - Link: htt
 ps://www.badmintonvlaanderen.be/sport/teammatch.aspx?id=343A6D01-7373-405B
 -9427-CB56B07F8CCD&match=496
DTSTART;TZID=Europe/Brussels:20211125T200000
DTEND;TZID=Europe/Brussels:20211125T200000
END:VEVENT
BEGIN:VEVENT
UID:343A6D01-7373-405B-9427-CB56B07F8CCD-11-497_awayreminder@131.badmintonn
 ers.net
DTSTAMP:20260420T055142Z
SUMMARY:Uitmatch bevestigd? (Huirtuits Dropke 3G (92) - Klein Boom 4G (88))
DESCRIPTION:Je hebt 72 uur na aanvang om een uitmatch op Badmintonvlaandere
 n in te vullen. Match info: Huirtuits Dropke 3G (92) - Klein Boom 4G (88) 
 - Link: https://www.badmintonvlaanderen.be/sport/teammatch.aspx?id=343A6D0
 1-7373-405B-9427-CB56B07F8CCD&match=497
DTSTART;TZID=Europe/Brussels:20220204T200000
DTEND;TZID=Europe/Brussels:20220204T200000
END:VEVENT
BEGIN:VEVENT
UID:343A6D01-7373-405B-9427-CB56B07F8CCD-11-499_awayreminder@131.badmintonn
 ers.net
DTSTAMP:20260420T055142Z
SUMMARY:Uitmatch bevestigd? (Spinshuttle 2G (96) - Klein Boom 4G (88))
DESCRIPTION:Je hebt 72 uur na aanvang om een uitmatch op Badmintonvlaandere
 n in te vullen. Match info: Spinshuttle 2G (96) - Klein Boom 4G (88) - Lin
 k: https://www.badmintonvlaanderen.be/sport/teammatch.aspx?id=343A6D01-737
 3-405B-9427-CB56B07F8CCD&match=499
DTSTART;TZID=Europe/Brussels:20220304T200000
DTEND;TZID=Europe/Brussels:20220304T200000
END:VEVENT
BEGIN:VEVENT
UID:343A6D01-7373-405B-9427-CB56B07F8CCD-11-495_awayreminder@131.badmintonn
 ers.net
DTSTAMP:20260420T055142Z
SUMMARY:Uitmatch bevestigd? (Brasschaat 5G (85) - Klein Boom 4G (88))
DESCRIPTION:Je hebt 72 uur na aanvang om een uitmatch op Badmintonvlaandere
 n in te vullen. Match info: Brasschaat 5G (85) - Klein Boom 4G (88) - Link
 : https://www.badmintonvlaanderen.be/sport/teammatch.aspx?id=343A6D01-7373
 -405B-9427-CB56B07F8CCD&match=495
DTSTART;TZID=Europe/Brussels:20220323T190000
DTEND;TZID=Europe/Brussels:20220323T190000
END:VEVENT
END:VCALENDAR