BEGIN:VCALENDAR
VERSION:2.0
PRODID:spatie/icalendar-generator
NAME:opslag_2g_86_reminders
X-WR-CALNAME:opslag_2g_86_reminders
BEGIN:VTIMEZONE
TZID:Europe/Brussels
BEGIN:DAYLIGHT
DTSTART:20210328T010000
TZOFFSETFROM:+0100
TZOFFSETTO:+0200
END:DAYLIGHT
BEGIN:STANDARD
DTSTART:20211031T030000
TZOFFSETFROM:+0200
TZOFFSETTO:+0100
END:STANDARD
BEGIN:DAYLIGHT
DTSTART:20220327T010000
TZOFFSETFROM:+0100
TZOFFSETTO:+0200
END:DAYLIGHT
END:VTIMEZONE
BEGIN:VTIMEZONE
TZID:UTC
BEGIN:STANDARD
DTSTART:20250724T055142
TZOFFSETFROM:+0000
TZOFFSETTO:+0000
END:STANDARD
END:VTIMEZONE
BEGIN:VEVENT
UID:343A6D01-7373-405B-9427-CB56B07F8CCD-11-482_homereminder@157.badmintonn
 ers.net
DTSTAMP:20260420T055142Z
SUMMARY:Thuismatch ingevuld? (Opslag 2G (86) - Brasschaat 5G (85))
DESCRIPTION:Je hebt 36 uur na aanvang om een thuismatch op Badmintonvlaande
 ren in te vullen. Match info: Opslag 2G (86) - Brasschaat 5G (85) - Link: 
 https://www.badmintonvlaanderen.be/sport/teammatch.aspx?id=343A6D01-7373-4
 05B-9427-CB56B07F8CCD&match=482
DTSTART;TZID=Europe/Brussels:20211005T071500
DTEND;TZID=Europe/Brussels:20211005T071500
END:VEVENT
BEGIN:VEVENT
UID:343A6D01-7373-405B-9427-CB56B07F8CCD-11-494_homereminder@157.badmintonn
 ers.net
DTSTAMP:20260420T055142Z
SUMMARY:Thuismatch ingevuld? (Opslag 2G (86) - Klein Boom 4G (88))
DESCRIPTION:Je hebt 36 uur na aanvang om een thuismatch op Badmintonvlaande
 ren in te vullen. Match info: Opslag 2G (86) - Klein Boom 4G (88) - Link: 
 https://www.badmintonvlaanderen.be/sport/teammatch.aspx?id=343A6D01-7373-4
 05B-9427-CB56B07F8CCD&match=494
DTSTART;TZID=Europe/Brussels:20211019T043000
DTEND;TZID=Europe/Brussels:20211019T043000
END:VEVENT
BEGIN:VEVENT
UID:343A6D01-7373-405B-9427-CB56B07F8CCD-11-506_homereminder@157.badmintonn
 ers.net
DTSTAMP:20260420T055142Z
SUMMARY:Thuismatch ingevuld? (Opslag 2G (86) - Rita Serveert 2G (85))
DESCRIPTION:Je hebt 36 uur na aanvang om een thuismatch op Badmintonvlaande
 ren in te vullen. Match info: Opslag 2G (86) - Rita Serveert 2G (85) - Lin
 k: https://www.badmintonvlaanderen.be/sport/teammatch.aspx?id=343A6D01-737
 3-405B-9427-CB56B07F8CCD&match=506
DTSTART;TZID=Europe/Brussels:20211102T071500
DTEND;TZID=Europe/Brussels:20211102T071500
END:VEVENT
BEGIN:VEVENT
UID:343A6D01-7373-405B-9427-CB56B07F8CCD-11-500_homereminder@157.badmintonn
 ers.net
DTSTAMP:20260420T055142Z
SUMMARY:Thuismatch ingevuld? (Opslag 2G (86) - Huirtuits Dropke 3G (92))
DESCRIPTION:Je hebt 36 uur na aanvang om een thuismatch op Badmintonvlaande
 ren in te vullen. Match info: Opslag 2G (86) - Huirtuits Dropke 3G (92) - 
 Link: https://www.badmintonvlaanderen.be/sport/teammatch.aspx?id=343A6D01-
 7373-405B-9427-CB56B07F8CCD&match=500
DTSTART;TZID=Europe/Brussels:20220111T043000
DTEND;TZID=Europe/Brussels:20220111T043000
END:VEVENT
BEGIN:VEVENT
UID:343A6D01-7373-405B-9427-CB56B07F8CCD-11-512_homereminder@157.badmintonn
 ers.net
DTSTAMP:20260420T055142Z
SUMMARY:Thuismatch ingevuld? (Opslag 2G (86) - Spinshuttle 2G (96))
DESCRIPTION:Je hebt 36 uur na aanvang om een thuismatch op Badmintonvlaande
 ren in te vullen. Match info: Opslag 2G (86) - Spinshuttle 2G (96) - Link:
  https://www.badmintonvlaanderen.be/sport/teammatch.aspx?id=343A6D01-7373-
 405B-9427-CB56B07F8CCD&match=512
DTSTART;TZID=Europe/Brussels:20220125T071500
DTEND;TZID=Europe/Brussels:20220125T071500
END:VEVENT
BEGIN:VEVENT
UID:343A6D01-7373-405B-9427-CB56B07F8CCD-11-488_homereminder@157.badmintonn
 ers.net
DTSTAMP:20260420T055142Z
SUMMARY:Thuismatch ingevuld? (Opslag 2G (86) - Poona 3G (85))
DESCRIPTION:Je hebt 36 uur na aanvang om een thuismatch op Badmintonvlaande
 ren in te vullen. Match info: Opslag 2G (86) - Poona 3G (85) - Link: https
 ://www.badmintonvlaanderen.be/sport/teammatch.aspx?id=343A6D01-7373-405B-9
 427-CB56B07F8CCD&match=488
DTSTART;TZID=Europe/Brussels:20220308T043000
DTEND;TZID=Europe/Brussels:20220308T043000
END:VEVENT
BEGIN:VEVENT
UID:343A6D01-7373-405B-9427-CB56B07F8CCD-11-477_awayreminder@157.badmintonn
 ers.net
DTSTAMP:20260420T055142Z
SUMMARY:Uitmatch bevestigd? (Poona 3G (85) - Opslag 2G (86))
DESCRIPTION:Je hebt 72 uur na aanvang om een uitmatch op Badmintonvlaandere
 n in te vullen. Match info: Poona 3G (85) - Opslag 2G (86) - Link: https:/
 /www.badmintonvlaanderen.be/sport/teammatch.aspx?id=343A6D01-7373-405B-942
 7-CB56B07F8CCD&match=477
DTSTART;TZID=Europe/Brussels:20211028T200000
DTEND;TZID=Europe/Brussels:20211028T200000
END:VEVENT
BEGIN:VEVENT
UID:343A6D01-7373-405B-9427-CB56B07F8CCD-11-479_awayreminder@157.badmintonn
 ers.net
DTSTAMP:20260420T055142Z
SUMMARY:Uitmatch bevestigd? (Huirtuits Dropke 3G (92) - Opslag 2G (86))
DESCRIPTION:Je hebt 72 uur na aanvang om een uitmatch op Badmintonvlaandere
 n in te vullen. Match info: Huirtuits Dropke 3G (92) - Opslag 2G (86) - Li
 nk: https://www.badmintonvlaanderen.be/sport/teammatch.aspx?id=343A6D01-73
 73-405B-9427-CB56B07F8CCD&match=479
DTSTART;TZID=Europe/Brussels:20211126T200000
DTEND;TZID=Europe/Brussels:20211126T200000
END:VEVENT
BEGIN:VEVENT
UID:343A6D01-7373-405B-9427-CB56B07F8CCD-11-481_awayreminder@157.badmintonn
 ers.net
DTSTAMP:20260420T055142Z
SUMMARY:Uitmatch bevestigd? (Spinshuttle 2G (96) - Opslag 2G (86))
DESCRIPTION:Je hebt 72 uur na aanvang om een uitmatch op Badmintonvlaandere
 n in te vullen. Match info: Spinshuttle 2G (96) - Opslag 2G (86) - Link: h
 ttps://www.badmintonvlaanderen.be/sport/teammatch.aspx?id=343A6D01-7373-40
 5B-9427-CB56B07F8CCD&match=481
DTSTART;TZID=Europe/Brussels:20211210T200000
DTEND;TZID=Europe/Brussels:20211210T200000
END:VEVENT
BEGIN:VEVENT
UID:343A6D01-7373-405B-9427-CB56B07F8CCD-11-478_awayreminder@157.badmintonn
 ers.net
DTSTAMP:20260420T055142Z
SUMMARY:Uitmatch bevestigd? (Klein Boom 4G (88) - Opslag 2G (86))
DESCRIPTION:Je hebt 72 uur na aanvang om een uitmatch op Badmintonvlaandere
 n in te vullen. Match info: Klein Boom 4G (88) - Opslag 2G (86) - Link: ht
 tps://www.badmintonvlaanderen.be/sport/teammatch.aspx?id=343A6D01-7373-405
 B-9427-CB56B07F8CCD&match=478
DTSTART;TZID=Europe/Brussels:20220209T190000
DTEND;TZID=Europe/Brussels:20220209T190000
END:VEVENT
BEGIN:VEVENT
UID:343A6D01-7373-405B-9427-CB56B07F8CCD-11-476_awayreminder@157.badmintonn
 ers.net
DTSTAMP:20260420T055142Z
SUMMARY:Uitmatch bevestigd? (Brasschaat 5G (85) - Opslag 2G (86))
DESCRIPTION:Je hebt 72 uur na aanvang om een uitmatch op Badmintonvlaandere
 n in te vullen. Match info: Brasschaat 5G (85) - Opslag 2G (86) - Link: ht
 tps://www.badmintonvlaanderen.be/sport/teammatch.aspx?id=343A6D01-7373-405
 B-9427-CB56B07F8CCD&match=476
DTSTART;TZID=Europe/Brussels:20220223T190000
DTEND;TZID=Europe/Brussels:20220223T190000
END:VEVENT
BEGIN:VEVENT
UID:343A6D01-7373-405B-9427-CB56B07F8CCD-11-480_awayreminder@157.badmintonn
 ers.net
DTSTAMP:20260420T055142Z
SUMMARY:Uitmatch bevestigd? (Rita Serveert 2G (85) - Opslag 2G (86))
DESCRIPTION:Je hebt 72 uur na aanvang om een uitmatch op Badmintonvlaandere
 n in te vullen. Match info: Rita Serveert 2G (85) - Opslag 2G (86) - Link:
  https://www.badmintonvlaanderen.be/sport/teammatch.aspx?id=343A6D01-7373-
 405B-9427-CB56B07F8CCD&match=480
DTSTART;TZID=Europe/Brussels:20220406T190000
DTEND;TZID=Europe/Brussels:20220406T190000
END:VEVENT
END:VCALENDAR