BEGIN:VCALENDAR
VERSION:2.0
PRODID:spatie/icalendar-generator
NAME:spinshuttle_2g_96_reminders
X-WR-CALNAME:spinshuttle_2g_96_reminders
BEGIN:VTIMEZONE
TZID:Europe/Brussels
BEGIN:DAYLIGHT
DTSTART:20210328T010000
TZOFFSETFROM:+0100
TZOFFSETTO:+0200
END:DAYLIGHT
BEGIN:STANDARD
DTSTART:20211031T030000
TZOFFSETFROM:+0200
TZOFFSETTO:+0100
END:STANDARD
BEGIN:DAYLIGHT
DTSTART:20220327T010000
TZOFFSETFROM:+0100
TZOFFSETTO:+0200
END:DAYLIGHT
END:VTIMEZONE
BEGIN:VTIMEZONE
TZID:UTC
BEGIN:STANDARD
DTSTART:20250724T055142
TZOFFSETFROM:+0000
TZOFFSETTO:+0000
END:STANDARD
END:VTIMEZONE
BEGIN:VEVENT
UID:343A6D01-7373-405B-9427-CB56B07F8CCD-11-493_homereminder@211.badmintonn
 ers.net
DTSTAMP:20260420T055142Z
SUMMARY:Thuismatch ingevuld? (Spinshuttle 2G (96) - Poona 3G (85))
DESCRIPTION:Je hebt 36 uur na aanvang om een thuismatch op Badmintonvlaande
 ren in te vullen. Match info: Spinshuttle 2G (96) - Poona 3G (85) - Link: 
 https://www.badmintonvlaanderen.be/sport/teammatch.aspx?id=343A6D01-7373-4
 05B-9427-CB56B07F8CCD&match=493
DTSTART;TZID=Europe/Brussels:20210930T080000
DTEND;TZID=Europe/Brussels:20210930T080000
END:VEVENT
BEGIN:VEVENT
UID:343A6D01-7373-405B-9427-CB56B07F8CCD-11-505_homereminder@211.badmintonn
 ers.net
DTSTAMP:20260420T055142Z
SUMMARY:Thuismatch ingevuld? (Spinshuttle 2G (96) - Huirtuits Dropke 3G (92
 ))
DESCRIPTION:Je hebt 36 uur na aanvang om een thuismatch op Badmintonvlaande
 ren in te vullen. Match info: Spinshuttle 2G (96) - Huirtuits Dropke 3G (9
 2) - Link: https://www.badmintonvlaanderen.be/sport/teammatch.aspx?id=343A
 6D01-7373-405B-9427-CB56B07F8CCD&match=505
DTSTART;TZID=Europe/Brussels:20211014T080000
DTEND;TZID=Europe/Brussels:20211014T080000
END:VEVENT
BEGIN:VEVENT
UID:343A6D01-7373-405B-9427-CB56B07F8CCD-11-481_homereminder@211.badmintonn
 ers.net
DTSTAMP:20260420T055142Z
SUMMARY:Thuismatch ingevuld? (Spinshuttle 2G (96) - Opslag 2G (86))
DESCRIPTION:Je hebt 36 uur na aanvang om een thuismatch op Badmintonvlaande
 ren in te vullen. Match info: Spinshuttle 2G (96) - Opslag 2G (86) - Link:
  https://www.badmintonvlaanderen.be/sport/teammatch.aspx?id=343A6D01-7373-
 405B-9427-CB56B07F8CCD&match=481
DTSTART;TZID=Europe/Brussels:20211209T080000
DTEND;TZID=Europe/Brussels:20211209T080000
END:VEVENT
BEGIN:VEVENT
UID:343A6D01-7373-405B-9427-CB56B07F8CCD-11-487_homereminder@211.badmintonn
 ers.net
DTSTAMP:20260420T055142Z
SUMMARY:Thuismatch ingevuld? (Spinshuttle 2G (96) - Brasschaat 5G (85))
DESCRIPTION:Je hebt 36 uur na aanvang om een thuismatch op Badmintonvlaande
 ren in te vullen. Match info: Spinshuttle 2G (96) - Brasschaat 5G (85) - L
 ink: https://www.badmintonvlaanderen.be/sport/teammatch.aspx?id=343A6D01-7
 373-405B-9427-CB56B07F8CCD&match=487
DTSTART;TZID=Europe/Brussels:20220120T080000
DTEND;TZID=Europe/Brussels:20220120T080000
END:VEVENT
BEGIN:VEVENT
UID:343A6D01-7373-405B-9427-CB56B07F8CCD-11-499_homereminder@211.badmintonn
 ers.net
DTSTAMP:20260420T055142Z
SUMMARY:Thuismatch ingevuld? (Spinshuttle 2G (96) - Klein Boom 4G (88))
DESCRIPTION:Je hebt 36 uur na aanvang om een thuismatch op Badmintonvlaande
 ren in te vullen. Match info: Spinshuttle 2G (96) - Klein Boom 4G (88) - L
 ink: https://www.badmintonvlaanderen.be/sport/teammatch.aspx?id=343A6D01-7
 373-405B-9427-CB56B07F8CCD&match=499
DTSTART;TZID=Europe/Brussels:20220303T080000
DTEND;TZID=Europe/Brussels:20220303T080000
END:VEVENT
BEGIN:VEVENT
UID:343A6D01-7373-405B-9427-CB56B07F8CCD-11-511_homereminder@211.badmintonn
 ers.net
DTSTAMP:20260420T055142Z
SUMMARY:Thuismatch ingevuld? (Spinshuttle 2G (96) - Rita Serveert 2G (85))
DESCRIPTION:Je hebt 36 uur na aanvang om een thuismatch op Badmintonvlaande
 ren in te vullen. Match info: Spinshuttle 2G (96) - Rita Serveert 2G (85) 
 - Link: https://www.badmintonvlaanderen.be/sport/teammatch.aspx?id=343A6D0
 1-7373-405B-9427-CB56B07F8CCD&match=511
DTSTART;TZID=Europe/Brussels:20220317T080000
DTEND;TZID=Europe/Brussels:20220317T080000
END:VEVENT
BEGIN:VEVENT
UID:343A6D01-7373-405B-9427-CB56B07F8CCD-11-513_awayreminder@211.badmintonn
 ers.net
DTSTAMP:20260420T055142Z
SUMMARY:Uitmatch bevestigd? (Brasschaat 5G (85) - Spinshuttle 2G (96))
DESCRIPTION:Je hebt 72 uur na aanvang om een uitmatch op Badmintonvlaandere
 n in te vullen. Match info: Brasschaat 5G (85) - Spinshuttle 2G (96) - Lin
 k: https://www.badmintonvlaanderen.be/sport/teammatch.aspx?id=343A6D01-737
 3-405B-9427-CB56B07F8CCD&match=513
DTSTART;TZID=Europe/Brussels:20211110T190000
DTEND;TZID=Europe/Brussels:20211110T190000
END:VEVENT
BEGIN:VEVENT
UID:343A6D01-7373-405B-9427-CB56B07F8CCD-11-517_awayreminder@211.badmintonn
 ers.net
DTSTAMP:20260420T055142Z
SUMMARY:Uitmatch bevestigd? (Rita Serveert 2G (85) - Spinshuttle 2G (96))
DESCRIPTION:Je hebt 72 uur na aanvang om een uitmatch op Badmintonvlaandere
 n in te vullen. Match info: Rita Serveert 2G (85) - Spinshuttle 2G (96) - 
 Link: https://www.badmintonvlaanderen.be/sport/teammatch.aspx?id=343A6D01-
 7373-405B-9427-CB56B07F8CCD&match=517
DTSTART;TZID=Europe/Brussels:20211201T190000
DTEND;TZID=Europe/Brussels:20211201T190000
END:VEVENT
BEGIN:VEVENT
UID:343A6D01-7373-405B-9427-CB56B07F8CCD-11-515_awayreminder@211.badmintonn
 ers.net
DTSTAMP:20260420T055142Z
SUMMARY:Uitmatch bevestigd? (Klein Boom 4G (88) - Spinshuttle 2G (96))
DESCRIPTION:Je hebt 72 uur na aanvang om een uitmatch op Badmintonvlaandere
 n in te vullen. Match info: Klein Boom 4G (88) - Spinshuttle 2G (96) - Lin
 k: https://www.badmintonvlaanderen.be/sport/teammatch.aspx?id=343A6D01-737
 3-405B-9427-CB56B07F8CCD&match=515
DTSTART;TZID=Europe/Brussels:20211230T200000
DTEND;TZID=Europe/Brussels:20211230T200000
END:VEVENT
BEGIN:VEVENT
UID:343A6D01-7373-405B-9427-CB56B07F8CCD-11-512_awayreminder@211.badmintonn
 ers.net
DTSTAMP:20260420T055142Z
SUMMARY:Uitmatch bevestigd? (Opslag 2G (86) - Spinshuttle 2G (96))
DESCRIPTION:Je hebt 72 uur na aanvang om een uitmatch op Badmintonvlaandere
 n in te vullen. Match info: Opslag 2G (86) - Spinshuttle 2G (96) - Link: h
 ttps://www.badmintonvlaanderen.be/sport/teammatch.aspx?id=343A6D01-7373-40
 5B-9427-CB56B07F8CCD&match=512
DTSTART;TZID=Europe/Brussels:20220126T191500
DTEND;TZID=Europe/Brussels:20220126T191500
END:VEVENT
BEGIN:VEVENT
UID:343A6D01-7373-405B-9427-CB56B07F8CCD-11-514_awayreminder@211.badmintonn
 ers.net
DTSTAMP:20260420T055142Z
SUMMARY:Uitmatch bevestigd? (Poona 3G (85) - Spinshuttle 2G (96))
DESCRIPTION:Je hebt 72 uur na aanvang om een uitmatch op Badmintonvlaandere
 n in te vullen. Match info: Poona 3G (85) - Spinshuttle 2G (96) - Link: ht
 tps://www.badmintonvlaanderen.be/sport/teammatch.aspx?id=343A6D01-7373-405
 B-9427-CB56B07F8CCD&match=514
DTSTART;TZID=Europe/Brussels:20220203T200000
DTEND;TZID=Europe/Brussels:20220203T200000
END:VEVENT
BEGIN:VEVENT
UID:343A6D01-7373-405B-9427-CB56B07F8CCD-11-516_awayreminder@211.badmintonn
 ers.net
DTSTAMP:20260420T055142Z
SUMMARY:Uitmatch bevestigd? (Huirtuits Dropke 3G (92) - Spinshuttle 2G (96)
 )
DESCRIPTION:Je hebt 72 uur na aanvang om een uitmatch op Badmintonvlaandere
 n in te vullen. Match info: Huirtuits Dropke 3G (92) - Spinshuttle 2G (96)
  - Link: https://www.badmintonvlaanderen.be/sport/teammatch.aspx?id=343A6D
 01-7373-405B-9427-CB56B07F8CCD&match=516
DTSTART;TZID=Europe/Brussels:20220424T200000
DTEND;TZID=Europe/Brussels:20220424T200000
END:VEVENT
END:VCALENDAR