BEGIN:VCALENDAR
VERSION:2.0
PRODID:spatie/icalendar-generator
NAME:poona_3g_85_reminders
X-WR-CALNAME:poona_3g_85_reminders
BEGIN:VTIMEZONE
TZID:Europe/Brussels
BEGIN:DAYLIGHT
DTSTART:20210328T010000
TZOFFSETFROM:+0100
TZOFFSETTO:+0200
END:DAYLIGHT
BEGIN:STANDARD
DTSTART:20211031T030000
TZOFFSETFROM:+0200
TZOFFSETTO:+0100
END:STANDARD
BEGIN:DAYLIGHT
DTSTART:20220327T010000
TZOFFSETFROM:+0100
TZOFFSETTO:+0200
END:DAYLIGHT
BEGIN:STANDARD
DTSTART:20221030T030000
TZOFFSETFROM:+0200
TZOFFSETTO:+0100
END:STANDARD
END:VTIMEZONE
BEGIN:VTIMEZONE
TZID:UTC
BEGIN:STANDARD
DTSTART:20250724T055143
TZOFFSETFROM:+0000
TZOFFSETTO:+0000
END:STANDARD
END:VTIMEZONE
BEGIN:VEVENT
UID:343A6D01-7373-405B-9427-CB56B07F8CCD-11-477_homereminder@26.badmintonne
 rs.net
DTSTAMP:20260420T055143Z
SUMMARY:Thuismatch ingevuld? (Poona 3G (85) - Opslag 2G (86))
DESCRIPTION:Je hebt 36 uur na aanvang om een thuismatch op Badmintonvlaande
 ren in te vullen. Match info: Poona 3G (85) - Opslag 2G (86) - Link: https
 ://www.badmintonvlaanderen.be/sport/teammatch.aspx?id=343A6D01-7373-405B-9
 427-CB56B07F8CCD&match=477
DTSTART;TZID=Europe/Brussels:20211027T080000
DTEND;TZID=Europe/Brussels:20211027T080000
END:VEVENT
BEGIN:VEVENT
UID:343A6D01-7373-405B-9427-CB56B07F8CCD-11-496_homereminder@26.badmintonne
 rs.net
DTSTAMP:20260420T055143Z
SUMMARY:Thuismatch ingevuld? (Poona 3G (85) - Klein Boom 4G (88))
DESCRIPTION:Je hebt 36 uur na aanvang om een thuismatch op Badmintonvlaande
 ren in te vullen. Match info: Poona 3G (85) - Klein Boom 4G (88) - Link: h
 ttps://www.badmintonvlaanderen.be/sport/teammatch.aspx?id=343A6D01-7373-40
 5B-9427-CB56B07F8CCD&match=496
DTSTART;TZID=Europe/Brussels:20211124T080000
DTEND;TZID=Europe/Brussels:20211124T080000
END:VEVENT
BEGIN:VEVENT
UID:343A6D01-7373-405B-9427-CB56B07F8CCD-11-514_homereminder@26.badmintonne
 rs.net
DTSTAMP:20260420T055143Z
SUMMARY:Thuismatch ingevuld? (Poona 3G (85) - Spinshuttle 2G (96))
DESCRIPTION:Je hebt 36 uur na aanvang om een thuismatch op Badmintonvlaande
 ren in te vullen. Match info: Poona 3G (85) - Spinshuttle 2G (96) - Link: 
 https://www.badmintonvlaanderen.be/sport/teammatch.aspx?id=343A6D01-7373-4
 05B-9427-CB56B07F8CCD&match=514
DTSTART;TZID=Europe/Brussels:20220202T080000
DTEND;TZID=Europe/Brussels:20220202T080000
END:VEVENT
BEGIN:VEVENT
UID:343A6D01-7373-405B-9427-CB56B07F8CCD-11-508_homereminder@26.badmintonne
 rs.net
DTSTAMP:20260420T055143Z
SUMMARY:Thuismatch ingevuld? (Poona 3G (85) - Rita Serveert 2G (85))
DESCRIPTION:Je hebt 36 uur na aanvang om een thuismatch op Badmintonvlaande
 ren in te vullen. Match info: Poona 3G (85) - Rita Serveert 2G (85) - Link
 : https://www.badmintonvlaanderen.be/sport/teammatch.aspx?id=343A6D01-7373
 -405B-9427-CB56B07F8CCD&match=508
DTSTART;TZID=Europe/Brussels:20220223T080000
DTEND;TZID=Europe/Brussels:20220223T080000
END:VEVENT
BEGIN:VEVENT
UID:343A6D01-7373-405B-9427-CB56B07F8CCD-11-502_homereminder@26.badmintonne
 rs.net
DTSTAMP:20260420T055143Z
SUMMARY:Thuismatch ingevuld? (Poona 3G (85) - Huirtuits Dropke 3G (92))
DESCRIPTION:Je hebt 36 uur na aanvang om een thuismatch op Badmintonvlaande
 ren in te vullen. Match info: Poona 3G (85) - Huirtuits Dropke 3G (92) - L
 ink: https://www.badmintonvlaanderen.be/sport/teammatch.aspx?id=343A6D01-7
 373-405B-9427-CB56B07F8CCD&match=502
DTSTART;TZID=Europe/Brussels:20220413T080000
DTEND;TZID=Europe/Brussels:20220413T080000
END:VEVENT
BEGIN:VEVENT
UID:343A6D01-7373-405B-9427-CB56B07F8CCD-11-483_homereminder@26.badmintonne
 rs.net
DTSTAMP:20260420T055143Z
SUMMARY:Thuismatch ingevuld? (Poona 3G (85) - Brasschaat 5G (85))
DESCRIPTION:Je hebt 36 uur na aanvang om een thuismatch op Badmintonvlaande
 ren in te vullen. Match info: Poona 3G (85) - Brasschaat 5G (85) - Link: h
 ttps://www.badmintonvlaanderen.be/sport/teammatch.aspx?id=343A6D01-7373-40
 5B-9427-CB56B07F8CCD&match=483
DTSTART;TZID=Europe/Brussels:20220427T080000
DTEND;TZID=Europe/Brussels:20220427T080000
END:VEVENT
BEGIN:VEVENT
UID:343A6D01-7373-405B-9427-CB56B07F8CCD-11-493_awayreminder@26.badmintonne
 rs.net
DTSTAMP:20260420T055143Z
SUMMARY:Uitmatch bevestigd? (Spinshuttle 2G (96) - Poona 3G (85))
DESCRIPTION:Je hebt 72 uur na aanvang om een uitmatch op Badmintonvlaandere
 n in te vullen. Match info: Spinshuttle 2G (96) - Poona 3G (85) - Link: ht
 tps://www.badmintonvlaanderen.be/sport/teammatch.aspx?id=343A6D01-7373-405
 B-9427-CB56B07F8CCD&match=493
DTSTART;TZID=Europe/Brussels:20211001T200000
DTEND;TZID=Europe/Brussels:20211001T200000
END:VEVENT
BEGIN:VEVENT
UID:343A6D01-7373-405B-9427-CB56B07F8CCD-11-489_awayreminder@26.badmintonne
 rs.net
DTSTAMP:20260420T055143Z
SUMMARY:Uitmatch bevestigd? (Brasschaat 5G (85) - Poona 3G (85))
DESCRIPTION:Je hebt 72 uur na aanvang om een uitmatch op Badmintonvlaandere
 n in te vullen. Match info: Brasschaat 5G (85) - Poona 3G (85) - Link: htt
 ps://www.badmintonvlaanderen.be/sport/teammatch.aspx?id=343A6D01-7373-405B
 -9427-CB56B07F8CCD&match=489
DTSTART;TZID=Europe/Brussels:20211202T200000
DTEND;TZID=Europe/Brussels:20211202T200000
END:VEVENT
BEGIN:VEVENT
UID:343A6D01-7373-405B-9427-CB56B07F8CCD-11-492_awayreminder@26.badmintonne
 rs.net
DTSTAMP:20260420T055143Z
SUMMARY:Uitmatch bevestigd? (Rita Serveert 2G (85) - Poona 3G (85))
DESCRIPTION:Je hebt 72 uur na aanvang om een uitmatch op Badmintonvlaandere
 n in te vullen. Match info: Rita Serveert 2G (85) - Poona 3G (85) - Link: 
 https://www.badmintonvlaanderen.be/sport/teammatch.aspx?id=343A6D01-7373-4
 05B-9427-CB56B07F8CCD&match=492
DTSTART;TZID=Europe/Brussels:20211222T190000
DTEND;TZID=Europe/Brussels:20211222T190000
END:VEVENT
BEGIN:VEVENT
UID:343A6D01-7373-405B-9427-CB56B07F8CCD-11-491_awayreminder@26.badmintonne
 rs.net
DTSTAMP:20260420T055143Z
SUMMARY:Uitmatch bevestigd? (Huirtuits Dropke 3G (92) - Poona 3G (85))
DESCRIPTION:Je hebt 72 uur na aanvang om een uitmatch op Badmintonvlaandere
 n in te vullen. Match info: Huirtuits Dropke 3G (92) - Poona 3G (85) - Lin
 k: https://www.badmintonvlaanderen.be/sport/teammatch.aspx?id=343A6D01-737
 3-405B-9427-CB56B07F8CCD&match=491
DTSTART;TZID=Europe/Brussels:20220128T200000
DTEND;TZID=Europe/Brussels:20220128T200000
END:VEVENT
BEGIN:VEVENT
UID:343A6D01-7373-405B-9427-CB56B07F8CCD-11-488_awayreminder@26.badmintonne
 rs.net
DTSTAMP:20260420T055143Z
SUMMARY:Uitmatch bevestigd? (Opslag 2G (86) - Poona 3G (85))
DESCRIPTION:Je hebt 72 uur na aanvang om een uitmatch op Badmintonvlaandere
 n in te vullen. Match info: Opslag 2G (86) - Poona 3G (85) - Link: https:/
 /www.badmintonvlaanderen.be/sport/teammatch.aspx?id=343A6D01-7373-405B-942
 7-CB56B07F8CCD&match=488
DTSTART;TZID=Europe/Brussels:20220309T163000
DTEND;TZID=Europe/Brussels:20220309T163000
END:VEVENT
BEGIN:VEVENT
UID:343A6D01-7373-405B-9427-CB56B07F8CCD-11-490_awayreminder@26.badmintonne
 rs.net
DTSTAMP:20260420T055143Z
SUMMARY:Uitmatch bevestigd? (Klein Boom 4G (88) - Poona 3G (85))
DESCRIPTION:Je hebt 72 uur na aanvang om een uitmatch op Badmintonvlaandere
 n in te vullen. Match info: Klein Boom 4G (88) - Poona 3G (85) - Link: htt
 ps://www.badmintonvlaanderen.be/sport/teammatch.aspx?id=343A6D01-7373-405B
 -9427-CB56B07F8CCD&match=490
DTSTART;TZID=Europe/Brussels:20220505T200000
DTEND;TZID=Europe/Brussels:20220505T200000
END:VEVENT
END:VCALENDAR