BEGIN:VCALENDAR
VERSION:2.0
PRODID:spatie/icalendar-generator
NAME:brasschaat_5g_85_reminders
X-WR-CALNAME:brasschaat_5g_85_reminders
BEGIN:VTIMEZONE
TZID:Europe/Brussels
BEGIN:DAYLIGHT
DTSTART:20210328T010000
TZOFFSETFROM:+0100
TZOFFSETTO:+0200
END:DAYLIGHT
BEGIN:STANDARD
DTSTART:20211031T030000
TZOFFSETFROM:+0200
TZOFFSETTO:+0100
END:STANDARD
BEGIN:DAYLIGHT
DTSTART:20220327T010000
TZOFFSETFROM:+0100
TZOFFSETTO:+0200
END:DAYLIGHT
BEGIN:STANDARD
DTSTART:20221030T030000
TZOFFSETFROM:+0200
TZOFFSETTO:+0100
END:STANDARD
END:VTIMEZONE
BEGIN:VTIMEZONE
TZID:UTC
BEGIN:STANDARD
DTSTART:20250724T055144
TZOFFSETFROM:+0000
TZOFFSETTO:+0000
END:STANDARD
END:VTIMEZONE
BEGIN:VEVENT
UID:343A6D01-7373-405B-9427-CB56B07F8CCD-11-501_homereminder@31.badmintonne
 rs.net
DTSTAMP:20260420T055144Z
SUMMARY:Thuismatch ingevuld? (Brasschaat 5G (85) - Huirtuits Dropke 3G (92)
 )
DESCRIPTION:Je hebt 36 uur na aanvang om een thuismatch op Badmintonvlaande
 ren in te vullen. Match info: Brasschaat 5G (85) - Huirtuits Dropke 3G (92
 ) - Link: https://www.badmintonvlaanderen.be/sport/teammatch.aspx?id=343A6
 D01-7373-405B-9427-CB56B07F8CCD&match=501
DTSTART;TZID=Europe/Brussels:20210921T070000
DTEND;TZID=Europe/Brussels:20210921T070000
END:VEVENT
BEGIN:VEVENT
UID:343A6D01-7373-405B-9427-CB56B07F8CCD-11-513_homereminder@31.badmintonne
 rs.net
DTSTAMP:20260420T055144Z
SUMMARY:Thuismatch ingevuld? (Brasschaat 5G (85) - Spinshuttle 2G (96))
DESCRIPTION:Je hebt 36 uur na aanvang om een thuismatch op Badmintonvlaande
 ren in te vullen. Match info: Brasschaat 5G (85) - Spinshuttle 2G (96) - L
 ink: https://www.badmintonvlaanderen.be/sport/teammatch.aspx?id=343A6D01-7
 373-405B-9427-CB56B07F8CCD&match=513
DTSTART;TZID=Europe/Brussels:20211109T070000
DTEND;TZID=Europe/Brussels:20211109T070000
END:VEVENT
BEGIN:VEVENT
UID:343A6D01-7373-405B-9427-CB56B07F8CCD-11-489_homereminder@31.badmintonne
 rs.net
DTSTAMP:20260420T055144Z
SUMMARY:Thuismatch ingevuld? (Brasschaat 5G (85) - Poona 3G (85))
DESCRIPTION:Je hebt 36 uur na aanvang om een thuismatch op Badmintonvlaande
 ren in te vullen. Match info: Brasschaat 5G (85) - Poona 3G (85) - Link: h
 ttps://www.badmintonvlaanderen.be/sport/teammatch.aspx?id=343A6D01-7373-40
 5B-9427-CB56B07F8CCD&match=489
DTSTART;TZID=Europe/Brussels:20211201T080000
DTEND;TZID=Europe/Brussels:20211201T080000
END:VEVENT
BEGIN:VEVENT
UID:343A6D01-7373-405B-9427-CB56B07F8CCD-11-507_homereminder@31.badmintonne
 rs.net
DTSTAMP:20260420T055144Z
SUMMARY:Thuismatch ingevuld? (Brasschaat 5G (85) - Rita Serveert 2G (85))
DESCRIPTION:Je hebt 36 uur na aanvang om een thuismatch op Badmintonvlaande
 ren in te vullen. Match info: Brasschaat 5G (85) - Rita Serveert 2G (85) -
  Link: https://www.badmintonvlaanderen.be/sport/teammatch.aspx?id=343A6D01
 -7373-405B-9427-CB56B07F8CCD&match=507
DTSTART;TZID=Europe/Brussels:20220125T070000
DTEND;TZID=Europe/Brussels:20220125T070000
END:VEVENT
BEGIN:VEVENT
UID:343A6D01-7373-405B-9427-CB56B07F8CCD-11-476_homereminder@31.badmintonne
 rs.net
DTSTAMP:20260420T055144Z
SUMMARY:Thuismatch ingevuld? (Brasschaat 5G (85) - Opslag 2G (86))
DESCRIPTION:Je hebt 36 uur na aanvang om een thuismatch op Badmintonvlaande
 ren in te vullen. Match info: Brasschaat 5G (85) - Opslag 2G (86) - Link: 
 https://www.badmintonvlaanderen.be/sport/teammatch.aspx?id=343A6D01-7373-4
 05B-9427-CB56B07F8CCD&match=476
DTSTART;TZID=Europe/Brussels:20220222T070000
DTEND;TZID=Europe/Brussels:20220222T070000
END:VEVENT
BEGIN:VEVENT
UID:343A6D01-7373-405B-9427-CB56B07F8CCD-11-495_homereminder@31.badmintonne
 rs.net
DTSTAMP:20260420T055144Z
SUMMARY:Thuismatch ingevuld? (Brasschaat 5G (85) - Klein Boom 4G (88))
DESCRIPTION:Je hebt 36 uur na aanvang om een thuismatch op Badmintonvlaande
 ren in te vullen. Match info: Brasschaat 5G (85) - Klein Boom 4G (88) - Li
 nk: https://www.badmintonvlaanderen.be/sport/teammatch.aspx?id=343A6D01-73
 73-405B-9427-CB56B07F8CCD&match=495
DTSTART;TZID=Europe/Brussels:20220322T070000
DTEND;TZID=Europe/Brussels:20220322T070000
END:VEVENT
BEGIN:VEVENT
UID:343A6D01-7373-405B-9427-CB56B07F8CCD-11-482_awayreminder@31.badmintonne
 rs.net
DTSTAMP:20260420T055144Z
SUMMARY:Uitmatch bevestigd? (Opslag 2G (86) - Brasschaat 5G (85))
DESCRIPTION:Je hebt 72 uur na aanvang om een uitmatch op Badmintonvlaandere
 n in te vullen. Match info: Opslag 2G (86) - Brasschaat 5G (85) - Link: ht
 tps://www.badmintonvlaanderen.be/sport/teammatch.aspx?id=343A6D01-7373-405
 B-9427-CB56B07F8CCD&match=482
DTSTART;TZID=Europe/Brussels:20211006T191500
DTEND;TZID=Europe/Brussels:20211006T191500
END:VEVENT
BEGIN:VEVENT
UID:343A6D01-7373-405B-9427-CB56B07F8CCD-11-484_awayreminder@31.badmintonne
 rs.net
DTSTAMP:20260420T055144Z
SUMMARY:Uitmatch bevestigd? (Klein Boom 4G (88) - Brasschaat 5G (85))
DESCRIPTION:Je hebt 72 uur na aanvang om een uitmatch op Badmintonvlaandere
 n in te vullen. Match info: Klein Boom 4G (88) - Brasschaat 5G (85) - Link
 : https://www.badmintonvlaanderen.be/sport/teammatch.aspx?id=343A6D01-7373
 -405B-9427-CB56B07F8CCD&match=484
DTSTART;TZID=Europe/Brussels:20211201T190000
DTEND;TZID=Europe/Brussels:20211201T190000
END:VEVENT
BEGIN:VEVENT
UID:343A6D01-7373-405B-9427-CB56B07F8CCD-11-486_awayreminder@31.badmintonne
 rs.net
DTSTAMP:20260420T055144Z
SUMMARY:Uitmatch bevestigd? (Rita Serveert 2G (85) - Brasschaat 5G (85))
DESCRIPTION:Je hebt 72 uur na aanvang om een uitmatch op Badmintonvlaandere
 n in te vullen. Match info: Rita Serveert 2G (85) - Brasschaat 5G (85) - L
 ink: https://www.badmintonvlaanderen.be/sport/teammatch.aspx?id=343A6D01-7
 373-405B-9427-CB56B07F8CCD&match=486
DTSTART;TZID=Europe/Brussels:20211215T190000
DTEND;TZID=Europe/Brussels:20211215T190000
END:VEVENT
BEGIN:VEVENT
UID:343A6D01-7373-405B-9427-CB56B07F8CCD-11-487_awayreminder@31.badmintonne
 rs.net
DTSTAMP:20260420T055144Z
SUMMARY:Uitmatch bevestigd? (Spinshuttle 2G (96) - Brasschaat 5G (85))
DESCRIPTION:Je hebt 72 uur na aanvang om een uitmatch op Badmintonvlaandere
 n in te vullen. Match info: Spinshuttle 2G (96) - Brasschaat 5G (85) - Lin
 k: https://www.badmintonvlaanderen.be/sport/teammatch.aspx?id=343A6D01-737
 3-405B-9427-CB56B07F8CCD&match=487
DTSTART;TZID=Europe/Brussels:20220121T200000
DTEND;TZID=Europe/Brussels:20220121T200000
END:VEVENT
BEGIN:VEVENT
UID:343A6D01-7373-405B-9427-CB56B07F8CCD-11-485_awayreminder@31.badmintonne
 rs.net
DTSTAMP:20260420T055144Z
SUMMARY:Uitmatch bevestigd? (Huirtuits Dropke 3G (92) - Brasschaat 5G (85))
DESCRIPTION:Je hebt 72 uur na aanvang om een uitmatch op Badmintonvlaandere
 n in te vullen. Match info: Huirtuits Dropke 3G (92) - Brasschaat 5G (85) 
 - Link: https://www.badmintonvlaanderen.be/sport/teammatch.aspx?id=343A6D0
 1-7373-405B-9427-CB56B07F8CCD&match=485
DTSTART;TZID=Europe/Brussels:20220311T200000
DTEND;TZID=Europe/Brussels:20220311T200000
END:VEVENT
BEGIN:VEVENT
UID:343A6D01-7373-405B-9427-CB56B07F8CCD-11-483_awayreminder@31.badmintonne
 rs.net
DTSTAMP:20260420T055144Z
SUMMARY:Uitmatch bevestigd? (Poona 3G (85) - Brasschaat 5G (85))
DESCRIPTION:Je hebt 72 uur na aanvang om een uitmatch op Badmintonvlaandere
 n in te vullen. Match info: Poona 3G (85) - Brasschaat 5G (85) - Link: htt
 ps://www.badmintonvlaanderen.be/sport/teammatch.aspx?id=343A6D01-7373-405B
 -9427-CB56B07F8CCD&match=483
DTSTART;TZID=Europe/Brussels:20220428T200000
DTEND;TZID=Europe/Brussels:20220428T200000
END:VEVENT
END:VCALENDAR