BEGIN:VCALENDAR
VERSION:2.0
PRODID:spatie/icalendar-generator
NAME:rita_serveert_2g_85_reminders
X-WR-CALNAME:rita_serveert_2g_85_reminders
BEGIN:VTIMEZONE
TZID:Europe/Brussels
BEGIN:DAYLIGHT
DTSTART:20210328T010000
TZOFFSETFROM:+0100
TZOFFSETTO:+0200
END:DAYLIGHT
BEGIN:STANDARD
DTSTART:20211031T030000
TZOFFSETFROM:+0200
TZOFFSETTO:+0100
END:STANDARD
BEGIN:DAYLIGHT
DTSTART:20220327T010000
TZOFFSETFROM:+0100
TZOFFSETTO:+0200
END:DAYLIGHT
END:VTIMEZONE
BEGIN:VTIMEZONE
TZID:UTC
BEGIN:STANDARD
DTSTART:20250724T055146
TZOFFSETFROM:+0000
TZOFFSETTO:+0000
END:STANDARD
END:VTIMEZONE
BEGIN:VEVENT
UID:343A6D01-7373-405B-9427-CB56B07F8CCD-11-498_homereminder@59.badmintonne
 rs.net
DTSTAMP:20260420T055146Z
SUMMARY:Thuismatch ingevuld? (Rita Serveert 2G (85) - Klein Boom 4G (88))
DESCRIPTION:Je hebt 36 uur na aanvang om een thuismatch op Badmintonvlaande
 ren in te vullen. Match info: Rita Serveert 2G (85) - Klein Boom 4G (88) -
  Link: https://www.badmintonvlaanderen.be/sport/teammatch.aspx?id=343A6D01
 -7373-405B-9427-CB56B07F8CCD&match=498
DTSTART;TZID=Europe/Brussels:20211005T070000
DTEND;TZID=Europe/Brussels:20211005T070000
END:VEVENT
BEGIN:VEVENT
UID:343A6D01-7373-405B-9427-CB56B07F8CCD-11-517_homereminder@59.badmintonne
 rs.net
DTSTAMP:20260420T055146Z
SUMMARY:Thuismatch ingevuld? (Rita Serveert 2G (85) - Spinshuttle 2G (96))
DESCRIPTION:Je hebt 36 uur na aanvang om een thuismatch op Badmintonvlaande
 ren in te vullen. Match info: Rita Serveert 2G (85) - Spinshuttle 2G (96) 
 - Link: https://www.badmintonvlaanderen.be/sport/teammatch.aspx?id=343A6D0
 1-7373-405B-9427-CB56B07F8CCD&match=517
DTSTART;TZID=Europe/Brussels:20211130T070000
DTEND;TZID=Europe/Brussels:20211130T070000
END:VEVENT
BEGIN:VEVENT
UID:343A6D01-7373-405B-9427-CB56B07F8CCD-11-486_homereminder@59.badmintonne
 rs.net
DTSTAMP:20260420T055146Z
SUMMARY:Thuismatch ingevuld? (Rita Serveert 2G (85) - Brasschaat 5G (85))
DESCRIPTION:Je hebt 36 uur na aanvang om een thuismatch op Badmintonvlaande
 ren in te vullen. Match info: Rita Serveert 2G (85) - Brasschaat 5G (85) -
  Link: https://www.badmintonvlaanderen.be/sport/teammatch.aspx?id=343A6D01
 -7373-405B-9427-CB56B07F8CCD&match=486
DTSTART;TZID=Europe/Brussels:20211214T070000
DTEND;TZID=Europe/Brussels:20211214T070000
END:VEVENT
BEGIN:VEVENT
UID:343A6D01-7373-405B-9427-CB56B07F8CCD-11-492_homereminder@59.badmintonne
 rs.net
DTSTAMP:20260420T055146Z
SUMMARY:Thuismatch ingevuld? (Rita Serveert 2G (85) - Poona 3G (85))
DESCRIPTION:Je hebt 36 uur na aanvang om een thuismatch op Badmintonvlaande
 ren in te vullen. Match info: Rita Serveert 2G (85) - Poona 3G (85) - Link
 : https://www.badmintonvlaanderen.be/sport/teammatch.aspx?id=343A6D01-7373
 -405B-9427-CB56B07F8CCD&match=492
DTSTART;TZID=Europe/Brussels:20211221T070000
DTEND;TZID=Europe/Brussels:20211221T070000
END:VEVENT
BEGIN:VEVENT
UID:343A6D01-7373-405B-9427-CB56B07F8CCD-11-504_homereminder@59.badmintonne
 rs.net
DTSTAMP:20260420T055146Z
SUMMARY:Thuismatch ingevuld? (Rita Serveert 2G (85) - Huirtuits Dropke 3G (
 92))
DESCRIPTION:Je hebt 36 uur na aanvang om een thuismatch op Badmintonvlaande
 ren in te vullen. Match info: Rita Serveert 2G (85) - Huirtuits Dropke 3G 
 (92) - Link: https://www.badmintonvlaanderen.be/sport/teammatch.aspx?id=34
 3A6D01-7373-405B-9427-CB56B07F8CCD&match=504
DTSTART;TZID=Europe/Brussels:20220208T070000
DTEND;TZID=Europe/Brussels:20220208T070000
END:VEVENT
BEGIN:VEVENT
UID:343A6D01-7373-405B-9427-CB56B07F8CCD-11-480_homereminder@59.badmintonne
 rs.net
DTSTAMP:20260420T055146Z
SUMMARY:Thuismatch ingevuld? (Rita Serveert 2G (85) - Opslag 2G (86))
DESCRIPTION:Je hebt 36 uur na aanvang om een thuismatch op Badmintonvlaande
 ren in te vullen. Match info: Rita Serveert 2G (85) - Opslag 2G (86) - Lin
 k: https://www.badmintonvlaanderen.be/sport/teammatch.aspx?id=343A6D01-737
 3-405B-9427-CB56B07F8CCD&match=480
DTSTART;TZID=Europe/Brussels:20220405T070000
DTEND;TZID=Europe/Brussels:20220405T070000
END:VEVENT
BEGIN:VEVENT
UID:343A6D01-7373-405B-9427-CB56B07F8CCD-11-510_awayreminder@59.badmintonne
 rs.net
DTSTAMP:20260420T055146Z
SUMMARY:Uitmatch bevestigd? (Huirtuits Dropke 3G (92) - Rita Serveert 2G (8
 5))
DESCRIPTION:Je hebt 72 uur na aanvang om een uitmatch op Badmintonvlaandere
 n in te vullen. Match info: Huirtuits Dropke 3G (92) - Rita Serveert 2G (8
 5) - Link: https://www.badmintonvlaanderen.be/sport/teammatch.aspx?id=343A
 6D01-7373-405B-9427-CB56B07F8CCD&match=510
DTSTART;TZID=Europe/Brussels:20211029T200000
DTEND;TZID=Europe/Brussels:20211029T200000
END:VEVENT
BEGIN:VEVENT
UID:343A6D01-7373-405B-9427-CB56B07F8CCD-11-506_awayreminder@59.badmintonne
 rs.net
DTSTAMP:20260420T055146Z
SUMMARY:Uitmatch bevestigd? (Opslag 2G (86) - Rita Serveert 2G (85))
DESCRIPTION:Je hebt 72 uur na aanvang om een uitmatch op Badmintonvlaandere
 n in te vullen. Match info: Opslag 2G (86) - Rita Serveert 2G (85) - Link:
  https://www.badmintonvlaanderen.be/sport/teammatch.aspx?id=343A6D01-7373-
 405B-9427-CB56B07F8CCD&match=506
DTSTART;TZID=Europe/Brussels:20211103T191500
DTEND;TZID=Europe/Brussels:20211103T191500
END:VEVENT
BEGIN:VEVENT
UID:343A6D01-7373-405B-9427-CB56B07F8CCD-11-507_awayreminder@59.badmintonne
 rs.net
DTSTAMP:20260420T055146Z
SUMMARY:Uitmatch bevestigd? (Brasschaat 5G (85) - Rita Serveert 2G (85))
DESCRIPTION:Je hebt 72 uur na aanvang om een uitmatch op Badmintonvlaandere
 n in te vullen. Match info: Brasschaat 5G (85) - Rita Serveert 2G (85) - L
 ink: https://www.badmintonvlaanderen.be/sport/teammatch.aspx?id=343A6D01-7
 373-405B-9427-CB56B07F8CCD&match=507
DTSTART;TZID=Europe/Brussels:20220126T190000
DTEND;TZID=Europe/Brussels:20220126T190000
END:VEVENT
BEGIN:VEVENT
UID:343A6D01-7373-405B-9427-CB56B07F8CCD-11-509_awayreminder@59.badmintonne
 rs.net
DTSTAMP:20260420T055146Z
SUMMARY:Uitmatch bevestigd? (Klein Boom 4G (88) - Rita Serveert 2G (85))
DESCRIPTION:Je hebt 72 uur na aanvang om een uitmatch op Badmintonvlaandere
 n in te vullen. Match info: Klein Boom 4G (88) - Rita Serveert 2G (85) - L
 ink: https://www.badmintonvlaanderen.be/sport/teammatch.aspx?id=343A6D01-7
 373-405B-9427-CB56B07F8CCD&match=509
DTSTART;TZID=Europe/Brussels:20220223T190000
DTEND;TZID=Europe/Brussels:20220223T190000
END:VEVENT
BEGIN:VEVENT
UID:343A6D01-7373-405B-9427-CB56B07F8CCD-11-508_awayreminder@59.badmintonne
 rs.net
DTSTAMP:20260420T055146Z
SUMMARY:Uitmatch bevestigd? (Poona 3G (85) - Rita Serveert 2G (85))
DESCRIPTION:Je hebt 72 uur na aanvang om een uitmatch op Badmintonvlaandere
 n in te vullen. Match info: Poona 3G (85) - Rita Serveert 2G (85) - Link: 
 https://www.badmintonvlaanderen.be/sport/teammatch.aspx?id=343A6D01-7373-4
 05B-9427-CB56B07F8CCD&match=508
DTSTART;TZID=Europe/Brussels:20220224T200000
DTEND;TZID=Europe/Brussels:20220224T200000
END:VEVENT
BEGIN:VEVENT
UID:343A6D01-7373-405B-9427-CB56B07F8CCD-11-511_awayreminder@59.badmintonne
 rs.net
DTSTAMP:20260420T055146Z
SUMMARY:Uitmatch bevestigd? (Spinshuttle 2G (96) - Rita Serveert 2G (85))
DESCRIPTION:Je hebt 72 uur na aanvang om een uitmatch op Badmintonvlaandere
 n in te vullen. Match info: Spinshuttle 2G (96) - Rita Serveert 2G (85) - 
 Link: https://www.badmintonvlaanderen.be/sport/teammatch.aspx?id=343A6D01-
 7373-405B-9427-CB56B07F8CCD&match=511
DTSTART;TZID=Europe/Brussels:20220318T200000
DTEND;TZID=Europe/Brussels:20220318T200000
END:VEVENT
END:VCALENDAR