BEGIN:VCALENDAR
VERSION:2.0
PRODID:spatie/icalendar-generator
NAME:amateurs_1g_100_reminders
X-WR-CALNAME:amateurs_1g_100_reminders
BEGIN:VTIMEZONE
TZID:Europe/Brussels
BEGIN:DAYLIGHT
DTSTART:20210328T010000
TZOFFSETFROM:+0100
TZOFFSETTO:+0200
END:DAYLIGHT
BEGIN:STANDARD
DTSTART:20211031T030000
TZOFFSETFROM:+0200
TZOFFSETTO:+0100
END:STANDARD
BEGIN:DAYLIGHT
DTSTART:20220327T010000
TZOFFSETFROM:+0100
TZOFFSETTO:+0200
END:DAYLIGHT
END:VTIMEZONE
BEGIN:VTIMEZONE
TZID:UTC
BEGIN:STANDARD
DTSTART:20250724T055147
TZOFFSETFROM:+0000
TZOFFSETTO:+0000
END:STANDARD
END:VTIMEZONE
BEGIN:VEVENT
UID:343A6D01-7373-405B-9427-CB56B07F8CCD-12-540_homereminder@112.badmintonn
 ers.net
DTSTAMP:20260420T055147Z
SUMMARY:Thuismatch ingevuld? (Amateurs 1G (100) - Merksplas 1G (88))
DESCRIPTION:Je hebt 36 uur na aanvang om een thuismatch op Badmintonvlaande
 ren in te vullen. Match info: Amateurs 1G (100) - Merksplas 1G (88) - Link
 : https://www.badmintonvlaanderen.be/sport/teammatch.aspx?id=343A6D01-7373
 -405B-9427-CB56B07F8CCD&match=540
DTSTART;TZID=Europe/Brussels:20211016T090000
DTEND;TZID=Europe/Brussels:20211016T090000
END:VEVENT
BEGIN:VEVENT
UID:343A6D01-7373-405B-9427-CB56B07F8CCD-12-559_homereminder@112.badmintonn
 ers.net
DTSTAMP:20260420T055147Z
SUMMARY:Thuismatch ingevuld? (Amateurs 1G (100) - Klein Boom 5G (95))
DESCRIPTION:Je hebt 36 uur na aanvang om een thuismatch op Badmintonvlaande
 ren in te vullen. Match info: Amateurs 1G (100) - Klein Boom 5G (95) - Lin
 k: https://www.badmintonvlaanderen.be/sport/teammatch.aspx?id=343A6D01-737
 3-405B-9427-CB56B07F8CCD&match=559
DTSTART;TZID=Europe/Brussels:20211030T090000
DTEND;TZID=Europe/Brussels:20211030T090000
END:VEVENT
BEGIN:VEVENT
UID:343A6D01-7373-405B-9427-CB56B07F8CCD-12-528_homereminder@112.badmintonn
 ers.net
DTSTAMP:20260420T055147Z
SUMMARY:Thuismatch ingevuld? (Amateurs 1G (100) - Molse 3G (90))
DESCRIPTION:Je hebt 36 uur na aanvang om een thuismatch op Badmintonvlaande
 ren in te vullen. Match info: Amateurs 1G (100) - Molse 3G (90) - Link: ht
 tps://www.badmintonvlaanderen.be/sport/teammatch.aspx?id=343A6D01-7373-405
 B-9427-CB56B07F8CCD&match=528
DTSTART;TZID=Europe/Brussels:20211127T090000
DTEND;TZID=Europe/Brussels:20211127T090000
END:VEVENT
BEGIN:VEVENT
UID:343A6D01-7373-405B-9427-CB56B07F8CCD-12-534_homereminder@112.badmintonn
 ers.net
DTSTAMP:20260420T055147Z
SUMMARY:Thuismatch ingevuld? (Amateurs 1G (100) - Herentals 4G (100))
DESCRIPTION:Je hebt 36 uur na aanvang om een thuismatch op Badmintonvlaande
 ren in te vullen. Match info: Amateurs 1G (100) - Herentals 4G (100) - Lin
 k: https://www.badmintonvlaanderen.be/sport/teammatch.aspx?id=343A6D01-737
 3-405B-9427-CB56B07F8CCD&match=534
DTSTART;TZID=Europe/Brussels:20220205T090000
DTEND;TZID=Europe/Brussels:20220205T090000
END:VEVENT
BEGIN:VEVENT
UID:343A6D01-7373-405B-9427-CB56B07F8CCD-12-565_homereminder@112.badmintonn
 ers.net
DTSTAMP:20260420T055147Z
SUMMARY:Thuismatch ingevuld? (Amateurs 1G (100) - Duffel 1G (106))
DESCRIPTION:Je hebt 36 uur na aanvang om een thuismatch op Badmintonvlaande
 ren in te vullen. Match info: Amateurs 1G (100) - Duffel 1G (106) - Link: 
 https://www.badmintonvlaanderen.be/sport/teammatch.aspx?id=343A6D01-7373-4
 05B-9427-CB56B07F8CCD&match=565
DTSTART;TZID=Europe/Brussels:20220219T090000
DTEND;TZID=Europe/Brussels:20220219T090000
END:VEVENT
BEGIN:VEVENT
UID:343A6D01-7373-405B-9427-CB56B07F8CCD-12-546_homereminder@112.badmintonn
 ers.net
DTSTAMP:20260420T055147Z
SUMMARY:Thuismatch ingevuld? (Amateurs 1G (100) - De Nekker 3G (91))
DESCRIPTION:Je hebt 36 uur na aanvang om een thuismatch op Badmintonvlaande
 ren in te vullen. Match info: Amateurs 1G (100) - De Nekker 3G (91) - Link
 : https://www.badmintonvlaanderen.be/sport/teammatch.aspx?id=343A6D01-7373
 -405B-9427-CB56B07F8CCD&match=546
DTSTART;TZID=Europe/Brussels:20220319T090000
DTEND;TZID=Europe/Brussels:20220319T090000
END:VEVENT
BEGIN:VEVENT
UID:343A6D01-7373-405B-9427-CB56B07F8CCD-12-552_awayreminder@112.badmintonn
 ers.net
DTSTAMP:20260420T055147Z
SUMMARY:Uitmatch bevestigd? (De Nekker 3G (91) - Amateurs 1G (100))
DESCRIPTION:Je hebt 72 uur na aanvang om een uitmatch op Badmintonvlaandere
 n in te vullen. Match info: De Nekker 3G (91) - Amateurs 1G (100) - Link: 
 https://www.badmintonvlaanderen.be/sport/teammatch.aspx?id=343A6D01-7373-4
 05B-9427-CB56B07F8CCD&match=552
DTSTART;TZID=Europe/Brussels:20210918T203000
DTEND;TZID=Europe/Brussels:20210918T203000
END:VEVENT
BEGIN:VEVENT
UID:343A6D01-7373-405B-9427-CB56B07F8CCD-12-554_awayreminder@112.badmintonn
 ers.net
DTSTAMP:20260420T055147Z
SUMMARY:Uitmatch bevestigd? (Duffel 1G (106) - Amateurs 1G (100))
DESCRIPTION:Je hebt 72 uur na aanvang om een uitmatch op Badmintonvlaandere
 n in te vullen. Match info: Duffel 1G (106) - Amateurs 1G (100) - Link: ht
 tps://www.badmintonvlaanderen.be/sport/teammatch.aspx?id=343A6D01-7373-405
 B-9427-CB56B07F8CCD&match=554
DTSTART;TZID=Europe/Brussels:20211006T200000
DTEND;TZID=Europe/Brussels:20211006T200000
END:VEVENT
BEGIN:VEVENT
UID:343A6D01-7373-405B-9427-CB56B07F8CCD-12-550_awayreminder@112.badmintonn
 ers.net
DTSTAMP:20260420T055147Z
SUMMARY:Uitmatch bevestigd? (Herentals 4G (100) - Amateurs 1G (100))
DESCRIPTION:Je hebt 72 uur na aanvang om een uitmatch op Badmintonvlaandere
 n in te vullen. Match info: Herentals 4G (100) - Amateurs 1G (100) - Link:
  https://www.badmintonvlaanderen.be/sport/teammatch.aspx?id=343A6D01-7373-
 405B-9427-CB56B07F8CCD&match=550
DTSTART;TZID=Europe/Brussels:20211209T210000
DTEND;TZID=Europe/Brussels:20211209T210000
END:VEVENT
BEGIN:VEVENT
UID:343A6D01-7373-405B-9427-CB56B07F8CCD-12-549_awayreminder@112.badmintonn
 ers.net
DTSTAMP:20260420T055147Z
SUMMARY:Uitmatch bevestigd? (Molse 3G (90) - Amateurs 1G (100))
DESCRIPTION:Je hebt 72 uur na aanvang om een uitmatch op Badmintonvlaandere
 n in te vullen. Match info: Molse 3G (90) - Amateurs 1G (100) - Link: http
 s://www.badmintonvlaanderen.be/sport/teammatch.aspx?id=343A6D01-7373-405B-
 9427-CB56B07F8CCD&match=549
DTSTART;TZID=Europe/Brussels:20220316T190000
DTEND;TZID=Europe/Brussels:20220316T190000
END:VEVENT
BEGIN:VEVENT
UID:343A6D01-7373-405B-9427-CB56B07F8CCD-12-551_awayreminder@112.badmintonn
 ers.net
DTSTAMP:20260420T055147Z
SUMMARY:Uitmatch bevestigd? (Merksplas 1G (88) - Amateurs 1G (100))
DESCRIPTION:Je hebt 72 uur na aanvang om een uitmatch op Badmintonvlaandere
 n in te vullen. Match info: Merksplas 1G (88) - Amateurs 1G (100) - Link: 
 https://www.badmintonvlaanderen.be/sport/teammatch.aspx?id=343A6D01-7373-4
 05B-9427-CB56B07F8CCD&match=551
DTSTART;TZID=Europe/Brussels:20220323T100000
DTEND;TZID=Europe/Brussels:20220323T100000
END:VEVENT
BEGIN:VEVENT
UID:343A6D01-7373-405B-9427-CB56B07F8CCD-12-553_awayreminder@112.badmintonn
 ers.net
DTSTAMP:20260420T055147Z
SUMMARY:Uitmatch bevestigd? (Klein Boom 5G (95) - Amateurs 1G (100))
DESCRIPTION:Je hebt 72 uur na aanvang om een uitmatch op Badmintonvlaandere
 n in te vullen. Match info: Klein Boom 5G (95) - Amateurs 1G (100) - Link:
  https://www.badmintonvlaanderen.be/sport/teammatch.aspx?id=343A6D01-7373-
 405B-9427-CB56B07F8CCD&match=553
DTSTART;TZID=Europe/Brussels:20220330T190000
DTEND;TZID=Europe/Brussels:20220330T190000
END:VEVENT
END:VCALENDAR