BEGIN:VCALENDAR
VERSION:2.0
PRODID:spatie/icalendar-generator
NAME:molse_3g_90_reminders
X-WR-CALNAME:molse_3g_90_reminders
BEGIN:VTIMEZONE
TZID:Europe/Brussels
BEGIN:DAYLIGHT
DTSTART:20210328T010000
TZOFFSETFROM:+0100
TZOFFSETTO:+0200
END:DAYLIGHT
BEGIN:STANDARD
DTSTART:20211031T030000
TZOFFSETFROM:+0200
TZOFFSETTO:+0100
END:STANDARD
BEGIN:DAYLIGHT
DTSTART:20220327T010000
TZOFFSETFROM:+0100
TZOFFSETTO:+0200
END:DAYLIGHT
END:VTIMEZONE
BEGIN:VTIMEZONE
TZID:UTC
BEGIN:STANDARD
DTSTART:20250724T073346
TZOFFSETFROM:+0000
TZOFFSETTO:+0000
END:STANDARD
END:VTIMEZONE
BEGIN:VEVENT
UID:343A6D01-7373-405B-9427-CB56B07F8CCD-12-531_homereminder@125.badmintonn
 ers.net
DTSTAMP:20260420T073346Z
SUMMARY:Thuismatch ingevuld? (Molse 3G (90) - Herentals 4G (100))
DESCRIPTION:Je hebt 36 uur na aanvang om een thuismatch op Badmintonvlaande
 ren in te vullen. Match info: Molse 3G (90) - Herentals 4G (100) - Link: h
 ttps://www.badmintonvlaanderen.be/sport/teammatch.aspx?id=343A6D01-7373-40
 5B-9427-CB56B07F8CCD&match=531
DTSTART;TZID=Europe/Brussels:20211019T070000
DTEND;TZID=Europe/Brussels:20211019T070000
END:VEVENT
BEGIN:VEVENT
UID:343A6D01-7373-405B-9427-CB56B07F8CCD-12-543_homereminder@125.badmintonn
 ers.net
DTSTAMP:20260420T073346Z
SUMMARY:Thuismatch ingevuld? (Molse 3G (90) - De Nekker 3G (91))
DESCRIPTION:Je hebt 36 uur na aanvang om een thuismatch op Badmintonvlaande
 ren in te vullen. Match info: Molse 3G (90) - De Nekker 3G (91) - Link: ht
 tps://www.badmintonvlaanderen.be/sport/teammatch.aspx?id=343A6D01-7373-405
 B-9427-CB56B07F8CCD&match=543
DTSTART;TZID=Europe/Brussels:20211109T070000
DTEND;TZID=Europe/Brussels:20211109T070000
END:VEVENT
BEGIN:VEVENT
UID:343A6D01-7373-405B-9427-CB56B07F8CCD-12-555_homereminder@125.badmintonn
 ers.net
DTSTAMP:20260420T073346Z
SUMMARY:Thuismatch ingevuld? (Molse 3G (90) - Klein Boom 5G (95))
DESCRIPTION:Je hebt 36 uur na aanvang om een thuismatch op Badmintonvlaande
 ren in te vullen. Match info: Molse 3G (90) - Klein Boom 5G (95) - Link: h
 ttps://www.badmintonvlaanderen.be/sport/teammatch.aspx?id=343A6D01-7373-40
 5B-9427-CB56B07F8CCD&match=555
DTSTART;TZID=Europe/Brussels:20211214T070000
DTEND;TZID=Europe/Brussels:20211214T070000
END:VEVENT
BEGIN:VEVENT
UID:343A6D01-7373-405B-9427-CB56B07F8CCD-12-549_homereminder@125.badmintonn
 ers.net
DTSTAMP:20260420T073346Z
SUMMARY:Thuismatch ingevuld? (Molse 3G (90) - Amateurs 1G (100))
DESCRIPTION:Je hebt 36 uur na aanvang om een thuismatch op Badmintonvlaande
 ren in te vullen. Match info: Molse 3G (90) - Amateurs 1G (100) - Link: ht
 tps://www.badmintonvlaanderen.be/sport/teammatch.aspx?id=343A6D01-7373-405
 B-9427-CB56B07F8CCD&match=549
DTSTART;TZID=Europe/Brussels:20220315T070000
DTEND;TZID=Europe/Brussels:20220315T070000
END:VEVENT
BEGIN:VEVENT
UID:343A6D01-7373-405B-9427-CB56B07F8CCD-12-561_homereminder@125.badmintonn
 ers.net
DTSTAMP:20260420T073346Z
SUMMARY:Thuismatch ingevuld? (Molse 3G (90) - Duffel 1G (106))
DESCRIPTION:Je hebt 36 uur na aanvang om een thuismatch op Badmintonvlaande
 ren in te vullen. Match info: Molse 3G (90) - Duffel 1G (106) - Link: http
 s://www.badmintonvlaanderen.be/sport/teammatch.aspx?id=343A6D01-7373-405B-
 9427-CB56B07F8CCD&match=561
DTSTART;TZID=Europe/Brussels:20220322T070000
DTEND;TZID=Europe/Brussels:20220322T070000
END:VEVENT
BEGIN:VEVENT
UID:343A6D01-7373-405B-9427-CB56B07F8CCD-12-537_homereminder@125.badmintonn
 ers.net
DTSTAMP:20260420T073346Z
SUMMARY:Thuismatch ingevuld? (Molse 3G (90) - Merksplas 1G (88))
DESCRIPTION:Je hebt 36 uur na aanvang om een thuismatch op Badmintonvlaande
 ren in te vullen. Match info: Molse 3G (90) - Merksplas 1G (88) - Link: ht
 tps://www.badmintonvlaanderen.be/sport/teammatch.aspx?id=343A6D01-7373-405
 B-9427-CB56B07F8CCD&match=537
DTSTART;TZID=Europe/Brussels:20220329T070000
DTEND;TZID=Europe/Brussels:20220329T070000
END:VEVENT
BEGIN:VEVENT
UID:343A6D01-7373-405B-9427-CB56B07F8CCD-12-526_awayreminder@125.badmintonn
 ers.net
DTSTAMP:20260420T073346Z
SUMMARY:Uitmatch bevestigd? (Merksplas 1G (88) - Molse 3G (90))
DESCRIPTION:Je hebt 72 uur na aanvang om een uitmatch op Badmintonvlaandere
 n in te vullen. Match info: Merksplas 1G (88) - Molse 3G (90) - Link: http
 s://www.badmintonvlaanderen.be/sport/teammatch.aspx?id=343A6D01-7373-405B-
 9427-CB56B07F8CCD&match=526
DTSTART;TZID=Europe/Brussels:20211103T100000
DTEND;TZID=Europe/Brussels:20211103T100000
END:VEVENT
BEGIN:VEVENT
UID:343A6D01-7373-405B-9427-CB56B07F8CCD-12-530_awayreminder@125.badmintonn
 ers.net
DTSTAMP:20260420T073346Z
SUMMARY:Uitmatch bevestigd? (Duffel 1G (106) - Molse 3G (90))
DESCRIPTION:Je hebt 72 uur na aanvang om een uitmatch op Badmintonvlaandere
 n in te vullen. Match info: Duffel 1G (106) - Molse 3G (90) - Link: https:
 //www.badmintonvlaanderen.be/sport/teammatch.aspx?id=343A6D01-7373-405B-94
 27-CB56B07F8CCD&match=530
DTSTART;TZID=Europe/Brussels:20211117T200000
DTEND;TZID=Europe/Brussels:20211117T200000
END:VEVENT
BEGIN:VEVENT
UID:343A6D01-7373-405B-9427-CB56B07F8CCD-12-528_awayreminder@125.badmintonn
 ers.net
DTSTAMP:20260420T073346Z
SUMMARY:Uitmatch bevestigd? (Amateurs 1G (100) - Molse 3G (90))
DESCRIPTION:Je hebt 72 uur na aanvang om een uitmatch op Badmintonvlaandere
 n in te vullen. Match info: Amateurs 1G (100) - Molse 3G (90) - Link: http
 s://www.badmintonvlaanderen.be/sport/teammatch.aspx?id=343A6D01-7373-405B-
 9427-CB56B07F8CCD&match=528
DTSTART;TZID=Europe/Brussels:20211128T210000
DTEND;TZID=Europe/Brussels:20211128T210000
END:VEVENT
BEGIN:VEVENT
UID:343A6D01-7373-405B-9427-CB56B07F8CCD-12-525_awayreminder@125.badmintonn
 ers.net
DTSTAMP:20260420T073346Z
SUMMARY:Uitmatch bevestigd? (Herentals 4G (100) - Molse 3G (90))
DESCRIPTION:Je hebt 72 uur na aanvang om een uitmatch op Badmintonvlaandere
 n in te vullen. Match info: Herentals 4G (100) - Molse 3G (90) - Link: htt
 ps://www.badmintonvlaanderen.be/sport/teammatch.aspx?id=343A6D01-7373-405B
 -9427-CB56B07F8CCD&match=525
DTSTART;TZID=Europe/Brussels:20220203T210000
DTEND;TZID=Europe/Brussels:20220203T210000
END:VEVENT
BEGIN:VEVENT
UID:343A6D01-7373-405B-9427-CB56B07F8CCD-12-529_awayreminder@125.badmintonn
 ers.net
DTSTAMP:20260420T073346Z
SUMMARY:Uitmatch bevestigd? (Klein Boom 5G (95) - Molse 3G (90))
DESCRIPTION:Je hebt 72 uur na aanvang om een uitmatch op Badmintonvlaandere
 n in te vullen. Match info: Klein Boom 5G (95) - Molse 3G (90) - Link: htt
 ps://www.badmintonvlaanderen.be/sport/teammatch.aspx?id=343A6D01-7373-405B
 -9427-CB56B07F8CCD&match=529
DTSTART;TZID=Europe/Brussels:20220209T190000
DTEND;TZID=Europe/Brussels:20220209T190000
END:VEVENT
BEGIN:VEVENT
UID:343A6D01-7373-405B-9427-CB56B07F8CCD-12-527_awayreminder@125.badmintonn
 ers.net
DTSTAMP:20260420T073346Z
SUMMARY:Uitmatch bevestigd? (De Nekker 3G (91) - Molse 3G (90))
DESCRIPTION:Je hebt 72 uur na aanvang om een uitmatch op Badmintonvlaandere
 n in te vullen. Match info: De Nekker 3G (91) - Molse 3G (90) - Link: http
 s://www.badmintonvlaanderen.be/sport/teammatch.aspx?id=343A6D01-7373-405B-
 9427-CB56B07F8CCD&match=527
DTSTART;TZID=Europe/Brussels:20220219T203000
DTEND;TZID=Europe/Brussels:20220219T203000
END:VEVENT
END:VCALENDAR