BEGIN:VCALENDAR
VERSION:2.0
PRODID:spatie/icalendar-generator
NAME:klein_boom_5g_95_reminders
X-WR-CALNAME:klein_boom_5g_95_reminders
BEGIN:VTIMEZONE
TZID:Europe/Brussels
BEGIN:DAYLIGHT
DTSTART:20210328T010000
TZOFFSETFROM:+0100
TZOFFSETTO:+0200
END:DAYLIGHT
BEGIN:STANDARD
DTSTART:20211031T030000
TZOFFSETFROM:+0200
TZOFFSETTO:+0100
END:STANDARD
BEGIN:DAYLIGHT
DTSTART:20220327T010000
TZOFFSETFROM:+0100
TZOFFSETTO:+0200
END:DAYLIGHT
END:VTIMEZONE
BEGIN:VTIMEZONE
TZID:UTC
BEGIN:STANDARD
DTSTART:20250724T055139
TZOFFSETFROM:+0000
TZOFFSETTO:+0000
END:STANDARD
END:VTIMEZONE
BEGIN:VEVENT
UID:343A6D01-7373-405B-9427-CB56B07F8CCD-12-535_homereminder@141.badmintonn
 ers.net
DTSTAMP:20260420T055139Z
SUMMARY:Thuismatch ingevuld? (Klein Boom 5G (95) - Herentals 4G (100))
DESCRIPTION:Je hebt 36 uur na aanvang om een thuismatch op Badmintonvlaande
 ren in te vullen. Match info: Klein Boom 5G (95) - Herentals 4G (100) - Li
 nk: https://www.badmintonvlaanderen.be/sport/teammatch.aspx?id=343A6D01-73
 73-405B-9427-CB56B07F8CCD&match=535
DTSTART;TZID=Europe/Brussels:20211020T080000
DTEND;TZID=Europe/Brussels:20211020T080000
END:VEVENT
BEGIN:VEVENT
UID:343A6D01-7373-405B-9427-CB56B07F8CCD-12-566_homereminder@141.badmintonn
 ers.net
DTSTAMP:20260420T055139Z
SUMMARY:Thuismatch ingevuld? (Klein Boom 5G (95) - Duffel 1G (106))
DESCRIPTION:Je hebt 36 uur na aanvang om een thuismatch op Badmintonvlaande
 ren in te vullen. Match info: Klein Boom 5G (95) - Duffel 1G (106) - Link:
  https://www.badmintonvlaanderen.be/sport/teammatch.aspx?id=343A6D01-7373-
 405B-9427-CB56B07F8CCD&match=566
DTSTART;TZID=Europe/Brussels:20211130T070000
DTEND;TZID=Europe/Brussels:20211130T070000
END:VEVENT
BEGIN:VEVENT
UID:343A6D01-7373-405B-9427-CB56B07F8CCD-12-547_homereminder@141.badmintonn
 ers.net
DTSTAMP:20260420T055139Z
SUMMARY:Thuismatch ingevuld? (Klein Boom 5G (95) - De Nekker 3G (91))
DESCRIPTION:Je hebt 36 uur na aanvang om een thuismatch op Badmintonvlaande
 ren in te vullen. Match info: Klein Boom 5G (95) - De Nekker 3G (91) - Lin
 k: https://www.badmintonvlaanderen.be/sport/teammatch.aspx?id=343A6D01-737
 3-405B-9427-CB56B07F8CCD&match=547
DTSTART;TZID=Europe/Brussels:20211207T070000
DTEND;TZID=Europe/Brussels:20211207T070000
END:VEVENT
BEGIN:VEVENT
UID:343A6D01-7373-405B-9427-CB56B07F8CCD-12-541_homereminder@141.badmintonn
 ers.net
DTSTAMP:20260420T055139Z
SUMMARY:Thuismatch ingevuld? (Klein Boom 5G (95) - Merksplas 1G (88))
DESCRIPTION:Je hebt 36 uur na aanvang om een thuismatch op Badmintonvlaande
 ren in te vullen. Match info: Klein Boom 5G (95) - Merksplas 1G (88) - Lin
 k: https://www.badmintonvlaanderen.be/sport/teammatch.aspx?id=343A6D01-737
 3-405B-9427-CB56B07F8CCD&match=541
DTSTART;TZID=Europe/Brussels:20220111T070000
DTEND;TZID=Europe/Brussels:20220111T070000
END:VEVENT
BEGIN:VEVENT
UID:343A6D01-7373-405B-9427-CB56B07F8CCD-12-529_homereminder@141.badmintonn
 ers.net
DTSTAMP:20260420T055139Z
SUMMARY:Thuismatch ingevuld? (Klein Boom 5G (95) - Molse 3G (90))
DESCRIPTION:Je hebt 36 uur na aanvang om een thuismatch op Badmintonvlaande
 ren in te vullen. Match info: Klein Boom 5G (95) - Molse 3G (90) - Link: h
 ttps://www.badmintonvlaanderen.be/sport/teammatch.aspx?id=343A6D01-7373-40
 5B-9427-CB56B07F8CCD&match=529
DTSTART;TZID=Europe/Brussels:20220208T070000
DTEND;TZID=Europe/Brussels:20220208T070000
END:VEVENT
BEGIN:VEVENT
UID:343A6D01-7373-405B-9427-CB56B07F8CCD-12-553_homereminder@141.badmintonn
 ers.net
DTSTAMP:20260420T055139Z
SUMMARY:Thuismatch ingevuld? (Klein Boom 5G (95) - Amateurs 1G (100))
DESCRIPTION:Je hebt 36 uur na aanvang om een thuismatch op Badmintonvlaande
 ren in te vullen. Match info: Klein Boom 5G (95) - Amateurs 1G (100) - Lin
 k: https://www.badmintonvlaanderen.be/sport/teammatch.aspx?id=343A6D01-737
 3-405B-9427-CB56B07F8CCD&match=553
DTSTART;TZID=Europe/Brussels:20220329T070000
DTEND;TZID=Europe/Brussels:20220329T070000
END:VEVENT
BEGIN:VEVENT
UID:343A6D01-7373-405B-9427-CB56B07F8CCD-12-557_awayreminder@141.badmintonn
 ers.net
DTSTAMP:20260420T055139Z
SUMMARY:Uitmatch bevestigd? (Merksplas 1G (88) - Klein Boom 5G (95))
DESCRIPTION:Je hebt 72 uur na aanvang om een uitmatch op Badmintonvlaandere
 n in te vullen. Match info: Merksplas 1G (88) - Klein Boom 5G (95) - Link:
  https://www.badmintonvlaanderen.be/sport/teammatch.aspx?id=343A6D01-7373-
 405B-9427-CB56B07F8CCD&match=557
DTSTART;TZID=Europe/Brussels:20211013T100000
DTEND;TZID=Europe/Brussels:20211013T100000
END:VEVENT
BEGIN:VEVENT
UID:343A6D01-7373-405B-9427-CB56B07F8CCD-12-559_awayreminder@141.badmintonn
 ers.net
DTSTAMP:20260420T055139Z
SUMMARY:Uitmatch bevestigd? (Amateurs 1G (100) - Klein Boom 5G (95))
DESCRIPTION:Je hebt 72 uur na aanvang om een uitmatch op Badmintonvlaandere
 n in te vullen. Match info: Amateurs 1G (100) - Klein Boom 5G (95) - Link:
  https://www.badmintonvlaanderen.be/sport/teammatch.aspx?id=343A6D01-7373-
 405B-9427-CB56B07F8CCD&match=559
DTSTART;TZID=Europe/Brussels:20211031T200000
DTEND;TZID=Europe/Brussels:20211031T200000
END:VEVENT
BEGIN:VEVENT
UID:343A6D01-7373-405B-9427-CB56B07F8CCD-12-555_awayreminder@141.badmintonn
 ers.net
DTSTAMP:20260420T055139Z
SUMMARY:Uitmatch bevestigd? (Molse 3G (90) - Klein Boom 5G (95))
DESCRIPTION:Je hebt 72 uur na aanvang om een uitmatch op Badmintonvlaandere
 n in te vullen. Match info: Molse 3G (90) - Klein Boom 5G (95) - Link: htt
 ps://www.badmintonvlaanderen.be/sport/teammatch.aspx?id=343A6D01-7373-405B
 -9427-CB56B07F8CCD&match=555
DTSTART;TZID=Europe/Brussels:20211215T190000
DTEND;TZID=Europe/Brussels:20211215T190000
END:VEVENT
BEGIN:VEVENT
UID:343A6D01-7373-405B-9427-CB56B07F8CCD-12-558_awayreminder@141.badmintonn
 ers.net
DTSTAMP:20260420T055139Z
SUMMARY:Uitmatch bevestigd? (De Nekker 3G (91) - Klein Boom 5G (95))
DESCRIPTION:Je hebt 72 uur na aanvang om een uitmatch op Badmintonvlaandere
 n in te vullen. Match info: De Nekker 3G (91) - Klein Boom 5G (95) - Link:
  https://www.badmintonvlaanderen.be/sport/teammatch.aspx?id=343A6D01-7373-
 405B-9427-CB56B07F8CCD&match=558
DTSTART;TZID=Europe/Brussels:20220122T203000
DTEND;TZID=Europe/Brussels:20220122T203000
END:VEVENT
BEGIN:VEVENT
UID:343A6D01-7373-405B-9427-CB56B07F8CCD-12-560_awayreminder@141.badmintonn
 ers.net
DTSTAMP:20260420T055139Z
SUMMARY:Uitmatch bevestigd? (Duffel 1G (106) - Klein Boom 5G (95))
DESCRIPTION:Je hebt 72 uur na aanvang om een uitmatch op Badmintonvlaandere
 n in te vullen. Match info: Duffel 1G (106) - Klein Boom 5G (95) - Link: h
 ttps://www.badmintonvlaanderen.be/sport/teammatch.aspx?id=343A6D01-7373-40
 5B-9427-CB56B07F8CCD&match=560
DTSTART;TZID=Europe/Brussels:20220309T200000
DTEND;TZID=Europe/Brussels:20220309T200000
END:VEVENT
BEGIN:VEVENT
UID:343A6D01-7373-405B-9427-CB56B07F8CCD-12-556_awayreminder@141.badmintonn
 ers.net
DTSTAMP:20260420T055139Z
SUMMARY:Uitmatch bevestigd? (Herentals 4G (100) - Klein Boom 5G (95))
DESCRIPTION:Je hebt 72 uur na aanvang om een uitmatch op Badmintonvlaandere
 n in te vullen. Match info: Herentals 4G (100) - Klein Boom 5G (95) - Link
 : https://www.badmintonvlaanderen.be/sport/teammatch.aspx?id=343A6D01-7373
 -405B-9427-CB56B07F8CCD&match=556
DTSTART;TZID=Europe/Brussels:20220317T210000
DTEND;TZID=Europe/Brussels:20220317T210000
END:VEVENT
END:VCALENDAR