BEGIN:VCALENDAR
VERSION:2.0
PRODID:spatie/icalendar-generator
NAME:duffel_1g_106_reminders
X-WR-CALNAME:duffel_1g_106_reminders
BEGIN:VTIMEZONE
TZID:Europe/Brussels
BEGIN:DAYLIGHT
DTSTART:20210328T010000
TZOFFSETFROM:+0100
TZOFFSETTO:+0200
END:DAYLIGHT
BEGIN:STANDARD
DTSTART:20211031T030000
TZOFFSETFROM:+0200
TZOFFSETTO:+0100
END:STANDARD
BEGIN:DAYLIGHT
DTSTART:20220327T010000
TZOFFSETFROM:+0100
TZOFFSETTO:+0200
END:DAYLIGHT
END:VTIMEZONE
BEGIN:VTIMEZONE
TZID:UTC
BEGIN:STANDARD
DTSTART:20250728T080438
TZOFFSETFROM:+0000
TZOFFSETTO:+0000
END:STANDARD
END:VTIMEZONE
BEGIN:VEVENT
UID:343A6D01-7373-405B-9427-CB56B07F8CCD-12-554_homereminder@2.badmintonner
 s.net
DTSTAMP:20260424T080438Z
SUMMARY:Thuismatch ingevuld? (Duffel 1G (106) - Amateurs 1G (100))
DESCRIPTION:Je hebt 36 uur na aanvang om een thuismatch op Badmintonvlaande
 ren in te vullen. Match info: Duffel 1G (106) - Amateurs 1G (100) - Link: 
 https://www.badmintonvlaanderen.be/sport/teammatch.aspx?id=343A6D01-7373-4
 05B-9427-CB56B07F8CCD&match=554
DTSTART;TZID=Europe/Brussels:20211005T080000
DTEND;TZID=Europe/Brussels:20211005T080000
END:VEVENT
BEGIN:VEVENT
UID:343A6D01-7373-405B-9427-CB56B07F8CCD-12-542_homereminder@2.badmintonner
 s.net
DTSTAMP:20260424T080438Z
SUMMARY:Thuismatch ingevuld? (Duffel 1G (106) - Merksplas 1G (88))
DESCRIPTION:Je hebt 36 uur na aanvang om een thuismatch op Badmintonvlaande
 ren in te vullen. Match info: Duffel 1G (106) - Merksplas 1G (88) - Link: 
 https://www.badmintonvlaanderen.be/sport/teammatch.aspx?id=343A6D01-7373-4
 05B-9427-CB56B07F8CCD&match=542
DTSTART;TZID=Europe/Brussels:20211019T080000
DTEND;TZID=Europe/Brussels:20211019T080000
END:VEVENT
BEGIN:VEVENT
UID:343A6D01-7373-405B-9427-CB56B07F8CCD-12-530_homereminder@2.badmintonner
 s.net
DTSTAMP:20260424T080438Z
SUMMARY:Thuismatch ingevuld? (Duffel 1G (106) - Molse 3G (90))
DESCRIPTION:Je hebt 36 uur na aanvang om een thuismatch op Badmintonvlaande
 ren in te vullen. Match info: Duffel 1G (106) - Molse 3G (90) - Link: http
 s://www.badmintonvlaanderen.be/sport/teammatch.aspx?id=343A6D01-7373-405B-
 9427-CB56B07F8CCD&match=530
DTSTART;TZID=Europe/Brussels:20211116T080000
DTEND;TZID=Europe/Brussels:20211116T080000
END:VEVENT
BEGIN:VEVENT
UID:343A6D01-7373-405B-9427-CB56B07F8CCD-12-536_homereminder@2.badmintonner
 s.net
DTSTAMP:20260424T080438Z
SUMMARY:Thuismatch ingevuld? (Duffel 1G (106) - Herentals 4G (100))
DESCRIPTION:Je hebt 36 uur na aanvang om een thuismatch op Badmintonvlaande
 ren in te vullen. Match info: Duffel 1G (106) - Herentals 4G (100) - Link:
  https://www.badmintonvlaanderen.be/sport/teammatch.aspx?id=343A6D01-7373-
 405B-9427-CB56B07F8CCD&match=536
DTSTART;TZID=Europe/Brussels:20220111T080000
DTEND;TZID=Europe/Brussels:20220111T080000
END:VEVENT
BEGIN:VEVENT
UID:343A6D01-7373-405B-9427-CB56B07F8CCD-12-560_homereminder@2.badmintonner
 s.net
DTSTAMP:20260424T080438Z
SUMMARY:Thuismatch ingevuld? (Duffel 1G (106) - Klein Boom 5G (95))
DESCRIPTION:Je hebt 36 uur na aanvang om een thuismatch op Badmintonvlaande
 ren in te vullen. Match info: Duffel 1G (106) - Klein Boom 5G (95) - Link:
  https://www.badmintonvlaanderen.be/sport/teammatch.aspx?id=343A6D01-7373-
 405B-9427-CB56B07F8CCD&match=560
DTSTART;TZID=Europe/Brussels:20220308T080000
DTEND;TZID=Europe/Brussels:20220308T080000
END:VEVENT
BEGIN:VEVENT
UID:343A6D01-7373-405B-9427-CB56B07F8CCD-12-548_homereminder@2.badmintonner
 s.net
DTSTAMP:20260424T080438Z
SUMMARY:Thuismatch ingevuld? (Duffel 1G (106) - De Nekker 3G (91))
DESCRIPTION:Je hebt 36 uur na aanvang om een thuismatch op Badmintonvlaande
 ren in te vullen. Match info: Duffel 1G (106) - De Nekker 3G (91) - Link: 
 https://www.badmintonvlaanderen.be/sport/teammatch.aspx?id=343A6D01-7373-4
 05B-9427-CB56B07F8CCD&match=548
DTSTART;TZID=Europe/Brussels:20220405T080000
DTEND;TZID=Europe/Brussels:20220405T080000
END:VEVENT
BEGIN:VEVENT
UID:343A6D01-7373-405B-9427-CB56B07F8CCD-12-564_awayreminder@2.badmintonner
 s.net
DTSTAMP:20260424T080438Z
SUMMARY:Uitmatch bevestigd? (De Nekker 3G (91) - Duffel 1G (106))
DESCRIPTION:Je hebt 72 uur na aanvang om een uitmatch op Badmintonvlaandere
 n in te vullen. Match info: De Nekker 3G (91) - Duffel 1G (106) - Link: ht
 tps://www.badmintonvlaanderen.be/sport/teammatch.aspx?id=343A6D01-7373-405
 B-9427-CB56B07F8CCD&match=564
DTSTART;TZID=Europe/Brussels:20210904T203000
DTEND;TZID=Europe/Brussels:20210904T203000
END:VEVENT
BEGIN:VEVENT
UID:343A6D01-7373-405B-9427-CB56B07F8CCD-12-562_awayreminder@2.badmintonner
 s.net
DTSTAMP:20260424T080438Z
SUMMARY:Uitmatch bevestigd? (Herentals 4G (100) - Duffel 1G (106))
DESCRIPTION:Je hebt 72 uur na aanvang om een uitmatch op Badmintonvlaandere
 n in te vullen. Match info: Herentals 4G (100) - Duffel 1G (106) - Link: h
 ttps://www.badmintonvlaanderen.be/sport/teammatch.aspx?id=343A6D01-7373-40
 5B-9427-CB56B07F8CCD&match=562
DTSTART;TZID=Europe/Brussels:20210916T210000
DTEND;TZID=Europe/Brussels:20210916T210000
END:VEVENT
BEGIN:VEVENT
UID:343A6D01-7373-405B-9427-CB56B07F8CCD-12-566_awayreminder@2.badmintonner
 s.net
DTSTAMP:20260424T080438Z
SUMMARY:Uitmatch bevestigd? (Klein Boom 5G (95) - Duffel 1G (106))
DESCRIPTION:Je hebt 72 uur na aanvang om een uitmatch op Badmintonvlaandere
 n in te vullen. Match info: Klein Boom 5G (95) - Duffel 1G (106) - Link: h
 ttps://www.badmintonvlaanderen.be/sport/teammatch.aspx?id=343A6D01-7373-40
 5B-9427-CB56B07F8CCD&match=566
DTSTART;TZID=Europe/Brussels:20211201T190000
DTEND;TZID=Europe/Brussels:20211201T190000
END:VEVENT
BEGIN:VEVENT
UID:343A6D01-7373-405B-9427-CB56B07F8CCD-12-565_awayreminder@2.badmintonner
 s.net
DTSTAMP:20260424T080438Z
SUMMARY:Uitmatch bevestigd? (Amateurs 1G (100) - Duffel 1G (106))
DESCRIPTION:Je hebt 72 uur na aanvang om een uitmatch op Badmintonvlaandere
 n in te vullen. Match info: Amateurs 1G (100) - Duffel 1G (106) - Link: ht
 tps://www.badmintonvlaanderen.be/sport/teammatch.aspx?id=343A6D01-7373-405
 B-9427-CB56B07F8CCD&match=565
DTSTART;TZID=Europe/Brussels:20220220T210000
DTEND;TZID=Europe/Brussels:20220220T210000
END:VEVENT
BEGIN:VEVENT
UID:343A6D01-7373-405B-9427-CB56B07F8CCD-12-563_awayreminder@2.badmintonner
 s.net
DTSTAMP:20260424T080438Z
SUMMARY:Uitmatch bevestigd? (Merksplas 1G (88) - Duffel 1G (106))
DESCRIPTION:Je hebt 72 uur na aanvang om een uitmatch op Badmintonvlaandere
 n in te vullen. Match info: Merksplas 1G (88) - Duffel 1G (106) - Link: ht
 tps://www.badmintonvlaanderen.be/sport/teammatch.aspx?id=343A6D01-7373-405
 B-9427-CB56B07F8CCD&match=563
DTSTART;TZID=Europe/Brussels:20220316T100000
DTEND;TZID=Europe/Brussels:20220316T100000
END:VEVENT
BEGIN:VEVENT
UID:343A6D01-7373-405B-9427-CB56B07F8CCD-12-561_awayreminder@2.badmintonner
 s.net
DTSTAMP:20260424T080438Z
SUMMARY:Uitmatch bevestigd? (Molse 3G (90) - Duffel 1G (106))
DESCRIPTION:Je hebt 72 uur na aanvang om een uitmatch op Badmintonvlaandere
 n in te vullen. Match info: Molse 3G (90) - Duffel 1G (106) - Link: https:
 //www.badmintonvlaanderen.be/sport/teammatch.aspx?id=343A6D01-7373-405B-94
 27-CB56B07F8CCD&match=561
DTSTART;TZID=Europe/Brussels:20220323T190000
DTEND;TZID=Europe/Brussels:20220323T190000
END:VEVENT
END:VCALENDAR