BEGIN:VCALENDAR
VERSION:2.0
PRODID:spatie/icalendar-generator
NAME:herentals_4g_100_reminders
X-WR-CALNAME:herentals_4g_100_reminders
BEGIN:VTIMEZONE
TZID:Europe/Brussels
BEGIN:DAYLIGHT
DTSTART:20210328T010000
TZOFFSETFROM:+0100
TZOFFSETTO:+0200
END:DAYLIGHT
BEGIN:STANDARD
DTSTART:20211031T030000
TZOFFSETFROM:+0200
TZOFFSETTO:+0100
END:STANDARD
BEGIN:DAYLIGHT
DTSTART:20220327T010000
TZOFFSETFROM:+0100
TZOFFSETTO:+0200
END:DAYLIGHT
END:VTIMEZONE
BEGIN:VTIMEZONE
TZID:UTC
BEGIN:STANDARD
DTSTART:20250724T055107
TZOFFSETFROM:+0000
TZOFFSETTO:+0000
END:STANDARD
END:VTIMEZONE
BEGIN:VEVENT
UID:343A6D01-7373-405B-9427-CB56B07F8CCD-12-562_homereminder@71.badmintonne
 rs.net
DTSTAMP:20260420T055107Z
SUMMARY:Thuismatch ingevuld? (Herentals 4G (100) - Duffel 1G (106))
DESCRIPTION:Je hebt 36 uur na aanvang om een thuismatch op Badmintonvlaande
 ren in te vullen. Match info: Herentals 4G (100) - Duffel 1G (106) - Link:
  https://www.badmintonvlaanderen.be/sport/teammatch.aspx?id=343A6D01-7373-
 405B-9427-CB56B07F8CCD&match=562
DTSTART;TZID=Europe/Brussels:20210915T090000
DTEND;TZID=Europe/Brussels:20210915T090000
END:VEVENT
BEGIN:VEVENT
UID:343A6D01-7373-405B-9427-CB56B07F8CCD-12-538_homereminder@71.badmintonne
 rs.net
DTSTAMP:20260420T055107Z
SUMMARY:Thuismatch ingevuld? (Herentals 4G (100) - Merksplas 1G (88))
DESCRIPTION:Je hebt 36 uur na aanvang om een thuismatch op Badmintonvlaande
 ren in te vullen. Match info: Herentals 4G (100) - Merksplas 1G (88) - Lin
 k: https://www.badmintonvlaanderen.be/sport/teammatch.aspx?id=343A6D01-737
 3-405B-9427-CB56B07F8CCD&match=538
DTSTART;TZID=Europe/Brussels:20210929T090000
DTEND;TZID=Europe/Brussels:20210929T090000
END:VEVENT
BEGIN:VEVENT
UID:343A6D01-7373-405B-9427-CB56B07F8CCD-12-550_homereminder@71.badmintonne
 rs.net
DTSTAMP:20260420T055107Z
SUMMARY:Thuismatch ingevuld? (Herentals 4G (100) - Amateurs 1G (100))
DESCRIPTION:Je hebt 36 uur na aanvang om een thuismatch op Badmintonvlaande
 ren in te vullen. Match info: Herentals 4G (100) - Amateurs 1G (100) - Lin
 k: https://www.badmintonvlaanderen.be/sport/teammatch.aspx?id=343A6D01-737
 3-405B-9427-CB56B07F8CCD&match=550
DTSTART;TZID=Europe/Brussels:20211208T090000
DTEND;TZID=Europe/Brussels:20211208T090000
END:VEVENT
BEGIN:VEVENT
UID:343A6D01-7373-405B-9427-CB56B07F8CCD-12-525_homereminder@71.badmintonne
 rs.net
DTSTAMP:20260420T055107Z
SUMMARY:Thuismatch ingevuld? (Herentals 4G (100) - Molse 3G (90))
DESCRIPTION:Je hebt 36 uur na aanvang om een thuismatch op Badmintonvlaande
 ren in te vullen. Match info: Herentals 4G (100) - Molse 3G (90) - Link: h
 ttps://www.badmintonvlaanderen.be/sport/teammatch.aspx?id=343A6D01-7373-40
 5B-9427-CB56B07F8CCD&match=525
DTSTART;TZID=Europe/Brussels:20220202T090000
DTEND;TZID=Europe/Brussels:20220202T090000
END:VEVENT
BEGIN:VEVENT
UID:343A6D01-7373-405B-9427-CB56B07F8CCD-12-556_homereminder@71.badmintonne
 rs.net
DTSTAMP:20260420T055107Z
SUMMARY:Thuismatch ingevuld? (Herentals 4G (100) - Klein Boom 5G (95))
DESCRIPTION:Je hebt 36 uur na aanvang om een thuismatch op Badmintonvlaande
 ren in te vullen. Match info: Herentals 4G (100) - Klein Boom 5G (95) - Li
 nk: https://www.badmintonvlaanderen.be/sport/teammatch.aspx?id=343A6D01-73
 73-405B-9427-CB56B07F8CCD&match=556
DTSTART;TZID=Europe/Brussels:20220316T090000
DTEND;TZID=Europe/Brussels:20220316T090000
END:VEVENT
BEGIN:VEVENT
UID:343A6D01-7373-405B-9427-CB56B07F8CCD-12-544_homereminder@71.badmintonne
 rs.net
DTSTAMP:20260420T055107Z
SUMMARY:Thuismatch ingevuld? (Herentals 4G (100) - De Nekker 3G (91))
DESCRIPTION:Je hebt 36 uur na aanvang om een thuismatch op Badmintonvlaande
 ren in te vullen. Match info: Herentals 4G (100) - De Nekker 3G (91) - Lin
 k: https://www.badmintonvlaanderen.be/sport/teammatch.aspx?id=343A6D01-737
 3-405B-9427-CB56B07F8CCD&match=544
DTSTART;TZID=Europe/Brussels:20220427T090000
DTEND;TZID=Europe/Brussels:20220427T090000
END:VEVENT
BEGIN:VEVENT
UID:343A6D01-7373-405B-9427-CB56B07F8CCD-12-531_awayreminder@71.badmintonne
 rs.net
DTSTAMP:20260420T055107Z
SUMMARY:Uitmatch bevestigd? (Molse 3G (90) - Herentals 4G (100))
DESCRIPTION:Je hebt 72 uur na aanvang om een uitmatch op Badmintonvlaandere
 n in te vullen. Match info: Molse 3G (90) - Herentals 4G (100) - Link: htt
 ps://www.badmintonvlaanderen.be/sport/teammatch.aspx?id=343A6D01-7373-405B
 -9427-CB56B07F8CCD&match=531
DTSTART;TZID=Europe/Brussels:20211020T190000
DTEND;TZID=Europe/Brussels:20211020T190000
END:VEVENT
BEGIN:VEVENT
UID:343A6D01-7373-405B-9427-CB56B07F8CCD-12-535_awayreminder@71.badmintonne
 rs.net
DTSTAMP:20260420T055107Z
SUMMARY:Uitmatch bevestigd? (Klein Boom 5G (95) - Herentals 4G (100))
DESCRIPTION:Je hebt 72 uur na aanvang om een uitmatch op Badmintonvlaandere
 n in te vullen. Match info: Klein Boom 5G (95) - Herentals 4G (100) - Link
 : https://www.badmintonvlaanderen.be/sport/teammatch.aspx?id=343A6D01-7373
 -405B-9427-CB56B07F8CCD&match=535
DTSTART;TZID=Europe/Brussels:20211021T200000
DTEND;TZID=Europe/Brussels:20211021T200000
END:VEVENT
BEGIN:VEVENT
UID:343A6D01-7373-405B-9427-CB56B07F8CCD-12-533_awayreminder@71.badmintonne
 rs.net
DTSTAMP:20260420T055107Z
SUMMARY:Uitmatch bevestigd? (De Nekker 3G (91) - Herentals 4G (100))
DESCRIPTION:Je hebt 72 uur na aanvang om een uitmatch op Badmintonvlaandere
 n in te vullen. Match info: De Nekker 3G (91) - Herentals 4G (100) - Link:
  https://www.badmintonvlaanderen.be/sport/teammatch.aspx?id=343A6D01-7373-
 405B-9427-CB56B07F8CCD&match=533
DTSTART;TZID=Europe/Brussels:20211127T203000
DTEND;TZID=Europe/Brussels:20211127T203000
END:VEVENT
BEGIN:VEVENT
UID:343A6D01-7373-405B-9427-CB56B07F8CCD-12-536_awayreminder@71.badmintonne
 rs.net
DTSTAMP:20260420T055107Z
SUMMARY:Uitmatch bevestigd? (Duffel 1G (106) - Herentals 4G (100))
DESCRIPTION:Je hebt 72 uur na aanvang om een uitmatch op Badmintonvlaandere
 n in te vullen. Match info: Duffel 1G (106) - Herentals 4G (100) - Link: h
 ttps://www.badmintonvlaanderen.be/sport/teammatch.aspx?id=343A6D01-7373-40
 5B-9427-CB56B07F8CCD&match=536
DTSTART;TZID=Europe/Brussels:20220112T200000
DTEND;TZID=Europe/Brussels:20220112T200000
END:VEVENT
BEGIN:VEVENT
UID:343A6D01-7373-405B-9427-CB56B07F8CCD-12-534_awayreminder@71.badmintonne
 rs.net
DTSTAMP:20260420T055107Z
SUMMARY:Uitmatch bevestigd? (Amateurs 1G (100) - Herentals 4G (100))
DESCRIPTION:Je hebt 72 uur na aanvang om een uitmatch op Badmintonvlaandere
 n in te vullen. Match info: Amateurs 1G (100) - Herentals 4G (100) - Link:
  https://www.badmintonvlaanderen.be/sport/teammatch.aspx?id=343A6D01-7373-
 405B-9427-CB56B07F8CCD&match=534
DTSTART;TZID=Europe/Brussels:20220206T210000
DTEND;TZID=Europe/Brussels:20220206T210000
END:VEVENT
BEGIN:VEVENT
UID:343A6D01-7373-405B-9427-CB56B07F8CCD-12-532_awayreminder@71.badmintonne
 rs.net
DTSTAMP:20260420T055107Z
SUMMARY:Uitmatch bevestigd? (Merksplas 1G (88) - Herentals 4G (100))
DESCRIPTION:Je hebt 72 uur na aanvang om een uitmatch op Badmintonvlaandere
 n in te vullen. Match info: Merksplas 1G (88) - Herentals 4G (100) - Link:
  https://www.badmintonvlaanderen.be/sport/teammatch.aspx?id=343A6D01-7373-
 405B-9427-CB56B07F8CCD&match=532
DTSTART;TZID=Europe/Brussels:20220223T100000
DTEND;TZID=Europe/Brussels:20220223T100000
END:VEVENT
END:VCALENDAR